BEGIN:VCALENDAR
VERSION:2.0
PRODID:-//This is Athens City Festival - ECPv6.12.0.1//NONSGML v1.0//EN
CALSCALE:GREGORIAN
METHOD:PUBLISH
X-WR-CALNAME:This is Athens City Festival
X-ORIGINAL-URL:https://cityfestival.thisisathens.org/en/
X-WR-CALDESC:Events for This is Athens City Festival
REFRESH-INTERVAL;VALUE=DURATION:PT1H
X-Robots-Tag:noindex
X-PUBLISHED-TTL:PT1H
BEGIN:VTIMEZONE
TZID:Europe/Athens
BEGIN:DAYLIGHT
TZOFFSETFROM:+0200
TZOFFSETTO:+0300
TZNAME:EEST
DTSTART:20250330T010000
END:DAYLIGHT
BEGIN:STANDARD
TZOFFSETFROM:+0300
TZOFFSETTO:+0200
TZNAME:EET
DTSTART:20251026T010000
END:STANDARD
END:VTIMEZONE
BEGIN:VEVENT
DTSTART;TZID=Europe/Athens:20250504T200000
DTEND;TZID=Europe/Athens:20250504T210000
DTSTAMP:20260422T074323
CREATED:20250401T124056Z
LAST-MODIFIED:20250506T133327Z
UID:10003263-1746388800-1746392400@cityfestival.thisisathens.org
SUMMARY:Climate Change: Too Many Calories
DESCRIPTION:This activity is available in Greek only.\nThe theatre group Noiti Grammi presents a performance on climate change that aims to offer an immersive experience and challenge audiences to rethink their relationship with the environment. A blend of theatre\, music\, dance and visual art unfolds in a space where viewers become active participants—interacting with actors\, animals and natural elements. \nSet inside a stunning neoclassical building—one of the first in Athens and now home to the City of Athens Gallery—the piece uses original ideas\, soundscapes and improvised rituals to deconstruct stereotypes and explore the deep connection between humans and the natural world. The goal is to make the climate crisis feel both personal and collective\, opening up new paths for dialogue. \nUnder the auspices and with the financial support of the Hellenic Ministry of Culture\, and the support of OPANDA (City of Athens Cultural\, Sports and Youth Organisation). \nConcept / Direction / Dramaturgy: Olga PozeliTexts:Sakis Serefas – LimericksDarrah Cloud – How to Deny Climate Change in 5 Easy StepsNoiti Grammi Theatre GroupScenography: Kostis DavarisOriginal Music: Giorgos AndriotisAssistant Director: Georgia TsakouPerformers (in alphabetical order):Goni Louka\, Vicky Kyriakopoulou\, Olga Pozeli\, Stevi FortomaProduction: Noiti Grammi Theatre Group
URL:https://cityfestival.thisisathens.org/en/event/climate-change-too-many-calories/
LOCATION:The City of Athens Gallery\, Municipal Gallery of Athens\, Athens\, Athens\, 104 36\, Greece
CATEGORIES:FREE,THEATER
ATTACH;FMTTYPE=image/jpeg:https://cityfestival.thisisathens.org/wp-content/uploads/2025/04/IMG_1686-scaled.jpg
END:VEVENT
END:VCALENDAR