BEGIN:VCALENDAR
VERSION:2.0
PRODID:-//This is Athens City Festival - ECPv6.12.0.1//NONSGML v1.0//EN
CALSCALE:GREGORIAN
METHOD:PUBLISH
X-ORIGINAL-URL:https://cityfestival.thisisathens.org/en/
X-WR-CALDESC:Events for This is Athens City Festival
REFRESH-INTERVAL;VALUE=DURATION:PT1H
X-Robots-Tag:noindex
X-PUBLISHED-TTL:PT1H
BEGIN:VTIMEZONE
TZID:Europe/Athens
BEGIN:DAYLIGHT
TZOFFSETFROM:+0200
TZOFFSETTO:+0300
TZNAME:EEST
DTSTART:20250330T010000
END:DAYLIGHT
BEGIN:STANDARD
TZOFFSETFROM:+0300
TZOFFSETTO:+0200
TZNAME:EET
DTSTART:20251026T010000
END:STANDARD
END:VTIMEZONE
BEGIN:VEVENT
DTSTART;TZID=Europe/Athens:20250505T180000
DTEND;TZID=Europe/Athens:20250505T210000
DTSTAMP:20260420T065428
CREATED:20250424T105959Z
LAST-MODIFIED:20250502T214639Z
UID:10003859-1746468000-1746478800@cityfestival.thisisathens.org
SUMMARY:Evi Papagianni: A Finding Place
DESCRIPTION:Mosaico Fine Art Studio presents the exhibition “A Finding Place” by artist and art therapist Paraskevi Papagianni.\n\nOpening hours: Monday to Friday: 18:00–21:00\, Saturday: 11:00–15:00\, Closed on Sunday
URL:https://cityfestival.thisisathens.org/en/event/eva-papagianni-a-finding-place/2025-05-05/
LOCATION:Mosaico Fine Art Studio\, Kesarias 18-20\, Athens\, Athens\, 115 27\, Greece
CATEGORIES:ENTERTAINMENT,EXHIBITION,FREE,GALLERY
ATTACH;FMTTYPE=image/jpeg:https://cityfestival.thisisathens.org/wp-content/uploads/2025/04/a-finding-place.jpg
END:VEVENT
BEGIN:VEVENT
DTSTART;TZID=Europe/Athens:20250505T203000
DTEND;TZID=Europe/Athens:20250505T223000
DTSTAMP:20260420T065428
CREATED:20250324T111205Z
LAST-MODIFIED:20250506T133208Z
UID:10001212-1746477000-1746484200@cityfestival.thisisathens.org
SUMMARY:The Magic of the Serenades in the Streets of Plaka
DESCRIPTION:The Karaviotis brothers—modern-day troubadours—bring the traditional kantada (serenade) back to the winding alleyways of Plaka.\n\nThis nostalgic musical stroll revives the romantic songs of old Athens: melodies that once echoed through the tavernas of Plaka\, Psyrri and Omonia. With care and devotion\, these passionate performers breathe new life into tunes that have long lived in the city’s memory.\n\nMeeting point: Agia Aikaterini\, Plaka
URL:https://cityfestival.thisisathens.org/en/event/the-magic-of-the-serenades-in-the-streets-of-plaka/
LOCATION:Holy Church of Saint Catherine\, Chairefontos 10\, Athens\, Athens\, 105 58\, Greece
CATEGORIES:ENTERTAINMENT,FREE,OUTDOOR ACTIVITY
ATTACH;FMTTYPE=image/jpeg:https://cityfestival.thisisathens.org/wp-content/uploads/2025/03/20240506-TiACF24-TGR-ToTaxidiTisKantadas-0221-1-scaled.jpg
END:VEVENT
BEGIN:VEVENT
DTSTART;TZID=Europe/Athens:20250505T203000
DTEND;TZID=Europe/Athens:20250505T223000
DTSTAMP:20260420T065428
CREATED:20250327T110818Z
LAST-MODIFIED:20250506T133112Z
UID:10001265-1746477000-1746484200@cityfestival.thisisathens.org
SUMMARY:Polyzogopoulos - Miaris : Mirrors
DESCRIPTION:Two of the most distinctive artists on the Greek and international music scene\, Alexandros Miaris and Andreas Polyzogopoulos\, join forces for a unique concert as part of the City of Athens Festival.\n\nAndreas Polyzogopoulos\, one of the most unique trumpeters in European jazz\, known for his atmospheric compositions and improvisational skills\, meets Alexandros Miaris\, a film score composer and frontman of Electric Litany\, a band that has left its own mark on the alternative/post-rock landscape.\n\nThe two artists\, who initially met on stage in London and subsequently collaborated on Electric Litany’s album “Under a Common Sky\,” as well as on various soundtracks\, will perform as a duo\, presenting new material from their upcoming albums for the first time. Together\, they will create a captivating sonic experience\, with improvisational elements\, electronic textures\, and melodies that move between lyricism and melancholy.\n\nAndreas Polyzogopoulos: Trumpet\, Flugelhorn\, Effects\nAlexandros Miaris: Piano\, Guitar\, Vocals\, Modular
URL:https://cityfestival.thisisathens.org/en/event/polyzogopoulos-miaris-mirrors/
LOCATION:Byzantine and Christian Museum\, Vas. Sofias 22\, Athens\, Athens\, 10 75\, Greece
CATEGORIES:ENTERTAINMENT,FREE
ATTACH;FMTTYPE=image/jpeg:https://cityfestival.thisisathens.org/wp-content/uploads/2025/03/AP-5-@-Aris-Vedertsis-copy-Recovered-scaled.jpg
END:VEVENT
END:VCALENDAR