BEGIN:VCALENDAR
VERSION:2.0
PRODID:-//This is Athens City Festival - ECPv6.12.0.1//NONSGML v1.0//EN
CALSCALE:GREGORIAN
METHOD:PUBLISH
X-ORIGINAL-URL:https://cityfestival.thisisathens.org/en/
X-WR-CALDESC:Events for This is Athens City Festival
REFRESH-INTERVAL;VALUE=DURATION:PT1H
X-Robots-Tag:noindex
X-PUBLISHED-TTL:PT1H
BEGIN:VTIMEZONE
TZID:Europe/Athens
BEGIN:DAYLIGHT
TZOFFSETFROM:+0200
TZOFFSETTO:+0300
TZNAME:EEST
DTSTART:20250330T010000
END:DAYLIGHT
BEGIN:STANDARD
TZOFFSETFROM:+0300
TZOFFSETTO:+0200
TZNAME:EET
DTSTART:20251026T010000
END:STANDARD
END:VTIMEZONE
BEGIN:VEVENT
DTSTART;TZID=Europe/Athens:20250506T110000
DTEND;TZID=Europe/Athens:20250506T200000
DTSTAMP:20260420T065355
CREATED:20250423T132202Z
LAST-MODIFIED:20250506T134539Z
UID:10003666-1746529200-1746561600@cityfestival.thisisathens.org
SUMMARY:Group Exhibition: Abandoned Cartographies and Other Odd Hours
DESCRIPTION:The exhibition Abandoned Cartographies and Other Odd Hours explores uncharted regions of the subconscious\, forming a constellation of inquiries that defy rationality\, order and narrative coherence. It focuses on lived experiences that elude conscious perception and information\, opening up pathways to introspection and revealing hidden layers of the psyche. At the same time\, it activates stimuli that unearth buried memories and latent anxieties. \n\nCurated by: Dinos Chatzirafailidis \n\nParticipating artists: Elli Antoniou\, Giorgos Yiatromanolakis\, Konstantinos Lianos\, Stefania Strouza\, Dimitris Tampakis\, Sokratis Fatouros\, Despina Charitonidi\, James Fuller\, Shambhavi Kaul\, Louis-Philippe Scoufaras\, Sasha Streshna \n\nOpening hours: Tuesday – Friday: 11:00–15:00 & 17:00–20:00 Saturday: 11:00–16:00
URL:https://cityfestival.thisisathens.org/en/event/group-exhibition-abandoned-cartographies-and-other-odd-hours/2025-05-06/
LOCATION:CAN Christina Androulidaki Gallery\, Chalkokondyli 19\, Athens\, Athens\, 104 32\, Greece
CATEGORIES:EXHIBITION,FREE,GALLERY
ATTACH;FMTTYPE=image/jpeg:https://cityfestival.thisisathens.org/wp-content/uploads/2025/04/1-1.jpg
END:VEVENT
BEGIN:VEVENT
DTSTART;TZID=Europe/Athens:20250506T113000
DTEND;TZID=Europe/Athens:20250506T130000
DTSTAMP:20260420T065355
CREATED:20250422T124522Z
LAST-MODIFIED:20250506T133037Z
UID:10003615-1746531000-1746536400@cityfestival.thisisathens.org
SUMMARY:Guided tour at the EMST in the exhibition: WOMEN TOGETHER
DESCRIPTION:This activity is only available in Greek. \n\nThe exhibition “WOMEN\, TOGETHER” features works exclusively by women artists and takes a clear stance on a critical issue in both art history and contemporary society: the underrepresentation of women and the urgent need for action towards gender equality. While most of the works do not focus explicitly on womanhood\, they raise pressing questions around equality\, oppression and otherness. They engage with contemporary and historical sociopolitical narratives\, as well as aspects of personal and collective memory and identity.
URL:https://cityfestival.thisisathens.org/en/event/guided-tour-at-the-emst-in-the-exhibition-women-together-2/
LOCATION:National Museum of Contemporary Art\, National Museum of Contemporary Art Αthens (ΕΜΣΤ)\, Athens\, Athens\, 117 43\, Greece
CATEGORIES:EXHIBITION,FREE,MUSEUM,TOUR
ATTACH;FMTTYPE=image/jpeg:https://cityfestival.thisisathens.org/wp-content/uploads/2025/03/ΕΜΣΤ-scaled.jpg
END:VEVENT
BEGIN:VEVENT
DTSTART;TZID=Europe/Athens:20250506T180000
DTEND;TZID=Europe/Athens:20250506T210000
DTSTAMP:20260420T065355
CREATED:20250424T105959Z
LAST-MODIFIED:20250502T214639Z
UID:10003860-1746554400-1746565200@cityfestival.thisisathens.org
SUMMARY:Evi Papagianni: A Finding Place
DESCRIPTION:Mosaico Fine Art Studio presents the exhibition “A Finding Place” by artist and art therapist Paraskevi Papagianni.\n\nOpening hours: Monday to Friday: 18:00–21:00\, Saturday: 11:00–15:00\, Closed on Sunday
URL:https://cityfestival.thisisathens.org/en/event/eva-papagianni-a-finding-place/2025-05-06/
LOCATION:Mosaico Fine Art Studio\, Kesarias 18-20\, Athens\, Athens\, 115 27\, Greece
CATEGORIES:ENTERTAINMENT,EXHIBITION,FREE,GALLERY
ATTACH;FMTTYPE=image/jpeg:https://cityfestival.thisisathens.org/wp-content/uploads/2025/04/a-finding-place.jpg
END:VEVENT
END:VCALENDAR