BEGIN:VCALENDAR
VERSION:2.0
PRODID:-//This is Athens City Festival - ECPv6.12.0.1//NONSGML v1.0//EN
CALSCALE:GREGORIAN
METHOD:PUBLISH
X-ORIGINAL-URL:https://cityfestival.thisisathens.org/en/
X-WR-CALDESC:Events for This is Athens City Festival
REFRESH-INTERVAL;VALUE=DURATION:PT1H
X-Robots-Tag:noindex
X-PUBLISHED-TTL:PT1H
BEGIN:VTIMEZONE
TZID:Europe/Athens
BEGIN:DAYLIGHT
TZOFFSETFROM:+0200
TZOFFSETTO:+0300
TZNAME:EEST
DTSTART:20250330T010000
END:DAYLIGHT
BEGIN:STANDARD
TZOFFSETFROM:+0300
TZOFFSETTO:+0200
TZNAME:EET
DTSTART:20251026T010000
END:STANDARD
END:VTIMEZONE
BEGIN:VEVENT
DTSTART;TZID=Europe/Athens:20250507T103000
DTEND;TZID=Europe/Athens:20250507T120000
DTSTAMP:20260420T065349
CREATED:20250422T133137Z
LAST-MODIFIED:20250506T132924Z
UID:10003624-1746613800-1746619200@cityfestival.thisisathens.org
SUMMARY:Discover the National Typography Museum - MET
DESCRIPTION:This activity is only available in Greek. \n\nA visit to the National Typography Museum and its historic collection. Visitors will have the chance to closely examine representative samples of the mechanical equipment and printed products of the Typography. Additionally\, they will get familiar with traditional printing techniques and the working conditions of the printer profession.
URL:https://cityfestival.thisisathens.org/en/event/discover-the-national-typography-museum-met/
LOCATION:National Printing House Museum\, Kapodistriou 34\, Athens\, Athens\, 104 32\, Greece
CATEGORIES:EXHIBITION,FREE,MUSEUM,TOUR
ATTACH;FMTTYPE=image/jpeg:https://cityfestival.thisisathens.org/wp-content/uploads/2025/04/ΑΙΘΟΥΣΑ-Α-ΜΟΥΣΕΙΟΥ-ΕΤ-scaled.jpg
END:VEVENT
BEGIN:VEVENT
DTSTART;TZID=Europe/Athens:20250507T110000
DTEND;TZID=Europe/Athens:20250507T200000
DTSTAMP:20260420T065349
CREATED:20250423T132202Z
LAST-MODIFIED:20250506T134539Z
UID:10003667-1746615600-1746648000@cityfestival.thisisathens.org
SUMMARY:Group Exhibition: Abandoned Cartographies and Other Odd Hours
DESCRIPTION:The exhibition Abandoned Cartographies and Other Odd Hours explores uncharted regions of the subconscious\, forming a constellation of inquiries that defy rationality\, order and narrative coherence. It focuses on lived experiences that elude conscious perception and information\, opening up pathways to introspection and revealing hidden layers of the psyche. At the same time\, it activates stimuli that unearth buried memories and latent anxieties. \n\nCurated by: Dinos Chatzirafailidis \n\nParticipating artists: Elli Antoniou\, Giorgos Yiatromanolakis\, Konstantinos Lianos\, Stefania Strouza\, Dimitris Tampakis\, Sokratis Fatouros\, Despina Charitonidi\, James Fuller\, Shambhavi Kaul\, Louis-Philippe Scoufaras\, Sasha Streshna \n\nOpening hours: Tuesday – Friday: 11:00–15:00 & 17:00–20:00 Saturday: 11:00–16:00
URL:https://cityfestival.thisisathens.org/en/event/group-exhibition-abandoned-cartographies-and-other-odd-hours/2025-05-07/
LOCATION:CAN Christina Androulidaki Gallery\, Chalkokondyli 19\, Athens\, Athens\, 104 32\, Greece
CATEGORIES:EXHIBITION,FREE,GALLERY
ATTACH;FMTTYPE=image/jpeg:https://cityfestival.thisisathens.org/wp-content/uploads/2025/04/1-1.jpg
END:VEVENT
BEGIN:VEVENT
DTSTART;TZID=Europe/Athens:20250507T180000
DTEND;TZID=Europe/Athens:20250507T210000
DTSTAMP:20260420T065349
CREATED:20250424T105959Z
LAST-MODIFIED:20250502T214639Z
UID:10003861-1746640800-1746651600@cityfestival.thisisathens.org
SUMMARY:Evi Papagianni: A Finding Place
DESCRIPTION:Mosaico Fine Art Studio presents the exhibition “A Finding Place” by artist and art therapist Paraskevi Papagianni.\n\nOpening hours: Monday to Friday: 18:00–21:00\, Saturday: 11:00–15:00\, Closed on Sunday
URL:https://cityfestival.thisisathens.org/en/event/eva-papagianni-a-finding-place/2025-05-07/
LOCATION:Mosaico Fine Art Studio\, Kesarias 18-20\, Athens\, Athens\, 115 27\, Greece
CATEGORIES:ENTERTAINMENT,EXHIBITION,FREE,GALLERY
ATTACH;FMTTYPE=image/jpeg:https://cityfestival.thisisathens.org/wp-content/uploads/2025/04/a-finding-place.jpg
END:VEVENT
BEGIN:VEVENT
DTSTART;TZID=Europe/Athens:20250507T183000
DTEND;TZID=Europe/Athens:20250507T203000
DTSTAMP:20260420T065349
CREATED:20250422T083229Z
LAST-MODIFIED:20250506T155649Z
UID:10003555-1746642600-1746649800@cityfestival.thisisathens.org
SUMMARY:Fitness Sessions
DESCRIPTION:A chance to get moving in the lush green setting of Eleftherias Park\, where expert trainers and their teams lead sessions focused on health and wellbeing. \n\nAt the Fitness Sessions\, exercise is all about fun—not competition. Yoga\, Pilates and aerobic workouts are adapted to suit all levels\, aiming to inspire a lifestyle of movement and balance.\n\nBring your own mat!
URL:https://cityfestival.thisisathens.org/en/event/fitness-sessions/
LOCATION:Eleftherias Park\, Eleftherias Park\, Athens\, Athens\, 115 21\, Greece
CATEGORIES:ENTERTAINMENT,FREE,OUTDOOR ACTIVITY
ATTACH;FMTTYPE=image/png:https://cityfestival.thisisathens.org/wp-content/uploads/2025/03/IMG_0091-2048x1536-1.png
END:VEVENT
BEGIN:VEVENT
DTSTART;TZID=Europe/Athens:20250507T190000
DTEND;TZID=Europe/Athens:20250507T203000
DTSTAMP:20260420T065349
CREATED:20250327T115109Z
LAST-MODIFIED:20250506T132835Z
UID:10001655-1746644400-1746649800@cityfestival.thisisathens.org
SUMMARY:Fairy Tales in the Square: Ermioni Detsika and Lida Xydia
DESCRIPTION:This activity is only available in Greek.\n\nA journey into the wonderful and magical world of folk fairy tales. A unique form of storytelling\, rooted in the oral literature of peoples from all over the world. It has accompanied the growth of people throughout the centuries and majestically continues to this day. Ermioni Detsika\, a kindergarten teacher and storyteller\, transports us into beloved stories filled with grandfathers\, radishes\, animals that put out fires\, and brave girls\, all framed by traditional songs\, playful tunes\, and riddles. The musician Lida Xydia will accompany the storytelling with her kanonaki\, creating a unique atmosphere for both young and old.
URL:https://cityfestival.thisisathens.org/en/event/fairy-tales-in-the-square-ermioni-detsika-and-lida-xydia/
LOCATION:Avdi Square\, Giatrakou 9\, Athens\, Athens\, 104 36\, Greece
CATEGORIES:ENTERTAINMENT,FOR KIDS,FREE,OUTDOOR ACTIVITY
ATTACH;FMTTYPE=image/jpeg:https://cityfestival.thisisathens.org/wp-content/uploads/2025/03/20240521-TiACF-GMK-TaxiarchisMpeligiannisKalligaSq-0005-scaled.jpg
END:VEVENT
BEGIN:VEVENT
DTSTART;TZID=Europe/Athens:20250507T203000
DTEND;TZID=Europe/Athens:20250507T223000
DTSTAMP:20260420T065349
CREATED:20250327T122306Z
LAST-MODIFIED:20250414T104416Z
UID:10001670-1746649800-1746657000@cityfestival.thisisathens.org
SUMMARY:Lycabettus Sunset Live: Nefeli Fasouli
DESCRIPTION:Nefeli Fasouli—the breakout star of Greece’s new music generation—returns to the This is Athens City Festival with a live performance at the idyllic “balcony” of Agios Georgios on Lycabettus Hill.\n\nLike a figure straight out of the French New Wave\, Fasouli moves gracefully across genres\, turning each performance into a musical surprise and inviting her audience on a journey through her world of sound.
URL:https://cityfestival.thisisathens.org/en/event/lycabettus-sunset-live-nefeli-fasouli-2/
LOCATION:Church of Saint George of Lycabettus\, Lycabettus Hill\, Athens\, Athens\, 114 71\, Greece
CATEGORIES:CONCERT,ENTERTAINMENT,FREE,OUTDOOR ACTIVITY
ATTACH;FMTTYPE=image/jpeg:https://cityfestival.thisisathens.org/wp-content/uploads/2025/03/452416458_913014910872419_1645799443935540830_n.jpg
END:VEVENT
BEGIN:VEVENT
DTSTART;TZID=Europe/Athens:20250507T210000
DTEND;TZID=Europe/Athens:20250507T230000
DTSTAMP:20260420T065349
CREATED:20250327T120927Z
LAST-MODIFIED:20250425T125821Z
UID:10001666-1746651600-1746658800@cityfestival.thisisathens.org
SUMMARY:Menta Live with Babis Stokas
DESCRIPTION:On Wednesday\, May 7th\, at 21:00 in the evening\, at Eleftherias Park – in the center of Athens – we spread our mats and towels on the grass and sing together under the stars. \nEntrance is free!\n\nWe bring our friends\, our loved ones\, our smiles\, our towels\, our mats\, our drinks\, and experience together the magic of companionship\, the unique atmosphere of MENTA LIVE\, under the Attic sky.\n\nA spring Menta Live by Menta 88\, featuring the best moments of Babis Stokas\, from his great career with Pyx Lax and the top songs from his solo discography.
URL:https://cityfestival.thisisathens.org/en/event/menta-live-with-babis-stokas/
LOCATION:Eleftherias Park\, Eleftherias Park\, Athens\, Athens\, 115 21\, Greece
CATEGORIES:CONCERT,ENTERTAINMENT,FREE,OUTDOOR ACTIVITY
ATTACH;FMTTYPE=image/jpeg:https://cityfestival.thisisathens.org/wp-content/uploads/2025/03/900x600.jpg
END:VEVENT
END:VCALENDAR