BEGIN:VCALENDAR
VERSION:2.0
PRODID:-//This is Athens City Festival - ECPv6.12.0.1//NONSGML v1.0//EN
CALSCALE:GREGORIAN
METHOD:PUBLISH
X-ORIGINAL-URL:https://cityfestival.thisisathens.org/en/
X-WR-CALDESC:Events for This is Athens City Festival
REFRESH-INTERVAL;VALUE=DURATION:PT1H
X-Robots-Tag:noindex
X-PUBLISHED-TTL:PT1H
BEGIN:VTIMEZONE
TZID:Europe/Athens
BEGIN:DAYLIGHT
TZOFFSETFROM:+0200
TZOFFSETTO:+0300
TZNAME:EEST
DTSTART:20250330T010000
END:DAYLIGHT
BEGIN:STANDARD
TZOFFSETFROM:+0300
TZOFFSETTO:+0200
TZNAME:EET
DTSTART:20251026T010000
END:STANDARD
END:VTIMEZONE
BEGIN:VEVENT
DTSTART;TZID=Europe/Athens:20250507T103000
DTEND;TZID=Europe/Athens:20250507T120000
DTSTAMP:20260421T123121
CREATED:20250422T133137Z
LAST-MODIFIED:20250506T132924Z
UID:10003624-1746613800-1746619200@cityfestival.thisisathens.org
SUMMARY:Discover the National Typography Museum - MET
DESCRIPTION:This activity is only available in Greek. \n\nA visit to the National Typography Museum and its historic collection. Visitors will have the chance to closely examine representative samples of the mechanical equipment and printed products of the Typography. Additionally\, they will get familiar with traditional printing techniques and the working conditions of the printer profession.
URL:https://cityfestival.thisisathens.org/en/event/discover-the-national-typography-museum-met/
LOCATION:National Printing House Museum\, Kapodistriou 34\, Athens\, Athens\, 104 32\, Greece
CATEGORIES:EXHIBITION,FREE,MUSEUM,TOUR
ATTACH;FMTTYPE=image/jpeg:https://cityfestival.thisisathens.org/wp-content/uploads/2025/04/ΑΙΘΟΥΣΑ-Α-ΜΟΥΣΕΙΟΥ-ΕΤ-scaled.jpg
END:VEVENT
END:VCALENDAR