BEGIN:VCALENDAR
VERSION:2.0
PRODID:-//This is Athens City Festival - ECPv6.12.0.1//NONSGML v1.0//EN
CALSCALE:GREGORIAN
METHOD:PUBLISH
X-WR-CALNAME:This is Athens City Festival
X-ORIGINAL-URL:https://cityfestival.thisisathens.org/en/
X-WR-CALDESC:Events for This is Athens City Festival
REFRESH-INTERVAL;VALUE=DURATION:PT1H
X-Robots-Tag:noindex
X-PUBLISHED-TTL:PT1H
BEGIN:VTIMEZONE
TZID:Europe/Athens
BEGIN:DAYLIGHT
TZOFFSETFROM:+0200
TZOFFSETTO:+0300
TZNAME:EEST
DTSTART:20250330T010000
END:DAYLIGHT
BEGIN:STANDARD
TZOFFSETFROM:+0300
TZOFFSETTO:+0200
TZNAME:EET
DTSTART:20251026T010000
END:STANDARD
END:VTIMEZONE
BEGIN:VEVENT
DTSTART;TZID=Europe/Athens:20250508T100000
DTEND;TZID=Europe/Athens:20250508T140000
DTSTAMP:20260422T074339
CREATED:20250428T203749Z
LAST-MODIFIED:20250506T132727Z
UID:10003883-1746698400-1746712800@cityfestival.thisisathens.org
SUMMARY:1st Athens International Youth Theatre Festival
DESCRIPTION:In the Park of Plato’s Academy\, a place of particular significance\, the Athens International Youth Theatre Festival “City-Citizen-Culture” will take place for the first time from May 8th to 9th.\n\nInitiated by the Festival of the Municipality of Athens and supported by the Michael Cacoyannis Foundation\, Athens is transformed into a living monument\, inviting participants to reflect on the contemporary challenges for Democracy\, the State\, and the Citizen.\n\nMore than 250 students from Athens\, Kallithea\, Acharnes\, Glyfada\, Nea Propontida\, and Syracuse\, using Ancient Drama as an educational tool\, will present theatrical performances. Through this creative coexistence\, they will exchange thoughts and emotions\, experiencing Athens as a global symbol of Democracy.\n\n“Polis-Citizen-Culture” marks the birth of an institution that will promote Athens as a tourist destination\, highlight the value of ancient drama\, and emphasize the importance of safeguarding fundamental concepts such as the Citizen and Democracy\, which are being tested in our times.\n\nThursday\, May 8th\n10:00 – 10:40 Voices Without Borders / 7th General Lyceum of Acharnes\n11:00 – 11:40 The Appearances of Dionysus / Liceo Tommaso Gargallo\n12:00 – 12:40 Changing Democracies – The Greek Case / 7th Gymnasium of Kallithea\n13:00 – 13:50 Signature Name in Holograph / Big Bang School\, Nea Propontida
URL:https://cityfestival.thisisathens.org/en/event/1st-athens-international-youth-theatre-festival/
LOCATION:Plato’s Academy Park\, Monastiriou 138\, Athens\, Athens\, 104 42\, Greece
CATEGORIES:OUTDOOR ACTIVITY,THEATER
ATTACH;FMTTYPE=image/jpeg:https://cityfestival.thisisathens.org/wp-content/uploads/2025/04/cover-pic.jpg
END:VEVENT
END:VCALENDAR