BEGIN:VCALENDAR
VERSION:2.0
PRODID:-//This is Athens City Festival - ECPv6.12.0.1//NONSGML v1.0//EN
CALSCALE:GREGORIAN
METHOD:PUBLISH
X-ORIGINAL-URL:https://cityfestival.thisisathens.org/en/
X-WR-CALDESC:Events for This is Athens City Festival
REFRESH-INTERVAL;VALUE=DURATION:PT1H
X-Robots-Tag:noindex
X-PUBLISHED-TTL:PT1H
BEGIN:VTIMEZONE
TZID:Europe/Athens
BEGIN:DAYLIGHT
TZOFFSETFROM:+0200
TZOFFSETTO:+0300
TZNAME:EEST
DTSTART:20250330T010000
END:DAYLIGHT
BEGIN:STANDARD
TZOFFSETFROM:+0300
TZOFFSETTO:+0200
TZNAME:EET
DTSTART:20251026T010000
END:STANDARD
END:VTIMEZONE
BEGIN:VEVENT
DTSTART;TZID=Europe/Athens:20250508T183000
DTEND;TZID=Europe/Athens:20250508T200000
DTSTAMP:20260421T123101
CREATED:20250321T182939Z
LAST-MODIFIED:20250506T132227Z
UID:10000827-1746729000-1746734400@cityfestival.thisisathens.org
SUMMARY:An Athenian Society Tour and Lecture on the Topic: Athenian Relocation
DESCRIPTION:This activity is only available in Greek.\n\nEnjoy a guided tour of the Athenian Society and the Athenian Museum\, followed by a talk from President Eleftherios G. Skiadas\, marking the release of his new book on Athenian Relocation.
URL:https://cityfestival.thisisathens.org/en/event/athenian-society-tour-lecture-athenian-relocation/
LOCATION:Association of the Athenians\, Kekropos 10\, Athens\, Athens\, 105 58\, Greece
CATEGORIES:FREE,LITERATURE,MUSEUM,TOUR
ATTACH;FMTTYPE=image/png:https://cityfestival.thisisathens.org/wp-content/uploads/2025/03/ΑTHCF_8-ΜΑΪΟΥ.png
END:VEVENT
END:VCALENDAR