BEGIN:VCALENDAR
VERSION:2.0
PRODID:-//This is Athens City Festival - ECPv6.12.0.1//NONSGML v1.0//EN
CALSCALE:GREGORIAN
METHOD:PUBLISH
X-ORIGINAL-URL:https://cityfestival.thisisathens.org/en/
X-WR-CALDESC:Events for This is Athens City Festival
REFRESH-INTERVAL;VALUE=DURATION:PT1H
X-Robots-Tag:noindex
X-PUBLISHED-TTL:PT1H
BEGIN:VTIMEZONE
TZID:Europe/Athens
BEGIN:DAYLIGHT
TZOFFSETFROM:+0200
TZOFFSETTO:+0300
TZNAME:EEST
DTSTART:20250330T010000
END:DAYLIGHT
BEGIN:STANDARD
TZOFFSETFROM:+0300
TZOFFSETTO:+0200
TZNAME:EET
DTSTART:20251026T010000
END:STANDARD
END:VTIMEZONE
BEGIN:VEVENT
DTSTART;TZID=Europe/Athens:20250510T103000
DTEND;TZID=Europe/Athens:20250510T113000
DTSTAMP:20260421T210625
CREATED:20250423T124054Z
LAST-MODIFIED:20250506T131405Z
UID:10003646-1746873000-1746876600@cityfestival.thisisathens.org
SUMMARY:Guided Tour at the Elytis House - Museum
DESCRIPTION:This activity is only available in Greek. \n\nStep inside the Elytis House Museum\, a neoclassical gem in the heart of Plaka\, and explore the world of Nobel Laureate Odysseas Elytis through a guided tour of its permanent exhibition. Rare manuscripts\, Greek and international editions\, paintings\, personal artefacts\, and the poet’s original writing desk—all housed in the space where he lived and worked for decades—offer an intimate experience of one of Greece’s most iconic literary figures.
URL:https://cityfestival.thisisathens.org/en/event/guided-tour-at-the-elytis-house-museum/
LOCATION:Elytis’ House – Museum\, Polygnotou 7\, Athens\, Athens\, 105 55\, Greece
CATEGORIES:EXHIBITION,FREE,LITERATURE,MUSEUM,TOUR
ATTACH;FMTTYPE=image/jpeg:https://cityfestival.thisisathens.org/wp-content/uploads/2025/03/elitis_banner.jpg
END:VEVENT
END:VCALENDAR