BEGIN:VCALENDAR
VERSION:2.0
PRODID:-//This is Athens City Festival - ECPv6.12.0.1//NONSGML v1.0//EN
CALSCALE:GREGORIAN
METHOD:PUBLISH
X-ORIGINAL-URL:https://cityfestival.thisisathens.org/en/
X-WR-CALDESC:Events for This is Athens City Festival
REFRESH-INTERVAL;VALUE=DURATION:PT1H
X-Robots-Tag:noindex
X-PUBLISHED-TTL:PT1H
BEGIN:VTIMEZONE
TZID:Europe/Athens
BEGIN:DAYLIGHT
TZOFFSETFROM:+0200
TZOFFSETTO:+0300
TZNAME:EEST
DTSTART:20250330T010000
END:DAYLIGHT
BEGIN:STANDARD
TZOFFSETFROM:+0300
TZOFFSETTO:+0200
TZNAME:EET
DTSTART:20251026T010000
END:STANDARD
END:VTIMEZONE
BEGIN:VEVENT
DTSTART;TZID=Europe/Athens:20250514T100000
DTEND;TZID=Europe/Athens:20250514T180000
DTSTAMP:20260420T065425
CREATED:20250424T102622Z
LAST-MODIFIED:20250424T102622Z
UID:10003803-1747216800-1747245600@cityfestival.thisisathens.org
SUMMARY:CONQUISTADORS
DESCRIPTION:Nikos Kyriakopoulos and his conquistadors disembark on Lenorman Street. \n\nDragons and wild beasts\, locals and conquistadors—and even Death himself—battle deep in untrodden jungles. \n\nThe thirty-six works in this exhibition are not intended to serve History or the historical genre of painting. Instead\, the artist draws his material from the mythos surrounding the Age of Discovery\, crafting images that move beyond naturalism\, both in form and content. Created using monotype\, a technique dating back to the 16th century\, the works gain added resonance when paired with the fantastical stories they depict. The adventures of the characters serve as a point of departure—not only for the adventures of line and colour\, but also for reflection on themes such as desire\, fear\, conflict and illusion. \n\nOpening: Thursday 8 May 2025\, 19:30–23:00 \n\nOpening hours: Monday to Friday: 10:00–18:00 Saturday: 11:00–15:00 Closed on Sunday
URL:https://cityfestival.thisisathens.org/en/event/conquistadors/2025-05-14/
LOCATION:Macart’s Cultural Space\, Lenorman 244\, Athens\, Athens\, 104 43\, Greece
CATEGORIES:ENTERTAINMENT,EXHIBITION,FREE,GALLERY
ATTACH;FMTTYPE=image/jpeg:https://cityfestival.thisisathens.org/wp-content/uploads/2025/04/DSC_7775-1.jpg
END:VEVENT
BEGIN:VEVENT
DTSTART;TZID=Europe/Athens:20250514T103000
DTEND;TZID=Europe/Athens:20250514T120000
DTSTAMP:20260420T065425
CREATED:20250422T133421Z
LAST-MODIFIED:20250506T130003Z
UID:10003625-1747218600-1747224000@cityfestival.thisisathens.org
SUMMARY:Discover the National Typography Museum - MET
DESCRIPTION:This activity is only available in Greek. \n\nA visit to the National Typography Museum and its historic collection. Visitors will have the chance to closely examine representative samples of the mechanical equipment and printed products of the Typography. Additionally\, they will get familiar with traditional printing techniques and the working conditions of the printer profession.
URL:https://cityfestival.thisisathens.org/en/event/discover-the-national-typography-museum-met-2/
LOCATION:National Printing House Museum\, Kapodistriou 34\, Athens\, Athens\, 104 32\, Greece
CATEGORIES:EXHIBITION,FREE,MUSEUM,TOUR
ATTACH;FMTTYPE=image/jpeg:https://cityfestival.thisisathens.org/wp-content/uploads/2025/04/ΑΙΘΟΥΣΑ-Α-ΜΟΥΣΕΙΟΥ-ΕΤ-scaled.jpg
END:VEVENT
BEGIN:VEVENT
DTSTART;TZID=Europe/Athens:20250514T110000
DTEND;TZID=Europe/Athens:20250514T160000
DTSTAMP:20260420T065425
CREATED:20250506T071617Z
LAST-MODIFIED:20250506T073507Z
UID:10003916-1747220400-1747238400@cityfestival.thisisathens.org
SUMMARY:Giorgos Gyzis: Clippings: Athens
DESCRIPTION:Clippings: Athens presents the third series of paintings inspired by clippings sourced from old newspapers. Photographs\, drawings\, and articles about Athens emerge from the archives\, transformed into visual artworks that evoke emotion. The works on display offer a brief journey through the evolving form of Athens\, beginning with the distinctive sketches by 19th-century British travellers in Attica and culminating in the height of modernism during the 1950s and 60s. \n\nExhibition Opening: Saturday 10 May 2025\, 12:00–17:00 Opening Hours: Tuesday\, Thursday\, Friday: 11:00–14:30 / 17:30–20:30 \n\nWednesday\, Saturday: 11:00–16:00 \n\nClosed Sunday and Monday
URL:https://cityfestival.thisisathens.org/en/event/giorgos-gyzis-clippings-athens/2025-05-14/
LOCATION:Ikastikos Kyklos\, Akadimias 6\, Athens\, Athens\, 106 71\, Greece
CATEGORIES:EXHIBITION,FREE,GALLERY
ATTACH;FMTTYPE=image/jpeg:https://cityfestival.thisisathens.org/wp-content/uploads/2025/05/9817.jpg
END:VEVENT
BEGIN:VEVENT
DTSTART;TZID=Europe/Athens:20250514T113000
DTEND;TZID=Europe/Athens:20250514T203000
DTSTAMP:20260420T065425
CREATED:20250424T085600Z
LAST-MODIFIED:20250506T132520Z
UID:10003761-1747222200-1747254600@cityfestival.thisisathens.org
SUMMARY:Vassilis Papageorgiou - Painting and Sculpture: Lignea Creatura Stans
DESCRIPTION:The worlds of plants\, animals and humans—along with legend\, myth\, imagination and dream—form the basis of Vassilis Papageorgiou’s new artistic exploration. His paradoxical heroes and hand-crafted wooden creatures inhabit both two- and three-dimensional space in a state of perpetual whirling. Through an aesthetic lens\, Papageorgiou reflects on the consequences of humanity’s destructive impact on the natural world. From this meditation\, he generates new values—drawn from the cultural references of nature and tradition—that define the conditions for coexistence. \n\nOpening hours: Monday – Friday: 11:30–14:30 & 17:30–20:30 Saturday: 11:30–15:00
URL:https://cityfestival.thisisathens.org/en/event/vassilis-papageorgiou-painting-lignea-creatura-stans/2025-05-14/
LOCATION:Gallery Ersi\, Kleomenous 4\, Athens\, Athens\, 106 75\, Greece
CATEGORIES:ENTERTAINMENT,EXHIBITION,FREE,GALLERY
ATTACH;FMTTYPE=image/jpeg:https://cityfestival.thisisathens.org/wp-content/uploads/2025/04/ΒΑΣΙΛΗΣ-ΠΑΠΑΓΕΩΡΓΙΟΥΑνάγνωση2023-Λάδι-σε-λινό-160-195-cm.jpg
END:VEVENT
BEGIN:VEVENT
DTSTART;TZID=Europe/Athens:20250514T120000
DTEND;TZID=Europe/Athens:20250514T133000
DTSTAMP:20260420T065426
CREATED:20250411T082853Z
LAST-MODIFIED:20250506T125932Z
UID:10003474-1747224000-1747229400@cityfestival.thisisathens.org
SUMMARY:Ilias Lalaounis Jewelry Museum: Curators Tour
DESCRIPTION:This activity is only available in Greek.\n\n 	\nGuided tour of the permanent collections of the Ilias Lalaounis Jewelry Museum by one of the museum’s curators. \n\n 	\nVideo screening in specially designed spaces\, focusing on the history of the collections and ancient metalworking techniques. \n\n 	\nVisit to the Live Metalworking & Decorative and Visual Arts Studios: These two live workshops offer visitors the experience of interacting with artists and creators\, giving them the opportunity to actively participate in the exchange of knowledge and information about the secrets of jewelry making and contemporary creation and design. \n\n\n 
URL:https://cityfestival.thisisathens.org/en/event/ilias-lalaounis-jewelry-museum-curators-tour/
LOCATION:Ilias Lalaounis Jewelry Museum\, Kallisperi 12\, Αθήνα\, Athens\, 117 42\, Greece
CATEGORIES:EXHIBITION,FREE,MUSEUM,TOUR
ATTACH;FMTTYPE=image/jpeg:https://cityfestival.thisisathens.org/wp-content/uploads/2025/04/ILJM-PERMANENT-COLLECTION-1-scaled.jpg
END:VEVENT
BEGIN:VEVENT
DTSTART;TZID=Europe/Athens:20250514T123000
DTEND;TZID=Europe/Athens:20250514T133000
DTSTAMP:20260420T065426
CREATED:20250423T121947Z
LAST-MODIFIED:20250506T125901Z
UID:10003638-1747225800-1747229400@cityfestival.thisisathens.org
SUMMARY:Cyprus 74 - Never Forget
DESCRIPTION:This activity is only available in Greek. \n\nA guided tour of the memory exhibition marking the 50th anniversary of the Turkish invasion of Cyprus. Through rare posters from the era and corresponding photographic material\, the exhibition aims to highlight the events of the Cypriot tragedy\, the nationwide solidarity with the people of Cyprus\, and their ongoing struggle for freedom and justice.
URL:https://cityfestival.thisisathens.org/en/event/cyprus-74-never-forget/
LOCATION:National Historical Museum\, Stadiou 13\, Athens\, Athens\, 105 61\, Greece
CATEGORIES:EXHIBITION,FREE,MUSEUM,TOUR
ATTACH;FMTTYPE=image/jpeg:https://cityfestival.thisisathens.org/wp-content/uploads/2025/04/ΚΥΠΡΟΣ.jpg
END:VEVENT
BEGIN:VEVENT
DTSTART;TZID=Europe/Athens:20250514T183000
DTEND;TZID=Europe/Athens:20250514T203000
DTSTAMP:20260420T065426
CREATED:20250422T083317Z
LAST-MODIFIED:20250506T155748Z
UID:10003556-1747247400-1747254600@cityfestival.thisisathens.org
SUMMARY:Fitness Sessions
DESCRIPTION:A chance to get moving in the lush green setting of Eleftherias Park\, where expert trainers and their teams lead sessions focused on health and wellbeing. \n\nAt the Fitness Sessions\, exercise is all about fun—not competition. Yoga\, Pilates and aerobic workouts are adapted to suit all levels\, aiming to inspire a lifestyle of movement and balance.\n\nBring your own mat!
URL:https://cityfestival.thisisathens.org/en/event/fitness-sessions-2/
LOCATION:Eleftherias Park\, Eleftherias Park\, Athens\, Athens\, 115 21\, Greece
CATEGORIES:ENTERTAINMENT,FREE,OUTDOOR ACTIVITY
ATTACH;FMTTYPE=image/png:https://cityfestival.thisisathens.org/wp-content/uploads/2025/03/IMG_0091-2048x1536-1.png
END:VEVENT
BEGIN:VEVENT
DTSTART;TZID=Europe/Athens:20250514T190000
DTEND;TZID=Europe/Athens:20250514T203000
DTSTAMP:20260420T065426
CREATED:20250328T102550Z
LAST-MODIFIED:20250506T125820Z
UID:10003241-1747249200-1747254600@cityfestival.thisisathens.org
SUMMARY:Fairy Tales in the Square: Naya Oikonomopoulou - Maria Georgopoulou
DESCRIPTION:This activity is only available in Greek.\n\nAs much fiction\, as much truth! Whether at festivals\, libraries\, museums\, schools\, cafés\, or under a large oak tree\, a fairy tale needs nothing more than someone to tell it and someone to listen – as long as both have an open heart.\n\nNagia Oikonomopoulou tells myths and fairy tales from the oral tradition\, captivating both young and old\, with the enchanting musical accompaniment of Maria Georgopoulou\, a classical guitar teacher\, music educator\, and composer.
URL:https://cityfestival.thisisathens.org/en/event/fairy-tales-in-square-oikonomopoulou-georgopoulou/
LOCATION:Agios Pavlos Square\, Agios Pavlos Square\, Athens\, Athens\, 104 38\, Greece
CATEGORIES:ENTERTAINMENT,FOR KIDS,FREE,OUTDOOR ACTIVITY
ATTACH;FMTTYPE=image/jpeg:https://cityfestival.thisisathens.org/wp-content/uploads/2025/03/230507-GMK-Aθηνοπεριπέτειες_21-min-1-scaled.jpg
END:VEVENT
BEGIN:VEVENT
DTSTART;TZID=Europe/Athens:20250514T200000
DTEND;TZID=Europe/Athens:20250514T230000
DTSTAMP:20260420T065426
CREATED:20250327T101429Z
LAST-MODIFIED:20250507T131655Z
UID:10001249-1747252800-1747263600@cityfestival.thisisathens.org
SUMMARY:Leonard Cohen Tribute
DESCRIPTION:Three of the most distinctive and fresh voices in Greek music—Nalyssa Green\, Sugahspank! and Lou Is—pay tribute to the legendary Leonard Cohen. Backed by a stellar band\, they bring new life to songs that have left a lasting mark on music history.\n\nSeven years after its powerful debut\, this moving tribute returns for a captivating afternoon in the courtyard of the Athens Book Space.
URL:https://cityfestival.thisisathens.org/en/event/leonard-cohen-tribute/
LOCATION:Athens Book Space\, Athens Book Space\, Athens\, Athens\, 115 21\, Greece
CATEGORIES:CONCERT,ENTERTAINMENT,FREE,OUTDOOR ACTIVITY
ATTACH;FMTTYPE=image/jpeg:https://cityfestival.thisisathens.org/wp-content/uploads/2025/03/Cohen-Tribute-8-scaled.jpg
END:VEVENT
END:VCALENDAR