BEGIN:VCALENDAR
VERSION:2.0
PRODID:-//This is Athens City Festival - ECPv6.12.0.1//NONSGML v1.0//EN
CALSCALE:GREGORIAN
METHOD:PUBLISH
X-ORIGINAL-URL:https://cityfestival.thisisathens.org/en/
X-WR-CALDESC:Events for This is Athens City Festival
REFRESH-INTERVAL;VALUE=DURATION:PT1H
X-Robots-Tag:noindex
X-PUBLISHED-TTL:PT1H
BEGIN:VTIMEZONE
TZID:Europe/Athens
BEGIN:DAYLIGHT
TZOFFSETFROM:+0200
TZOFFSETTO:+0300
TZNAME:EEST
DTSTART:20250330T010000
END:DAYLIGHT
BEGIN:STANDARD
TZOFFSETFROM:+0300
TZOFFSETTO:+0200
TZNAME:EET
DTSTART:20251026T010000
END:STANDARD
END:VTIMEZONE
BEGIN:VEVENT
DTSTART;TZID=Europe/Athens:20250514T190000
DTEND;TZID=Europe/Athens:20250514T213000
DTSTAMP:20260421T224455
CREATED:20250506T191629Z
LAST-MODIFIED:20250506T201544Z
UID:10003933-1747249200-1747258200@cityfestival.thisisathens.org
SUMMARY:Sonoridades Lusofonas
DESCRIPTION:The Kypseli Municipal Market is transformed into a vibrant crossroads of cultures\, hosting a unique experience dedicated to the dances and musical traditions of the Portuguese-speaking world.\n\nFrom Angola and Mozambique to Brazil\, Cape Verde\, and Portugal\, the Athenian audience will journey with music as its ark and the Portuguese Language as its map\, discovering the common cultural thread that unites both sides of the Atlantic.\n\nMiranda Verouli and Choro Plus will perform beloved pieces from the Fados of Amália Rodrigues\, the Mornas of Cesária Évora\, the Sambas of Caetano Veloso\, and the Bossa Nova of Sérgio Mendes\, framed by rare sounds from Lusophone Africa.\n\nThe stage comes alive even more with Victoria KizzArte and The KizzLab team\, who will draw us into the rhythms of traditional Semba and the sensual Kizomba of Angola.\nThe dance journey concludes with Forró Atenas\, who will transport the audience to the warm atmosphere of a Brazilian celebration.\n\nA musical journey-ode to the peoples and cultures that weave the blue veil of the Portuguese language.\n\nMay 14\, 2025 | 19:00 | Free Entrance\n\nA synergy of the City of Athens Festival and the Embassy of Portugal\, with the support of Camões\, I.P.\, as part of the celebrations for World Portuguese Language Day (May 5th).
URL:https://cityfestival.thisisathens.org/en/event/sonoridades-lusofonas/
LOCATION:Kypseli Municipal Market\, Kypseli Municipal Market\, Athens\, Athens\, 113 61\, Greece
CATEGORIES:CONCERT,DANCE,ENTERTAINMENT
ATTACH;FMTTYPE=image/jpeg:https://cityfestival.thisisathens.org/wp-content/uploads/2025/05/Foto-capa-evento-ονόματα.jpg
END:VEVENT
END:VCALENDAR