BEGIN:VCALENDAR
VERSION:2.0
PRODID:-//This is Athens City Festival - ECPv6.12.0.1//NONSGML v1.0//EN
CALSCALE:GREGORIAN
METHOD:PUBLISH
X-WR-CALNAME:This is Athens City Festival
X-ORIGINAL-URL:https://cityfestival.thisisathens.org/en/
X-WR-CALDESC:Events for This is Athens City Festival
REFRESH-INTERVAL;VALUE=DURATION:PT1H
X-Robots-Tag:noindex
X-PUBLISHED-TTL:PT1H
BEGIN:VTIMEZONE
TZID:Europe/Athens
BEGIN:DAYLIGHT
TZOFFSETFROM:+0200
TZOFFSETTO:+0300
TZNAME:EEST
DTSTART:20250330T010000
END:DAYLIGHT
BEGIN:STANDARD
TZOFFSETFROM:+0300
TZOFFSETTO:+0200
TZNAME:EET
DTSTART:20251026T010000
END:STANDARD
END:VTIMEZONE
BEGIN:VEVENT
DTSTART;TZID=Europe/Athens:20250515T100000
DTEND;TZID=Europe/Athens:20250515T180000
DTSTAMP:20260420T081900
CREATED:20250424T102622Z
LAST-MODIFIED:20250424T102622Z
UID:10003804-1747303200-1747332000@cityfestival.thisisathens.org
SUMMARY:CONQUISTADORS
DESCRIPTION:Nikos Kyriakopoulos and his conquistadors disembark on Lenorman Street. \n\nDragons and wild beasts\, locals and conquistadors—and even Death himself—battle deep in untrodden jungles. \n\nThe thirty-six works in this exhibition are not intended to serve History or the historical genre of painting. Instead\, the artist draws his material from the mythos surrounding the Age of Discovery\, crafting images that move beyond naturalism\, both in form and content. Created using monotype\, a technique dating back to the 16th century\, the works gain added resonance when paired with the fantastical stories they depict. The adventures of the characters serve as a point of departure—not only for the adventures of line and colour\, but also for reflection on themes such as desire\, fear\, conflict and illusion. \n\nOpening: Thursday 8 May 2025\, 19:30–23:00 \n\nOpening hours: Monday to Friday: 10:00–18:00 Saturday: 11:00–15:00 Closed on Sunday
URL:https://cityfestival.thisisathens.org/en/event/conquistadors/2025-05-15/
LOCATION:Macart’s Cultural Space\, Lenorman 244\, Athens\, Athens\, 104 43\, Greece
CATEGORIES:ENTERTAINMENT,EXHIBITION,FREE,GALLERY
ATTACH;FMTTYPE=image/jpeg:https://cityfestival.thisisathens.org/wp-content/uploads/2025/04/DSC_7775-1.jpg
END:VEVENT
BEGIN:VEVENT
DTSTART;TZID=Europe/Athens:20250515T110000
DTEND;TZID=Europe/Athens:20250515T203000
DTSTAMP:20260420T081900
CREATED:20250506T071617Z
LAST-MODIFIED:20250506T073507Z
UID:10003917-1747306800-1747341000@cityfestival.thisisathens.org
SUMMARY:Giorgos Gyzis: Clippings: Athens
DESCRIPTION:Clippings: Athens presents the third series of paintings inspired by clippings sourced from old newspapers. Photographs\, drawings\, and articles about Athens emerge from the archives\, transformed into visual artworks that evoke emotion. The works on display offer a brief journey through the evolving form of Athens\, beginning with the distinctive sketches by 19th-century British travellers in Attica and culminating in the height of modernism during the 1950s and 60s. \n\nExhibition Opening: Saturday 10 May 2025\, 12:00–17:00 Opening Hours: Tuesday\, Thursday\, Friday: 11:00–14:30 / 17:30–20:30 \n\nWednesday\, Saturday: 11:00–16:00 \n\nClosed Sunday and Monday
URL:https://cityfestival.thisisathens.org/en/event/giorgos-gyzis-clippings-athens/2025-05-15/
LOCATION:Ikastikos Kyklos\, Akadimias 6\, Athens\, Athens\, 106 71\, Greece
CATEGORIES:EXHIBITION,FREE,GALLERY
ATTACH;FMTTYPE=image/jpeg:https://cityfestival.thisisathens.org/wp-content/uploads/2025/05/9817.jpg
END:VEVENT
BEGIN:VEVENT
DTSTART;TZID=Europe/Athens:20250515T113000
DTEND;TZID=Europe/Athens:20250515T203000
DTSTAMP:20260420T081900
CREATED:20250424T085600Z
LAST-MODIFIED:20250506T132520Z
UID:10003762-1747308600-1747341000@cityfestival.thisisathens.org
SUMMARY:Vassilis Papageorgiou - Painting and Sculpture: Lignea Creatura Stans
DESCRIPTION:The worlds of plants\, animals and humans—along with legend\, myth\, imagination and dream—form the basis of Vassilis Papageorgiou’s new artistic exploration. His paradoxical heroes and hand-crafted wooden creatures inhabit both two- and three-dimensional space in a state of perpetual whirling. Through an aesthetic lens\, Papageorgiou reflects on the consequences of humanity’s destructive impact on the natural world. From this meditation\, he generates new values—drawn from the cultural references of nature and tradition—that define the conditions for coexistence. \n\nOpening hours: Monday – Friday: 11:30–14:30 & 17:30–20:30 Saturday: 11:30–15:00
URL:https://cityfestival.thisisathens.org/en/event/vassilis-papageorgiou-painting-lignea-creatura-stans/2025-05-15/
LOCATION:Gallery Ersi\, Kleomenous 4\, Athens\, Athens\, 106 75\, Greece
CATEGORIES:ENTERTAINMENT,EXHIBITION,FREE,GALLERY
ATTACH;FMTTYPE=image/jpeg:https://cityfestival.thisisathens.org/wp-content/uploads/2025/04/ΒΑΣΙΛΗΣ-ΠΑΠΑΓΕΩΡΓΙΟΥΑνάγνωση2023-Λάδι-σε-λινό-160-195-cm.jpg
END:VEVENT
BEGIN:VEVENT
DTSTART;TZID=Europe/Athens:20250515T120000
DTEND;TZID=Europe/Athens:20250515T200000
DTSTAMP:20260420T081900
CREATED:20250424T072048Z
LAST-MODIFIED:20250512T063141Z
UID:10003686-1747310400-1747339200@cityfestival.thisisathens.org
SUMMARY:How to Fit Inside the City
DESCRIPTION:The work of Haris Baskozos is compelling not only for its final forms but also for the sources of inspiration behind them. The artist studied architecture at the National Technical University of Athens and fine arts at the Athens School of Fine Arts. When drawing from his background in architecture\, his work leans toward a rectilinear style that echoes urban planning and evokes a kind of “emotional Mondrian.” In these compositions\, consciousness seems to take the lead. In contrast\, when his fine arts training prevails\, his work shifts towards a freer\, more instinctive expression\, dominated by human-like forms and influenced by art brut\, where the unconscious plays the central role. In both cases\, the final result is not a strict monologue of either approach\, but rather a dialogue—one side mostly leading\, the other echoing through. In this way\, Baskozos offers a fascinating visual argument: the idea of collectivity (the city) tends to be shaped through a more conscious process\, while reflections on individuality (the human being) emerge through the unconscious. \n\nOpening hours: Tuesday\, Thursday\, Friday: 12:00–20:00 Wednesday & Saturday: 12:00–16:00
URL:https://cityfestival.thisisathens.org/en/event/how-to-fit-inside-the-city/2025-05-15/
LOCATION:Athens Gallery7\, Solonos 20\, Athens\, Athens\, 106 73\, Greece
CATEGORIES:EXHIBITION,FREE,GALLERY
ATTACH;FMTTYPE=image/jpeg:https://cityfestival.thisisathens.org/wp-content/uploads/2025/04/athens-gallery7-scaled.jpg
END:VEVENT
BEGIN:VEVENT
DTSTART;TZID=Europe/Athens:20250515T183000
DTEND;TZID=Europe/Athens:20250515T200000
DTSTAMP:20260420T081900
CREATED:20250509T205831Z
LAST-MODIFIED:20250509T210121Z
UID:10003940-1747333800-1747339200@cityfestival.thisisathens.org
SUMMARY:The History of the Katakouzenos House Through Time and the Role of a House-Museum in Our Era
DESCRIPTION:This event will only be available in Greek. A lecture on the literary salon of the Katakouzenos family in the 1960s\, focusing on the history\, work\, and contributions of the Katakouzenos couple\, and how it transformed into a house-museum from 2008 to the present. The lecture will also explore what a house-museum can offer in an era of constant change. Speaker: Sophia E. Peloponisiou-Vassilakou\, Museologist\, Curator of the Katakouzenos House
URL:https://cityfestival.thisisathens.org/en/event/the-history-of-the-katakouzenos-house-through-time-and-the-role-of-a-house-museum-in-our-era/
LOCATION:The Katakouzenos House\, Vasilisis Amalias 4\, Athens\, Athens\, 105 57\, Greece
CATEGORIES:FREE,MUSEUM
ATTACH;FMTTYPE=image/jpeg:https://cityfestival.thisisathens.org/wp-content/uploads/2025/05/Salon-1.jpg
END:VEVENT
BEGIN:VEVENT
DTSTART;TZID=Europe/Athens:20250515T190000
DTEND;TZID=Europe/Athens:20250515T220000
DTSTAMP:20260420T081900
CREATED:20250509T212910Z
LAST-MODIFIED:20250509T215319Z
UID:10003942-1747335600-1747346400@cityfestival.thisisathens.org
SUMMARY:From Earth to Sky
DESCRIPTION:This activity is only available in Greek. A special walking tour exploring the archaeological and astronomical landmarks around the hills surrounding the National Observatory\, timed with the magical Athenian sunset. The journey begins on the western hills of the Acropolis: Pnyx\, the Hill of the Nymphs\, and Philopappos (the Hill of the Muses)\, where the layers of ancient Athens’ daily life and history unfold. Highlights include the Sanctuary of the Muses\, the impressive tomb of Prince Philopappos\, the Kimonian Graves\, the church of Agios Dimitrios Loumbardiaris\, the ancient districts of Melite and Koile with their carved rock remains\, the historic Pnyx assembly site\, Meton’s Heliotropion – an ancient observatory – and the so-called “Prison of Socrates.” All these points are beautifully linked by the stone-paved paths of Dimitris Pikionis\, a unique project blending the old and the new\, the past and the present. From here\, sweeping views over the city open up\, leading to the Sina building on the Hill of the Nymphs\, home to Greece’s first research institution: the National Observatory of Athens\, founded in 1842. At the Geoastrophysics Museum\, visitors will learn about the modern history of astronomy in Greece. The walk concludes with a sky observation session through one of the Observatory’s telescopes.
URL:https://cityfestival.thisisathens.org/en/event/from-earth-to-sky/
LOCATION:Agios Dimitrios Loumbardiaris\, Philopappos Hill\, Athens\, Athens\, 117 41\, Greece
CATEGORIES:FREE,OUTDOOR ACTIVITY,TOUR
ATTACH;FMTTYPE=image/jpeg:https://cityfestival.thisisathens.org/wp-content/uploads/2025/05/Sinas_building_day_Papanikolaou.jpg
END:VEVENT
BEGIN:VEVENT
DTSTART;TZID=Europe/Athens:20250515T193000
DTEND;TZID=Europe/Athens:20250515T230000
DTSTAMP:20260420T081900
CREATED:20250327T113505Z
LAST-MODIFIED:20250506T125707Z
UID:10001280-1747337400-1747350000@cityfestival.thisisathens.org
SUMMARY:Midnight Express: Star Trek
DESCRIPTION:Midnight Express is the brainchild of film critic Akis Kapranos\, inspired by a longing for the magical midnight screenings once held at legendary Athens cinemas like Alphaville and Cine Dexameni—a personal mission to bring them back to life.\n\nNow\, Midnight Express steps out of the dark and into the light. In the beautiful garden of the Athens Observatory\, the original Star Trek film returns to the screen—a reminder of bold\, visionary cinema. A chance for older generations to revisit it\, for younger ones to discover it\, and for everyone to share in a truly iconic viewing experience.\n\nBooking required.
URL:https://cityfestival.thisisathens.org/en/event/midnight-express-star-trek/
LOCATION:National Observatory of Athens\, Lofos Nymphon\, Athens\, Athens\, 118 10\, Greece
CATEGORIES:CINEMA,ENTERTAINMENT,FREE
ATTACH;FMTTYPE=image/jpeg:https://cityfestival.thisisathens.org/wp-content/uploads/2023/02/20220519-GMK-AthensCityFestival-Αστεροσκοπείο-011.jpg
END:VEVENT
END:VCALENDAR