BEGIN:VCALENDAR
VERSION:2.0
PRODID:-//This is Athens City Festival - ECPv6.12.0.1//NONSGML v1.0//EN
CALSCALE:GREGORIAN
METHOD:PUBLISH
X-ORIGINAL-URL:https://cityfestival.thisisathens.org/en/
X-WR-CALDESC:Events for This is Athens City Festival
REFRESH-INTERVAL;VALUE=DURATION:PT1H
X-Robots-Tag:noindex
X-PUBLISHED-TTL:PT1H
BEGIN:VTIMEZONE
TZID:Europe/Athens
BEGIN:DAYLIGHT
TZOFFSETFROM:+0200
TZOFFSETTO:+0300
TZNAME:EEST
DTSTART:20250330T010000
END:DAYLIGHT
BEGIN:STANDARD
TZOFFSETFROM:+0300
TZOFFSETTO:+0200
TZNAME:EET
DTSTART:20251026T010000
END:STANDARD
END:VTIMEZONE
BEGIN:VEVENT
DTSTART;TZID=Europe/Athens:20250516T173000
DTEND;TZID=Europe/Athens:20250516T223000
DTSTAMP:20260421T210624
CREATED:20250512T173413Z
LAST-MODIFIED:20250512T185537Z
UID:10003943-1747416600-1747434600@cityfestival.thisisathens.org
SUMMARY:6th Agatha Crime Fiction Festival
DESCRIPTION:The 6th Agatha Crime Fiction Festival is a fact!\n\nThe landmark event for Greek crime fiction returns for the sixth consecutive year to bring together readers\, writers\, and publishers in the great celebration of books.\n\nThe festival’s activities culminate over the three-day period of May 16\, 17\, and 18\, 2025\, at the War Museum (Vasilissis Sofias & Rizari 2\, Athens).\n\nFriday\, May 16th – Rigas Feraios Hall\n\n17:30: Petros Markaris vs Kostas Charitos.\n\nA discussion covering all aspects of the author and the man Petros Markaris\, and his famous hero Kostas Charitos.\n\nSpeakers: Grigoris Azariadis (author\, crime fiction critic)\, Vaso Kyriazakou (translator\, editor).\n\n19:00: Tribute: Romy Hausmann\n\nPresentation and speech by the author\, in collaboration with the ÖSD Institute Greece and Metaichmio Publications.\n\nSpeakers: Vangelis Giannisis (author and translator)\, Klairi Theodorou (author).\n\nThere will be consecutive interpretation at the event by Klairi Theodorou.\n\n20:30: Debate: Classic VS contemporary crime novel\n\nThe Hellenic Association of Crime Fiction Writers (ELSAL) organizes an event that has now become a tradition. On one side of the “ring\,” supporting the “dinosaurs” of crime fiction\, are authors Aliki Aliferi\, Georgia Papalymperi\, and Kostas Stoforos\, while opposite them\, on the side of the “fresher” perspective\, are Tefkros Michaelides\, Tessi Papathanasiou\, and Elena Chousni.\n\nModerated by Erika Athanasiou (author).W
URL:https://cityfestival.thisisathens.org/en/event/6th-crime-fiction-festival/
LOCATION:War Museum\, Rizari 2-4\, Athens\, Athens\, 106 75\, Greece
CATEGORIES:ENTERTAINMENT,LITERATURE
ATTACH;FMTTYPE=image/jpeg:https://cityfestival.thisisathens.org/wp-content/uploads/2025/05/Φεστιβάλ-Αστυνομικής-Λογοτεχνίαςjpg.jpg
END:VEVENT
END:VCALENDAR