BEGIN:VCALENDAR
VERSION:2.0
PRODID:-//This is Athens City Festival - ECPv6.12.0.1//NONSGML v1.0//EN
CALSCALE:GREGORIAN
METHOD:PUBLISH
X-WR-CALNAME:This is Athens City Festival
X-ORIGINAL-URL:https://cityfestival.thisisathens.org/en/
X-WR-CALDESC:Events for This is Athens City Festival
REFRESH-INTERVAL;VALUE=DURATION:PT1H
X-Robots-Tag:noindex
X-PUBLISHED-TTL:PT1H
BEGIN:VTIMEZONE
TZID:Europe/Athens
BEGIN:DAYLIGHT
TZOFFSETFROM:+0200
TZOFFSETTO:+0300
TZNAME:EEST
DTSTART:20250330T010000
END:DAYLIGHT
BEGIN:STANDARD
TZOFFSETFROM:+0300
TZOFFSETTO:+0200
TZNAME:EET
DTSTART:20251026T010000
END:STANDARD
END:VTIMEZONE
BEGIN:VEVENT
DTSTART;TZID=Europe/Athens:20250518T110000
DTEND;TZID=Europe/Athens:20250518T120000
DTSTAMP:20260421T114237
CREATED:20250328T103824Z
LAST-MODIFIED:20250506T124305Z
UID:10003243-1747566000-1747569600@cityfestival.thisisathens.org
SUMMARY:130 Years of the Association of Athenians – Guided Tour of the Athens Museum
DESCRIPTION:This activity is only available in Greek.\nCelebrate International Museum Day with a Free Guided Tour of the Association of Athenians and the Athens MuseumStep inside the “Athens Museum” for a journey through two centuries of the city’s history\, told through family heirlooms and donations from the very people who helped shape Athens. From 19th-century urban life to 20th-century milestones\, the museum’s collections reflect the changing face of the capital. \nThe tour also includes a visit to the historic “Association of Athenians\,” celebrating 130 years of civic engagement and cultural preservation. \nThe guided tour will be led by Elena Gkotsina\, museum curator at the Athens Museum.
URL:https://cityfestival.thisisathens.org/en/event/130-years-association-athenians-guided-tour-athens-museum/
LOCATION:Association of the Athenians\, Kekropos 10\, Athens\, Athens\, 105 58\, Greece
CATEGORIES:EXHIBITION,FREE,MUSEUM,TOUR
ATTACH;FMTTYPE=image/jpeg:https://cityfestival.thisisathens.org/wp-content/uploads/2025/03/PST_3464.jpg
END:VEVENT
BEGIN:VEVENT
DTSTART;TZID=Europe/Athens:20250518T110000
DTEND;TZID=Europe/Athens:20250518T123000
DTSTAMP:20260421T114237
CREATED:20250407T113919Z
LAST-MODIFIED:20250506T124158Z
UID:10003456-1747566000-1747571400@cityfestival.thisisathens.org
SUMMARY:Timothea at the City Dionysia
DESCRIPTION:This activity is only available in Greek.\n\nAn educational activity for primary school children\, inspired by an inscription at the Epigraphic Museum featuring two decrees of the Athenian Assembly (Ekklesia tou Demou). The session will be led by the museum’s archaeologist and visual artist as part of the celebrations for International Museum Day.\n\nThe activity is suitable for children aged 7–11.
URL:https://cityfestival.thisisathens.org/en/event/timothea-at-city-dionysia-5/
LOCATION:Epigraphic Museum\, Tositsa 1\, Athens\, Athens\, 106 82\, Greece
CATEGORIES:FOR KIDS,FREE,MUSEUM
ATTACH;FMTTYPE=image/jpeg:https://cityfestival.thisisathens.org/wp-content/uploads/2025/04/8.jpg
END:VEVENT
BEGIN:VEVENT
DTSTART;TZID=Europe/Athens:20250518T110000
DTEND;TZID=Europe/Athens:20250518T150000
DTSTAMP:20260421T114237
CREATED:20250403T134817Z
LAST-MODIFIED:20250424T150053Z
UID:10003484-1747566000-1747580400@cityfestival.thisisathens.org
SUMMARY:A Day at the Alekos Fassianos Museum
DESCRIPTION:On the occasion of International Museum Day\, the Alekos Fassianos Museum offers free admission to the residents and visitors of the city. The exhibition aims to introduce the breadth of Alekos Fassianos’ work\, featuring pieces from 1954 until the end of the artist’s life. \n\nThe exhibition includes early works from the 1960s\, showcasing his abstract style from his early years in Paris\, works influenced by Byzantine art\, collages\, mixed media\, as well as both less-known and widely recognized paintings that capture Fassianos’ distinctive touch. The Myth of His Neighborhood unfolds through works that depict images and experiences from his childhood in Agios Pavlos\, the neighborhood where he grew up\, and his wanderings through Athens. Heroes from his childhood intertwine with figures from Greek mythology\, creating the timeless hero—the human being. Beyond the paintings\, the exhibition also aims to highlight Fassianos’ multifaceted personality by showcasing handmade objects\, furniture\, lighting\, as well as texts he wrote\, books he illustrated\, and a rich archival collection of his involvement in set design and costume design for Aristophanes’ comedies and Eugène Ionesco’s plays. \n\nThe exhibition is displayed within a handcrafted architectural creation by Kyriakos Krokos\, where every detail\, from the door knobs to the cupboard handles\, the nails in the mirrors\, to the frescoes and mosaic floors\, is curated by Fassianos himself. The Alekos Fassianos Museum holds significant importance for the contemporary artistic and architectural map of Athens\, being one of the few museums in the world where the collaboration between the artist and architect fosters a dialogue between the works and the space that houses them.
URL:https://cityfestival.thisisathens.org/en/event/a-day-at-the-alekos-fassianos-museum/
LOCATION:Alekos Fassianos Museum\, Neofytou Metaxa 15\, Athens\, Athens\, 104 39\, Greece
CATEGORIES:EXHIBITION,FREE,MUSEUM
ATTACH;FMTTYPE=image/jpeg:https://cityfestival.thisisathens.org/wp-content/uploads/2025/04/Leti-Krokou_fassianos2--scaled.jpg
END:VEVENT
BEGIN:VEVENT
DTSTART;TZID=Europe/Athens:20250518T113000
DTEND;TZID=Europe/Athens:20250518T130000
DTSTAMP:20260421T114237
CREATED:20250507T105556Z
LAST-MODIFIED:20250507T115747Z
UID:10003935-1747567800-1747573200@cityfestival.thisisathens.org
SUMMARY:The Stones Speak
DESCRIPTION:This activity is only available in Greek.\n\nScreening of Three Educational Documentaries A screening of three experiential teaching documentaries that use inscriptions displayed at the Museum as a starting point to narrate and dramatise significant events in ancient Greek history: The Birth of Theatre The Decree of Themistocles The Plague in Athens Pre-booking required: Reserve your place by calling the Epigraphic Museum at +30 210 88 47 576 or +30 210 82 32 950 (ext: 203\, 205\, 209)\, Monday to Friday\, 08:00–14:00. Reservations open on 11 May at 12:00 (noon).
URL:https://cityfestival.thisisathens.org/en/event/the-stones-speak/
LOCATION:Epigraphic Museum\, Tositsa 1\, Athens\, Athens\, 106 82\, Greece
CATEGORIES:CINEMA,FREE,MUSEUM
ATTACH;FMTTYPE=image/jpeg:https://cityfestival.thisisathens.org/wp-content/uploads/2025/04/ΣΥΝΑΥΛΙΑ-17.5.25.jpg
END:VEVENT
BEGIN:VEVENT
DTSTART;TZID=Europe/Athens:20250518T120000
DTEND;TZID=Europe/Athens:20250518T130000
DTSTAMP:20260421T114237
CREATED:20250403T135230Z
LAST-MODIFIED:20250424T150157Z
UID:10003485-1747569600-1747573200@cityfestival.thisisathens.org
SUMMARY:Guided Tour of the Alekos Fassianos Museum
DESCRIPTION:This activity is only available in Greek. \n\nAs part of International Museum Day\, the Alekos Fassianos Museum offers a guided tour for 30 people. \n\nThe exhibition aims to introduce the breadth of Alekos Fassianos’ work\, featuring pieces from 1954 until the end of his life. It includes early works from the 1960s\, influenced by abstraction during his early years in Paris\, works inspired by Byzantine art\, collages\, mixed techniques\, as well as both lesser-known and widely recognized paintings showcasing Fassianos’ distinctive touch. The Myth of His Neighborhood unfolds through works depicting images and experiences from his childhood in Agios Pavlos and his wanderings through Athens. Heroes from his childhood merge with figures from Greek mythology\, creating the timeless hero—the human being. Beyond the paintings\, the exhibition also highlights the artist’s multifaceted personality\, showcasing handmade objects\, furniture\, lighting\, as well as texts he wrote\, books he illustrated\, and a rich archive of his involvement in set design and costume design for Aristophanes’ comedies and Eugène Ionesco’s plays. \n\nThe exhibition unfolds in a handcrafted architectural creation by Kyriakos Krokos\, where every detail\, from the door knobs to the cupboard handles\, the nails in the mirrors\, to the frescoes and mosaic floors\, was curated by Fassianos himself. The Alekos Fassianos Museum is of great significance for the contemporary artistic and architectural map of Athens\, as it is one of the few museums in the world where the collaboration between the artist and the architect supports the dialogue between the works and the space that houses them. \n\nMeeting point: Outside the Museum.
URL:https://cityfestival.thisisathens.org/en/event/guided-tour-of-the-alekos-fassianos-museum/
LOCATION:Alekos Fassianos Museum\, Neofytou Metaxa 15\, Athens\, Athens\, 104 39\, Greece
CATEGORIES:EXHIBITION,FREE,MUSEUM,TOUR
ATTACH;FMTTYPE=image/jpeg:https://cityfestival.thisisathens.org/wp-content/uploads/2025/04/OWN-Fassianos_installations.jpg
END:VEVENT
END:VCALENDAR