BEGIN:VCALENDAR
VERSION:2.0
PRODID:-//This is Athens City Festival - ECPv6.12.0.1//NONSGML v1.0//EN
CALSCALE:GREGORIAN
METHOD:PUBLISH
X-ORIGINAL-URL:https://cityfestival.thisisathens.org/en/
X-WR-CALDESC:Events for This is Athens City Festival
REFRESH-INTERVAL;VALUE=DURATION:PT1H
X-Robots-Tag:noindex
X-PUBLISHED-TTL:PT1H
BEGIN:VTIMEZONE
TZID:Europe/Athens
BEGIN:DAYLIGHT
TZOFFSETFROM:+0200
TZOFFSETTO:+0300
TZNAME:EEST
DTSTART:20250330T010000
END:DAYLIGHT
BEGIN:STANDARD
TZOFFSETFROM:+0300
TZOFFSETTO:+0200
TZNAME:EET
DTSTART:20251026T010000
END:STANDARD
END:VTIMEZONE
BEGIN:VEVENT
DTSTART;TZID=Europe/Athens:20250519T100000
DTEND;TZID=Europe/Athens:20250519T180000
DTSTAMP:20260420T094606
CREATED:20250424T102622Z
LAST-MODIFIED:20250424T102622Z
UID:10003807-1747648800-1747677600@cityfestival.thisisathens.org
SUMMARY:CONQUISTADORS
DESCRIPTION:Nikos Kyriakopoulos and his conquistadors disembark on Lenorman Street. \n\nDragons and wild beasts\, locals and conquistadors—and even Death himself—battle deep in untrodden jungles. \n\nThe thirty-six works in this exhibition are not intended to serve History or the historical genre of painting. Instead\, the artist draws his material from the mythos surrounding the Age of Discovery\, crafting images that move beyond naturalism\, both in form and content. Created using monotype\, a technique dating back to the 16th century\, the works gain added resonance when paired with the fantastical stories they depict. The adventures of the characters serve as a point of departure—not only for the adventures of line and colour\, but also for reflection on themes such as desire\, fear\, conflict and illusion. \n\nOpening: Thursday 8 May 2025\, 19:30–23:00 \n\nOpening hours: Monday to Friday: 10:00–18:00 Saturday: 11:00–15:00 Closed on Sunday
URL:https://cityfestival.thisisathens.org/en/event/conquistadors/2025-05-19/
LOCATION:Macart’s Cultural Space\, Lenorman 244\, Athens\, Athens\, 104 43\, Greece
CATEGORIES:ENTERTAINMENT,EXHIBITION,FREE,GALLERY
ATTACH;FMTTYPE=image/jpeg:https://cityfestival.thisisathens.org/wp-content/uploads/2025/04/DSC_7775-1.jpg
END:VEVENT
BEGIN:VEVENT
DTSTART;TZID=Europe/Athens:20250519T113000
DTEND;TZID=Europe/Athens:20250519T203000
DTSTAMP:20260420T094607
CREATED:20250424T085600Z
LAST-MODIFIED:20250506T132520Z
UID:10003765-1747654200-1747686600@cityfestival.thisisathens.org
SUMMARY:Vassilis Papageorgiou - Painting and Sculpture: Lignea Creatura Stans
DESCRIPTION:The worlds of plants\, animals and humans—along with legend\, myth\, imagination and dream—form the basis of Vassilis Papageorgiou’s new artistic exploration. His paradoxical heroes and hand-crafted wooden creatures inhabit both two- and three-dimensional space in a state of perpetual whirling. Through an aesthetic lens\, Papageorgiou reflects on the consequences of humanity’s destructive impact on the natural world. From this meditation\, he generates new values—drawn from the cultural references of nature and tradition—that define the conditions for coexistence. \n\nOpening hours: Monday – Friday: 11:30–14:30 & 17:30–20:30 Saturday: 11:30–15:00
URL:https://cityfestival.thisisathens.org/en/event/vassilis-papageorgiou-painting-lignea-creatura-stans/2025-05-19/
LOCATION:Gallery Ersi\, Kleomenous 4\, Athens\, Athens\, 106 75\, Greece
CATEGORIES:ENTERTAINMENT,EXHIBITION,FREE,GALLERY
ATTACH;FMTTYPE=image/jpeg:https://cityfestival.thisisathens.org/wp-content/uploads/2025/04/ΒΑΣΙΛΗΣ-ΠΑΠΑΓΕΩΡΓΙΟΥΑνάγνωση2023-Λάδι-σε-λινό-160-195-cm.jpg
END:VEVENT
BEGIN:VEVENT
DTSTART;TZID=Europe/Athens:20250519T180000
DTEND;TZID=Europe/Athens:20250519T193000
DTSTAMP:20260420T094607
CREATED:20250423T125507Z
LAST-MODIFIED:20250506T123623Z
UID:10003655-1747677600-1747683000@cityfestival.thisisathens.org
SUMMARY:Apprenticeship Walk: 20 plus 1 Stops
DESCRIPTION:This activity is only availble in Greek. \n\nOfficially designated a historic site\, the National Garden (formerly the Royal Garden) is a calm eye in the storm of central Athens—a space of serenity surrounded by the city’s intensity\, steeped in memory and history. Among the 500 species of plants brought here from around the world under Queen Amalia’s watchful eye\, marble figures wait quietly: Dionysios Solomos\, Aristotle Valaoritis\, Jean Moréas\, Ioannis Kapodistrias and Ioannis Eynard—emblematic figures from an era of visionary leadership in Greece. In this poetic promenade\, writer-director Thodoris Gonis invites audiences to follow the traces of these permanent Garden residents—poets\, politicians\, botanists and engineers—through the documents\, letters and texts that shaped the garden’s story. At its heart is the 20-year-old queen who once dreamt it into being. \n\nConcept & Direction: Thodoris Gonis\n\nDramaturgy: Thodoris Gonis\, Eleni Stroulia\n\nCostumes: Matina Megkla \n\nCast: Eleni Ouzounidou\, Thanasis Dimou\, Roxani Karfi\, Christina Chalkia \n\nMusicians: Paris Kimionis\, Danai Tsironi
URL:https://cityfestival.thisisathens.org/en/event/apprenticeship-walk-20-1-stops-4/
LOCATION:National Garden\, Vas. Amalias 1\, Athens\, Athens\, 105 57\, Greece
CATEGORIES:ENTERTAINMENT,FREE,OUTDOOR ACTIVITY,THEATER,TOUR
ATTACH;FMTTYPE=image/jpeg:https://cityfestival.thisisathens.org/wp-content/uploads/2025/03/IMG_6798-scaled.jpg
END:VEVENT
BEGIN:VEVENT
DTSTART;TZID=Europe/Athens:20250519T203000
DTEND;TZID=Europe/Athens:20250519T230000
DTSTAMP:20260420T094607
CREATED:20250327T104812Z
LAST-MODIFIED:20250414T105314Z
UID:10001255-1747686600-1747695600@cityfestival.thisisathens.org
SUMMARY:Pepper Church Sessions: Hume Assine
DESCRIPTION:The atmospheric Pepper Church Sessions return once again to the This is Athens City Festival\, filling St Paul’s Anglican Church in the city centre with the music of beloved artists.\n\nThis year\, Hume Assine take the stage with their signature blend of keyboards\, samples and vocals\, presenting their new project Athens Blues—a musical journey through the urban stories of the city we call Athens.\n\nEntry by invitation only\, available through Pepper 96.6.
URL:https://cityfestival.thisisathens.org/en/event/pepper-church-sessions-hume-assine/
LOCATION:Saint Paul’s Anglican Church\, Filellinon 27\, Athens\, Athens\, 105 57\, Greece
CATEGORIES:CONCERT,ENTERTAINMENT,FREE
ATTACH;FMTTYPE=image/jpeg:https://cityfestival.thisisathens.org/wp-content/uploads/2025/03/Hume-Assine.jpeg
END:VEVENT
BEGIN:VEVENT
DTSTART;TZID=Europe/Athens:20250519T210000
DTEND;TZID=Europe/Athens:20250519T230000
DTSTAMP:20260420T094607
CREATED:20250512T192819Z
LAST-MODIFIED:20250515T073236Z
UID:10003950-1747688400-1747695600@cityfestival.thisisathens.org
SUMMARY:Dimitri Mystakidis Live
DESCRIPTION:As part of the City of Athens Festival\, on Monday\, May 19th at 21:00\, Ellinikos 93.2 welcomes Dimitri Mystakidis. Alone on stage\, self-analyzes and improvises in a solo experimental performance where the folk guitar intertwines with loops and atmospheric soundscapes. A captivating Encounter full of songs from his discography\, with rebetika and other favorites of his. Some rearranged and some untouched.\n\nA captivating Encounter full of songs from his discography\, with rebetika and other favorites of his\, where the folk guitar intertwines with loops and atmospheric soundscapes!\n\nOn Monday\, May 19th\, at 21:00\, in the courtyard of the National Archaeological Museum of Athens\, Dimitris Mystakidis\, alone on stage\, self-analyzes and improvises in a solo experimental performance!\nA captivating Encounter full of songs from his discography\, with rebetika and other favorites of his.
URL:https://cityfestival.thisisathens.org/en/event/dimitri-mytakidis-live/
LOCATION:National Archaeological Museum\, Patission 44\, Athens\, Athens\, 106 82\, Greece
CATEGORIES:CONCERT,ENTERTAINMENT,OUTDOOR ACTIVITY
ATTACH;FMTTYPE=image/jpeg:https://cityfestival.thisisathens.org/wp-content/uploads/2025/05/900x600-copy-2.jpg
END:VEVENT
END:VCALENDAR