BEGIN:VCALENDAR
VERSION:2.0
PRODID:-//This is Athens City Festival - ECPv6.12.0.1//NONSGML v1.0//EN
CALSCALE:GREGORIAN
METHOD:PUBLISH
X-WR-CALNAME:This is Athens City Festival
X-ORIGINAL-URL:https://cityfestival.thisisathens.org/en/
X-WR-CALDESC:Events for This is Athens City Festival
REFRESH-INTERVAL;VALUE=DURATION:PT1H
X-Robots-Tag:noindex
X-PUBLISHED-TTL:PT1H
BEGIN:VTIMEZONE
TZID:Europe/Athens
BEGIN:DAYLIGHT
TZOFFSETFROM:+0200
TZOFFSETTO:+0300
TZNAME:EEST
DTSTART:20250330T010000
END:DAYLIGHT
BEGIN:STANDARD
TZOFFSETFROM:+0300
TZOFFSETTO:+0200
TZNAME:EET
DTSTART:20251026T010000
END:STANDARD
END:VTIMEZONE
BEGIN:VEVENT
DTSTART;TZID=Europe/Athens:20250520T190000
DTEND;TZID=Europe/Athens:20250520T203000
DTSTAMP:20260419T161006
CREATED:20250327T123045Z
LAST-MODIFIED:20250506T122444Z
UID:10003324-1747767600-1747773000@cityfestival.thisisathens.org
SUMMARY:Fairy Tales in the Square: Taxiarchis Beligiannis - Lida Xydia
DESCRIPTION:This activity is only available in Greek.\n\nOnce upon a time… begins a magical journey! Guided by words and accompanied by music\, we will fly over seas and mountains\, meet brave heroes and wise old women\, and experience incredible adventures. Get ready for an afternoon of storytelling full of imagination!\n\nStorytelling by: Taxiarhis Beligiannis\nMusic by: Lida Xydia
URL:https://cityfestival.thisisathens.org/en/event/fairy-tales-in-the-square-taxiarchis-beligiannis-lida-xydia/
LOCATION:Dexameni Square\, Dexameni Square\, Athens\, Athens\, 106 73\, Greece
CATEGORIES:ENTERTAINMENT,FOR KIDS,FREE,OUTDOOR ACTIVITY
ATTACH;FMTTYPE=image/webp:https://cityfestival.thisisathens.org/wp-content/uploads/2025/03/ταξιάρχης.jpg.webp
END:VEVENT
BEGIN:VEVENT
DTSTART;TZID=Europe/Athens:20250520T200000
DTEND;TZID=Europe/Athens:20250520T213000
DTSTAMP:20260419T161006
CREATED:20250327T132428Z
LAST-MODIFIED:20250513T110115Z
UID:10002439-1747771200-1747776600@cityfestival.thisisathens.org
SUMMARY:Dobrawa Czocher
DESCRIPTION:The Embassy of the Republic of Poland in Athens and  ”This is Athens City Festival” present\, for the first time in Greece\, internationally acclaimed cellist Dobrawa Czocher — performing live in duo for the first time with pianist and synth artist Natalia Czekała. With a long and award-winning career as a soloist\, chamber musician and orchestral performer\, Czocher passionately explores new dimensions of the cello’s sound—masterfully blending classical and contemporary music.\n\nA leading figure of the modern classical scene\, she has released two albums with renowned pianist Hania Rani\, with whom she has toured extensively around the world. She will perform at the Roman Agora in the world premiere of her new duo\, featuring Natalia Czekała on keyboards providing a unique electronic aesthetic.
URL:https://cityfestival.thisisathens.org/en/event/dobrawa-czocher/
LOCATION:Roman Agora of Athens\, Polygnotou 3\, Athens\, Athens\, 105 55\, Greece
CATEGORIES:CONCERT,ENTERTAINMENT,FREE,OUTDOOR ACTIVITY
ATTACH;FMTTYPE=image/webp:https://cityfestival.thisisathens.org/wp-content/uploads/2025/03/dobrawa-czocher-scaled-1.webp
END:VEVENT
END:VCALENDAR