BEGIN:VCALENDAR
VERSION:2.0
PRODID:-//This is Athens City Festival - ECPv6.12.0.1//NONSGML v1.0//EN
CALSCALE:GREGORIAN
METHOD:PUBLISH
X-WR-CALNAME:This is Athens City Festival
X-ORIGINAL-URL:https://cityfestival.thisisathens.org/en/
X-WR-CALDESC:Events for This is Athens City Festival
REFRESH-INTERVAL;VALUE=DURATION:PT1H
X-Robots-Tag:noindex
X-PUBLISHED-TTL:PT1H
BEGIN:VTIMEZONE
TZID:Europe/Athens
BEGIN:DAYLIGHT
TZOFFSETFROM:+0200
TZOFFSETTO:+0300
TZNAME:EEST
DTSTART:20250330T010000
END:DAYLIGHT
BEGIN:STANDARD
TZOFFSETFROM:+0300
TZOFFSETTO:+0200
TZNAME:EET
DTSTART:20251026T010000
END:STANDARD
END:VTIMEZONE
BEGIN:VEVENT
DTSTART;TZID=Europe/Athens:20250521T123000
DTEND;TZID=Europe/Athens:20250521T133000
DTSTAMP:20260421T114241
CREATED:20250423T120611Z
LAST-MODIFIED:20250506T122239Z
UID:10003634-1747830600-1747834200@cityfestival.thisisathens.org
SUMMARY:From the Great to Modern Greece - Part B: The Refugees
DESCRIPTION:This activity is only available in Greek. \n\nA guided tour of the second part of the exhibition “From Great Greece to Modern Greece”\, which traces the completion of the country’s formation in terms of borders and population. The first part\, presented in 2022\, describes the events that led to the stabilization of borders after the end of World War I\, focusing on the Asia Minor Campaign and the collective trauma of the destruction of Smyrna. The second part\, subtitled “The Refugees”\, focuses on the demographic shaping of Greece through population movements over the course of a century. The exhibition is made possible by the exclusive sponsorship of Piraeus Bank. \n\nThis event is aimed at adults.
URL:https://cityfestival.thisisathens.org/en/event/from-the-great-to-modern-greece-part-b-the-refugees/
LOCATION:National Historical Museum\, Stadiou 13\, Athens\, Athens\, 105 61\, Greece
CATEGORIES:EXHIBITION,FREE,MUSEUM,TOUR
ATTACH;FMTTYPE=image/png:https://cityfestival.thisisathens.org/wp-content/uploads/2025/04/OWN-greater-contemporary-greece-2.png
END:VEVENT
BEGIN:VEVENT
DTSTART;TZID=Europe/Athens:20250521T190000
DTEND;TZID=Europe/Athens:20250521T203000
DTSTAMP:20260421T114241
CREATED:20250324T124008Z
LAST-MODIFIED:20250506T122055Z
UID:10001220-1747854000-1747859400@cityfestival.thisisathens.org
SUMMARY:Moving Objects - Seeking Ideas
DESCRIPTION:This activity is only available in Greek.\n\nPoet Ioulita Iliopoulou and the President of the Hellenic Foundation for Books and Culture (ELIVIP)\, Nikios Bakounakis\, will discuss the creation of the Elytis House Museum.
URL:https://cityfestival.thisisathens.org/en/event/moving-objects-seeking-ideas/
LOCATION:Elytis’ House – Museum\, Polygnotou 7\, Athens\, Athens\, 105 55\, Greece
CATEGORIES:FREE,MUSEUM
ATTACH;FMTTYPE=image/jpeg:https://cityfestival.thisisathens.org/wp-content/uploads/2025/03/Elytis.jpg
END:VEVENT
END:VCALENDAR