BEGIN:VCALENDAR
VERSION:2.0
PRODID:-//This is Athens City Festival - ECPv6.12.0.1//NONSGML v1.0//EN
CALSCALE:GREGORIAN
METHOD:PUBLISH
X-ORIGINAL-URL:https://cityfestival.thisisathens.org/en/
X-WR-CALDESC:Events for This is Athens City Festival
REFRESH-INTERVAL;VALUE=DURATION:PT1H
X-Robots-Tag:noindex
X-PUBLISHED-TTL:PT1H
BEGIN:VTIMEZONE
TZID:Europe/Athens
BEGIN:DAYLIGHT
TZOFFSETFROM:+0200
TZOFFSETTO:+0300
TZNAME:EEST
DTSTART:20250330T010000
END:DAYLIGHT
BEGIN:STANDARD
TZOFFSETFROM:+0300
TZOFFSETTO:+0200
TZNAME:EET
DTSTART:20251026T010000
END:STANDARD
END:VTIMEZONE
BEGIN:VEVENT
DTSTART;TZID=Europe/Athens:20250521T100000
DTEND;TZID=Europe/Athens:20250521T180000
DTSTAMP:20260420T111823
CREATED:20250424T102622Z
LAST-MODIFIED:20250424T102622Z
UID:10003809-1747821600-1747850400@cityfestival.thisisathens.org
SUMMARY:CONQUISTADORS
DESCRIPTION:Nikos Kyriakopoulos and his conquistadors disembark on Lenorman Street. \n\nDragons and wild beasts\, locals and conquistadors—and even Death himself—battle deep in untrodden jungles. \n\nThe thirty-six works in this exhibition are not intended to serve History or the historical genre of painting. Instead\, the artist draws his material from the mythos surrounding the Age of Discovery\, crafting images that move beyond naturalism\, both in form and content. Created using monotype\, a technique dating back to the 16th century\, the works gain added resonance when paired with the fantastical stories they depict. The adventures of the characters serve as a point of departure—not only for the adventures of line and colour\, but also for reflection on themes such as desire\, fear\, conflict and illusion. \n\nOpening: Thursday 8 May 2025\, 19:30–23:00 \n\nOpening hours: Monday to Friday: 10:00–18:00 Saturday: 11:00–15:00 Closed on Sunday
URL:https://cityfestival.thisisathens.org/en/event/conquistadors/2025-05-21/
LOCATION:Macart’s Cultural Space\, Lenorman 244\, Athens\, Athens\, 104 43\, Greece
CATEGORIES:ENTERTAINMENT,EXHIBITION,FREE,GALLERY
ATTACH;FMTTYPE=image/jpeg:https://cityfestival.thisisathens.org/wp-content/uploads/2025/04/DSC_7775-1.jpg
END:VEVENT
BEGIN:VEVENT
DTSTART;TZID=Europe/Athens:20250521T113000
DTEND;TZID=Europe/Athens:20250521T203000
DTSTAMP:20260420T111823
CREATED:20250424T085600Z
LAST-MODIFIED:20250506T132520Z
UID:10003767-1747827000-1747859400@cityfestival.thisisathens.org
SUMMARY:Vassilis Papageorgiou - Painting and Sculpture: Lignea Creatura Stans
DESCRIPTION:The worlds of plants\, animals and humans—along with legend\, myth\, imagination and dream—form the basis of Vassilis Papageorgiou’s new artistic exploration. His paradoxical heroes and hand-crafted wooden creatures inhabit both two- and three-dimensional space in a state of perpetual whirling. Through an aesthetic lens\, Papageorgiou reflects on the consequences of humanity’s destructive impact on the natural world. From this meditation\, he generates new values—drawn from the cultural references of nature and tradition—that define the conditions for coexistence. \n\nOpening hours: Monday – Friday: 11:30–14:30 & 17:30–20:30 Saturday: 11:30–15:00
URL:https://cityfestival.thisisathens.org/en/event/vassilis-papageorgiou-painting-lignea-creatura-stans/2025-05-21/
LOCATION:Gallery Ersi\, Kleomenous 4\, Athens\, Athens\, 106 75\, Greece
CATEGORIES:ENTERTAINMENT,EXHIBITION,FREE,GALLERY
ATTACH;FMTTYPE=image/jpeg:https://cityfestival.thisisathens.org/wp-content/uploads/2025/04/ΒΑΣΙΛΗΣ-ΠΑΠΑΓΕΩΡΓΙΟΥΑνάγνωση2023-Λάδι-σε-λινό-160-195-cm.jpg
END:VEVENT
BEGIN:VEVENT
DTSTART;TZID=Europe/Athens:20250521T183000
DTEND;TZID=Europe/Athens:20250521T203000
DTSTAMP:20260420T111823
CREATED:20250422T083409Z
LAST-MODIFIED:20250506T155907Z
UID:10003557-1747852200-1747859400@cityfestival.thisisathens.org
SUMMARY:Fitness Sessions
DESCRIPTION:A chance to get moving in the lush green setting of Eleftherias Park\, where expert trainers and their teams lead sessions focused on health and wellbeing. \n\nAt the Fitness Sessions\, exercise is all about fun—not competition. Yoga\, Pilates and aerobic workouts are adapted to suit all levels\, aiming to inspire a lifestyle of movement and balance.\n\nBring your own mat!
URL:https://cityfestival.thisisathens.org/en/event/fitness-sessions-3/
LOCATION:Eleftherias Park\, Eleftherias Park\, Athens\, Athens\, 115 21\, Greece
CATEGORIES:ENTERTAINMENT,FREE,OUTDOOR ACTIVITY
ATTACH;FMTTYPE=image/png:https://cityfestival.thisisathens.org/wp-content/uploads/2025/03/IMG_0091-2048x1536-1.png
END:VEVENT
BEGIN:VEVENT
DTSTART;TZID=Europe/Athens:20250521T190000
DTEND;TZID=Europe/Athens:20250521T203000
DTSTAMP:20260420T111823
CREATED:20250403T104958Z
LAST-MODIFIED:20250506T121903Z
UID:10003487-1747854000-1747859400@cityfestival.thisisathens.org
SUMMARY:Fairy Tales in the Park: Georgina Konsta - Giannis Psariotis
DESCRIPTION:This activity is only available in Greek. \n\nThis beautiful text evokes a magical\, springtime atmosphere\, weaving the themes of fairy tales with the blossoming life of nature. In English\, we could adapt it like this: “Springtime wonders… with fairy tale patches! A red thread tied within the forest awaits\, ready to meet a blue one\, to begin a fairy tale. The May flowers weave lovely songs\, and everything feels like music\, just like a wonderful life. Fairy tales and spring together\, it’s truly a celebration. Spring and fairy tales always tell the truth\, Everything around us is blooming and the myrtle scents the air. Every word is beautiful with a lovely company. Come sit beside us\, and fall in love with stories! Come join us for tales under the blue Attic sky\, where the light and the scents of spring fill the air and reach everywhere!”.\n\nNarration: Georgina Kosta\nMusic: Giannis Psariotis
URL:https://cityfestival.thisisathens.org/en/event/fairy-tales-in-the-park-georgina-konsta-giannis-psariotis/
LOCATION:Pangrati Grove\, Pangrati Grove\, Athens\, Athens\, 116 35\, Greece
CATEGORIES:ENTERTAINMENT,FOR KIDS,FREE,THEATER
ATTACH;FMTTYPE=image/jpeg:https://cityfestival.thisisathens.org/wp-content/uploads/2025/04/20240512-TiACF-TGR-PolyfonikaXefotaFilopappou-0098-scaled.jpg
END:VEVENT
BEGIN:VEVENT
DTSTART;TZID=Europe/Athens:20250521T200000
DTEND;TZID=Europe/Athens:20250521T210000
DTSTAMP:20260420T111823
CREATED:20250401T123036Z
LAST-MODIFIED:20250512T112314Z
UID:10003260-1747857600-1747861200@cityfestival.thisisathens.org
SUMMARY:Listening to the Young - Iris Groch
DESCRIPTION:The innovative program “Listening to the Young” is a comprehensive initiative supporting emerging classical musicians through concerts\, recordings\, and festivals\, with the goal of introducing young artists to their future audiences. It also aims to host classical music performances in unconventional venues such as ancient theatres and cultural monuments.\n\nThis program is made possible through a collaboration between the Kalogeropoulio Foundation\, the Diazoma Association\, the Athens Concert Hall\, and Third Programme\, and works alongside major cultural institutions in Greece\, such as the State Orchestras of Athens and Thessaloniki\, the Underground Youth Orchestra\, and the This is Athens City Festival. It is supported by Kapetan Vassilis and Carmen Konstantakopoulos Foundation\, Vinci/Olympia Odos\, Athens International Airport\, and the Peloponnese Region.\n\nIris Groch\, an award-winning violinist in the Listening to the Young 2025 competition\, will perform alongside distinguished musicians Eleni Chatziargyrou and Popi Malapani on piano and Asterios Pouftis on cello. The program will feature works by Kreisler\, Ravel\, and Piazzolla.
URL:https://cityfestival.thisisathens.org/en/event/listening-to-the-young-iris-groch/
LOCATION:Athens Univercity Museum\, Tholou 5\, Athens\, Athens\, 105 56\, Greece
CATEGORIES:CONCERT,ENTERTAINMENT,FREE
ATTACH;FMTTYPE=image/jpeg:https://cityfestival.thisisathens.org/wp-content/uploads/2025/04/20230308-DSC05249-scaled.jpeg
END:VEVENT
BEGIN:VEVENT
DTSTART;TZID=Europe/Athens:20250521T200000
DTEND;TZID=Europe/Athens:20250521T230000
DTSTAMP:20260420T111823
CREATED:20250418T160709Z
LAST-MODIFIED:20250506T125129Z
UID:10003546-1747857600-1747868400@cityfestival.thisisathens.org
SUMMARY:3rd Accessible Stand-Up Comedy Festival
DESCRIPTION:This activity is only available in Greek.\nThe Cool Crips return to Technopolis with a double bill of stand-up comedy designed for truly inclusive laughs. Accessible Comedy Nights is not a “special” show—it’s just stand-up as we know it\, only this time\, no one is left out due to lack of accessibility. \nOn 20 & 21 May 2025\, some of Greece’s sharpest comics—Katerina Vrana\, Aristotelis Rigas\, Melina Kollia\, Aristeidis Psylliakos\, Kostas Kryos and Alexandros Titkov—take the stage alongside two emerging disabled performers debuting their acts. \nThe venue is wheelchair accessible and the shows will feature live interpretation in Greek Sign Language\, live Greek surtitles\, and an adapted format that’s friendly to blind audiences. Because comedy belongs to everyone.
URL:https://cityfestival.thisisathens.org/en/event/3rd-accessible-stand-up-comedy-festival-2/
LOCATION:Technopolis City of Athens\, Pireos 100\, Athens\, Athens\, 118 54\, Greece
CATEGORIES:ENTERTAINMENT,THEATER
ATTACH;FMTTYPE=image/webp:https://cityfestival.thisisathens.org/wp-content/uploads/2025/03/20230519-OSF-AthensCityFestival-Hip-Hop-Festival-0055-X3.jpg.webp
END:VEVENT
BEGIN:VEVENT
DTSTART;TZID=Europe/Athens:20250521T203000
DTEND;TZID=Europe/Athens:20250521T223000
DTSTAMP:20260420T111823
CREATED:20250324T120104Z
LAST-MODIFIED:20250424T151640Z
UID:10001216-1747859400-1747866600@cityfestival.thisisathens.org
SUMMARY:Lycabettus Sunset Live Cayetano
DESCRIPTION:Countless concerts—sometimes solo\, sometimes with full bands—legendary DJ sets\, soundtracks for films and theatre\, and collaborations with greats like Bonobo\, Parov Stelar and DJ Krush. That’s just a glimpse of what the name Cayetano stands for: a global music jet setter with an unmistakable sound.\n\nNow Cayetano and his band take to the courtyard of Agios Georgios Lycabettus for a once-in-a-lifetime sunset performance.
URL:https://cityfestival.thisisathens.org/en/event/lycabettus-sunset-live-cayetano/
LOCATION:Church of Saint George of Lycabettus\, Lycabettus Hill\, Athens\, Athens\, 114 71\, Greece
CATEGORIES:CONCERT,ENTERTAINMENT,FREE,OUTDOOR ACTIVITY
ATTACH;FMTTYPE=image/jpeg:https://cityfestival.thisisathens.org/wp-content/uploads/2025/03/Cayetano.jpg
END:VEVENT
END:VCALENDAR