BEGIN:VCALENDAR
VERSION:2.0
PRODID:-//This is Athens City Festival - ECPv6.12.0.1//NONSGML v1.0//EN
CALSCALE:GREGORIAN
METHOD:PUBLISH
X-WR-CALNAME:This is Athens City Festival
X-ORIGINAL-URL:https://cityfestival.thisisathens.org/en/
X-WR-CALDESC:Events for This is Athens City Festival
REFRESH-INTERVAL;VALUE=DURATION:PT1H
X-Robots-Tag:noindex
X-PUBLISHED-TTL:PT1H
BEGIN:VTIMEZONE
TZID:Europe/Athens
BEGIN:DAYLIGHT
TZOFFSETFROM:+0200
TZOFFSETTO:+0300
TZNAME:EEST
DTSTART:20250330T010000
END:DAYLIGHT
BEGIN:STANDARD
TZOFFSETFROM:+0300
TZOFFSETTO:+0200
TZNAME:EET
DTSTART:20251026T010000
END:STANDARD
END:VTIMEZONE
BEGIN:VEVENT
DTSTART;TZID=Europe/Athens:20250522T193000
DTEND;TZID=Europe/Athens:20250522T230000
DTSTAMP:20260426T062023
CREATED:20250321T121438Z
LAST-MODIFIED:20250506T121144Z
UID:10000057-1747942200-1747954800@cityfestival.thisisathens.org
SUMMARY:Midnight Express: Purple Rain
DESCRIPTION:Midnight Express is the brainchild of film critic Akis Kapranos\, born from a deep nostalgia for the magical midnight screenings once held at historic cinemas like Alphaville and Cine Dexameni. His mission? To revive that shared passion for pure cinematic joy—so older generations can reminisce\, younger ones can discover\, and everyone can experience the thrill together.\n\nThis time\, Midnight Express steps out of the theatre and into the open air. In the garden of the Athens Observatory\, it screens Purple Rain—an iconic gem of 1980s pop culture.\n\nBooking required.
URL:https://cityfestival.thisisathens.org/en/event/midnight-express-purple-rain/
LOCATION:National Observatory of Athens\, Lofos Nymphon\, Athens\, Athens\, 118 10\, Greece
CATEGORIES:CINEMA,ENTERTAINMENT,FREE,OUTDOOR ACTIVITY
ATTACH;FMTTYPE=image/jpeg:https://cityfestival.thisisathens.org/wp-content/uploads/2025/03/MV5BMjI3OTYwMDMzOV5BMl5BanBnXkFtZTgwOTY1NDk2ODE@._V1_.jpg
END:VEVENT
END:VCALENDAR