BEGIN:VCALENDAR
VERSION:2.0
PRODID:-//This is Athens City Festival - ECPv6.12.0.1//NONSGML v1.0//EN
CALSCALE:GREGORIAN
METHOD:PUBLISH
X-ORIGINAL-URL:https://cityfestival.thisisathens.org/en/
X-WR-CALDESC:Events for This is Athens City Festival
REFRESH-INTERVAL;VALUE=DURATION:PT1H
X-Robots-Tag:noindex
X-PUBLISHED-TTL:PT1H
BEGIN:VTIMEZONE
TZID:Europe/Athens
BEGIN:DAYLIGHT
TZOFFSETFROM:+0200
TZOFFSETTO:+0300
TZNAME:EEST
DTSTART:20250330T010000
END:DAYLIGHT
BEGIN:STANDARD
TZOFFSETFROM:+0300
TZOFFSETTO:+0200
TZNAME:EET
DTSTART:20251026T010000
END:STANDARD
END:VTIMEZONE
BEGIN:VEVENT
DTSTART;TZID=Europe/Athens:20250522T083000
DTEND;TZID=Europe/Athens:20250522T230000
DTSTAMP:20260420T065521
CREATED:20250514T145350Z
LAST-MODIFIED:20250516T183714Z
UID:10003998-1747902600-1747954800@cityfestival.thisisathens.org
SUMMARY:Algerian Cultural Days
DESCRIPTION:The Algerian Embassy in Greece\, in collaboration with the Municipality of Athens\, is organizing the Algerian Cultural Days on May 21 and 22\, 2025\, in Klafthomnos Square\, at the centre of Athens.\nThe event includes the following activities :\n\n 	Exhibition of Algerian local products.\n 	Exhibition of Algerian artisanal crafts.\n 	Exhibition of Algerian traditional costumes and jewelry.\n 	Exhibition of Algerian gastronomy: traditional delicacies and dishes.\n 	Traditional dances and songs (screening).\n 	Stand dedicated to the “Study in Algeria” platform\, launched by the Algerian Ministry of Higher Education and Scientific Research.\n\nOpening ceremony: May 21\, 2025\, at 11:00 AM
URL:https://cityfestival.thisisathens.org/en/event/algerian-cultural-days/2025-05-22/
LOCATION:Klafthmonos Square\, Klaftmonos Square\, Athens\, Athens\, 105 61\, Greece
CATEGORIES:EXHIBITION,FREE,GASTRONOMY,OUTDOOR ACTIVITY
ATTACH;FMTTYPE=image/jpeg:https://cityfestival.thisisathens.org/wp-content/uploads/2025/05/1000020509.jpg
END:VEVENT
BEGIN:VEVENT
DTSTART;TZID=Europe/Athens:20250522T100000
DTEND;TZID=Europe/Athens:20250522T180000
DTSTAMP:20260420T065521
CREATED:20250424T102622Z
LAST-MODIFIED:20250424T102622Z
UID:10003810-1747908000-1747936800@cityfestival.thisisathens.org
SUMMARY:CONQUISTADORS
DESCRIPTION:Nikos Kyriakopoulos and his conquistadors disembark on Lenorman Street. \n\nDragons and wild beasts\, locals and conquistadors—and even Death himself—battle deep in untrodden jungles. \n\nThe thirty-six works in this exhibition are not intended to serve History or the historical genre of painting. Instead\, the artist draws his material from the mythos surrounding the Age of Discovery\, crafting images that move beyond naturalism\, both in form and content. Created using monotype\, a technique dating back to the 16th century\, the works gain added resonance when paired with the fantastical stories they depict. The adventures of the characters serve as a point of departure—not only for the adventures of line and colour\, but also for reflection on themes such as desire\, fear\, conflict and illusion. \n\nOpening: Thursday 8 May 2025\, 19:30–23:00 \n\nOpening hours: Monday to Friday: 10:00–18:00 Saturday: 11:00–15:00 Closed on Sunday
URL:https://cityfestival.thisisathens.org/en/event/conquistadors/2025-05-22/
LOCATION:Macart’s Cultural Space\, Lenorman 244\, Athens\, Athens\, 104 43\, Greece
CATEGORIES:ENTERTAINMENT,EXHIBITION,FREE,GALLERY
ATTACH;FMTTYPE=image/jpeg:https://cityfestival.thisisathens.org/wp-content/uploads/2025/04/DSC_7775-1.jpg
END:VEVENT
BEGIN:VEVENT
DTSTART;TZID=Europe/Athens:20250522T110000
DTEND;TZID=Europe/Athens:20250522T203000
DTSTAMP:20260420T065521
CREATED:20250506T071617Z
LAST-MODIFIED:20250506T073507Z
UID:10003922-1747911600-1747945800@cityfestival.thisisathens.org
SUMMARY:Giorgos Gyzis: Clippings: Athens
DESCRIPTION:Clippings: Athens presents the third series of paintings inspired by clippings sourced from old newspapers. Photographs\, drawings\, and articles about Athens emerge from the archives\, transformed into visual artworks that evoke emotion. The works on display offer a brief journey through the evolving form of Athens\, beginning with the distinctive sketches by 19th-century British travellers in Attica and culminating in the height of modernism during the 1950s and 60s. \n\nExhibition Opening: Saturday 10 May 2025\, 12:00–17:00 Opening Hours: Tuesday\, Thursday\, Friday: 11:00–14:30 / 17:30–20:30 \n\nWednesday\, Saturday: 11:00–16:00 \n\nClosed Sunday and Monday
URL:https://cityfestival.thisisathens.org/en/event/giorgos-gyzis-clippings-athens/2025-05-22/
LOCATION:Ikastikos Kyklos\, Akadimias 6\, Athens\, Athens\, 106 71\, Greece
CATEGORIES:EXHIBITION,FREE,GALLERY
ATTACH;FMTTYPE=image/jpeg:https://cityfestival.thisisathens.org/wp-content/uploads/2025/05/9817.jpg
END:VEVENT
BEGIN:VEVENT
DTSTART;TZID=Europe/Athens:20250522T113000
DTEND;TZID=Europe/Athens:20250522T203000
DTSTAMP:20260420T065521
CREATED:20250424T085600Z
LAST-MODIFIED:20250506T132520Z
UID:10003768-1747913400-1747945800@cityfestival.thisisathens.org
SUMMARY:Vassilis Papageorgiou - Painting and Sculpture: Lignea Creatura Stans
DESCRIPTION:The worlds of plants\, animals and humans—along with legend\, myth\, imagination and dream—form the basis of Vassilis Papageorgiou’s new artistic exploration. His paradoxical heroes and hand-crafted wooden creatures inhabit both two- and three-dimensional space in a state of perpetual whirling. Through an aesthetic lens\, Papageorgiou reflects on the consequences of humanity’s destructive impact on the natural world. From this meditation\, he generates new values—drawn from the cultural references of nature and tradition—that define the conditions for coexistence. \n\nOpening hours: Monday – Friday: 11:30–14:30 & 17:30–20:30 Saturday: 11:30–15:00
URL:https://cityfestival.thisisathens.org/en/event/vassilis-papageorgiou-painting-lignea-creatura-stans/2025-05-22/
LOCATION:Gallery Ersi\, Kleomenous 4\, Athens\, Athens\, 106 75\, Greece
CATEGORIES:ENTERTAINMENT,EXHIBITION,FREE,GALLERY
ATTACH;FMTTYPE=image/jpeg:https://cityfestival.thisisathens.org/wp-content/uploads/2025/04/ΒΑΣΙΛΗΣ-ΠΑΠΑΓΕΩΡΓΙΟΥΑνάγνωση2023-Λάδι-σε-λινό-160-195-cm.jpg
END:VEVENT
BEGIN:VEVENT
DTSTART;TZID=Europe/Athens:20250522T120000
DTEND;TZID=Europe/Athens:20250522T200000
DTSTAMP:20260420T065521
CREATED:20250424T072048Z
LAST-MODIFIED:20250512T063141Z
UID:10003691-1747915200-1747944000@cityfestival.thisisathens.org
SUMMARY:How to Fit Inside the City
DESCRIPTION:The work of Haris Baskozos is compelling not only for its final forms but also for the sources of inspiration behind them. The artist studied architecture at the National Technical University of Athens and fine arts at the Athens School of Fine Arts. When drawing from his background in architecture\, his work leans toward a rectilinear style that echoes urban planning and evokes a kind of “emotional Mondrian.” In these compositions\, consciousness seems to take the lead. In contrast\, when his fine arts training prevails\, his work shifts towards a freer\, more instinctive expression\, dominated by human-like forms and influenced by art brut\, where the unconscious plays the central role. In both cases\, the final result is not a strict monologue of either approach\, but rather a dialogue—one side mostly leading\, the other echoing through. In this way\, Baskozos offers a fascinating visual argument: the idea of collectivity (the city) tends to be shaped through a more conscious process\, while reflections on individuality (the human being) emerge through the unconscious. \n\nOpening hours: Tuesday\, Thursday\, Friday: 12:00–20:00 Wednesday & Saturday: 12:00–16:00
URL:https://cityfestival.thisisathens.org/en/event/how-to-fit-inside-the-city/2025-05-22/
LOCATION:Athens Gallery7\, Solonos 20\, Athens\, Athens\, 106 73\, Greece
CATEGORIES:EXHIBITION,FREE,GALLERY
ATTACH;FMTTYPE=image/jpeg:https://cityfestival.thisisathens.org/wp-content/uploads/2025/04/athens-gallery7-scaled.jpg
END:VEVENT
BEGIN:VEVENT
DTSTART;TZID=Europe/Athens:20250522T120000
DTEND;TZID=Europe/Athens:20250522T200000
DTSTAMP:20260420T065521
CREATED:20250513T150937Z
LAST-MODIFIED:20250516T182350Z
UID:10003984-1747915200-1747944000@cityfestival.thisisathens.org
SUMMARY:TAKIMI II – Reconnections Contemporary Ceramics Exhibition
DESCRIPTION:The Museum of Modern Greek Ceramics\, in collaboration with the French Institute of Greece\, presents the exhibition TAKIMI II – Reconnections\, featuring works by emerging ceramic artists Olga Vlassi and Auréline Caltagirone. The exhibition showcases pieces created during their 2024 artist residency at the French Lodging in Rhodes\, organised by the French Institute of Greece. Their creations engage in a dialogue with the museum’s permanent collections\, reflecting the myths and ceramic heritage of Rhodes through a contemporary lens. Through their work\, the artists share impressions and personal narratives inspired by their time on the island—reconnecting modern expression with tradition and the historical context that shaped it.\n\nCurated by: Thalassini Bratsou\n\nOpening: Sunday 18 May 2025\, 20:30 \n\nOpening hours: Monday: 12:00–15:00 Tuesday–Thursday: 12:00–20:00 Friday: 12:00–15:00 Saturday: 11:00–14:00
URL:https://cityfestival.thisisathens.org/en/event/takimi-ii-reconnections-contemporary-ceramics-exhibition/2025-05-22/
LOCATION:Pottery Museum\, Melidoni 4-6\, Athens\, Athens\, 105 53\, Greece
CATEGORIES:EXHIBITION,FREE
ATTACH;FMTTYPE=image/jpeg:https://cityfestival.thisisathens.org/wp-content/uploads/2025/05/Residences-Centre-de-ceramique-contemporaine-Rhodes_1300x768.jpg
END:VEVENT
BEGIN:VEVENT
DTSTART;TZID=Europe/Athens:20250522T170000
DTEND;TZID=Europe/Athens:20250522T230000
DTSTAMP:20260420T065521
CREATED:20250401T125004Z
LAST-MODIFIED:20250506T121314Z
UID:10003265-1747933200-1747954800@cityfestival.thisisathens.org
SUMMARY:For303 X Butterfly
DESCRIPTION:Some of Athens’ hottest DJs take over one of the city centre’s most historic spots with back-to-back sets from 17:00 to 23:00. Atsou\, Korrila\, Fotinos\, Dexx and Amelia from For 303 and Butterfly keep the May groove madness of This is Athens going strong.
URL:https://cityfestival.thisisathens.org/en/event/for303-x-butterfly/
LOCATION:Omonia Square\, Omonia Square\, Athens\, Athens\, 104 31\, Greece
CATEGORIES:DJ SET,ENTERTAINMENT,FREE,OUTDOOR ACTIVITY,PARTY
ATTACH;FMTTYPE=image/jpeg:https://cityfestival.thisisathens.org/wp-content/uploads/2025/04/20200617-TGR-Squares-Omonia-0087-scaled.jpg
END:VEVENT
BEGIN:VEVENT
DTSTART;TZID=Europe/Athens:20250522T190000
DTEND;TZID=Europe/Athens:20250522T203000
DTSTAMP:20260420T065521
CREATED:20250327T141352Z
LAST-MODIFIED:20250506T121243Z
UID:10002464-1747940400-1747945800@cityfestival.thisisathens.org
SUMMARY:Fairy Tales in the Square: Susurades
DESCRIPTION:This activity is only available in Greek.\n\nFairy Tales in Primo – Secondo. A narrative performance of fairy tale duets.\n\nDuets that sprout wings and fly\, that weave stories from threads of dreams\, that lull us to sleep with a sugar-sweet slumber on a pillow of silk.\n\nA red thread ties distant places together and weaves two voices\, telling stories both together and one after the other—stories told\, dreamed\, and sung by the people of the world. These stories are told in conversation\, whispered\, sung\, and even with the gestures of hands\, reminding us that a deep wish to fly can move both heaven and earth.
URL:https://cityfestival.thisisathens.org/en/event/fairy-tales-in-the-square-susurades/
LOCATION:Agios Sostis Square\, Agios Sostis Square\, Athens\, Athens\, 117 45\, Greece
CATEGORIES:FOR KIDS,FREE,OUTDOOR ACTIVITY,THEATER
ATTACH;FMTTYPE=image/webp:https://cityfestival.thisisathens.org/wp-content/uploads/2025/03/σουσουράδες-Φώτο-2048x1353.jpg.webp
END:VEVENT
BEGIN:VEVENT
DTSTART;TZID=Europe/Athens:20250522T190000
DTEND;TZID=Europe/Athens:20250522T230000
DTSTAMP:20260420T065521
CREATED:20250327T142501Z
LAST-MODIFIED:20250506T121212Z
UID:10002476-1747940400-1747954800@cityfestival.thisisathens.org
SUMMARY:EMST Rooftop Party
DESCRIPTION:Step into the National Museum of Contemporary Art (EMST) as it opens its doors for you to explore. From morning until late afternoon\, discover the collection of permanent and temporary exhibitions that spark the imagination. As the day draws to a close\, make your way to the museum’s stunning rooftop for a cocktail party\, where you can raise a glass to the city’s beauty while enjoying a panoramic 360° view of Athens and moving to the stunning music choices that the Italian maestro of electronic sounds Glass Coffee has picked for you. They will both leave you speechless.
URL:https://cityfestival.thisisathens.org/en/event/emst-rooftop-party/
LOCATION:National Museum of Contemporary Art\, National Museum of Contemporary Art Αthens (ΕΜΣΤ)\, Athens\, Athens\, 117 43\, Greece
CATEGORIES:DJ SET,ENTERTAINMENT,FREE,MUSEUM
ATTACH;FMTTYPE=image/jpeg:https://cityfestival.thisisathens.org/wp-content/uploads/2025/03/20240530-TiACF-TGR-EMSTParty-0172-scaled.jpg
END:VEVENT
BEGIN:VEVENT
DTSTART;TZID=Europe/Athens:20250522T193000
DTEND;TZID=Europe/Athens:20250522T230000
DTSTAMP:20260420T065521
CREATED:20250321T121438Z
LAST-MODIFIED:20250506T121144Z
UID:10000057-1747942200-1747954800@cityfestival.thisisathens.org
SUMMARY:Midnight Express: Purple Rain
DESCRIPTION:Midnight Express is the brainchild of film critic Akis Kapranos\, born from a deep nostalgia for the magical midnight screenings once held at historic cinemas like Alphaville and Cine Dexameni. His mission? To revive that shared passion for pure cinematic joy—so older generations can reminisce\, younger ones can discover\, and everyone can experience the thrill together.\n\nThis time\, Midnight Express steps out of the theatre and into the open air. In the garden of the Athens Observatory\, it screens Purple Rain—an iconic gem of 1980s pop culture.\n\nBooking required.
URL:https://cityfestival.thisisathens.org/en/event/midnight-express-purple-rain/
LOCATION:National Observatory of Athens\, Lofos Nymphon\, Athens\, Athens\, 118 10\, Greece
CATEGORIES:CINEMA,ENTERTAINMENT,FREE,OUTDOOR ACTIVITY
ATTACH;FMTTYPE=image/jpeg:https://cityfestival.thisisathens.org/wp-content/uploads/2025/03/MV5BMjI3OTYwMDMzOV5BMl5BanBnXkFtZTgwOTY1NDk2ODE@._V1_.jpg
END:VEVENT
BEGIN:VEVENT
DTSTART;TZID=Europe/Athens:20250522T193000
DTEND;TZID=Europe/Athens:20250522T230000
DTSTAMP:20260420T065521
CREATED:20250327T143641Z
LAST-MODIFIED:20250515T111948Z
UID:10003214-1747942200-1747954800@cityfestival.thisisathens.org
SUMMARY:Papazo Live with Voice Radio
DESCRIPTION:Papazó (Vasilis Papazotos) is a singer-songwriter\, music producer\, and doctor. For the past year\, every Sunday\, he has been sharing videos of his renditions of beloved songs from his balcony. Alongside him\, renowned artists join in on a series that quickly went viral through his TikTok channel.\n\nOn May 22\, Papazó returns for an anniversary concert at Dexamenes Square\, bringing along fresh\, beloved artists and presenting unique covers. Penny Baltatzi\, Mirella Pahou\, Nina Mazani\, Billie Kark\, Katerina Lazaridou\, Ody Icons\, and Giannis Margaris promise an unforgettable night of music.
URL:https://cityfestival.thisisathens.org/en/event/voice-radio-live/
LOCATION:Dexameni Square\, Dexameni Square\, Athens\, Athens\, 106 73\, Greece
CATEGORIES:CONCERT,ENTERTAINMENT,FREE,OUTDOOR ACTIVITY
ATTACH;FMTTYPE=image/jpeg:https://cityfestival.thisisathens.org/wp-content/uploads/2025/03/Papazo.jpg
END:VEVENT
BEGIN:VEVENT
DTSTART;TZID=Europe/Athens:20250522T200000
DTEND;TZID=Europe/Athens:20250522T213000
DTSTAMP:20260420T065521
CREATED:20250324T122239Z
LAST-MODIFIED:20250517T194843Z
UID:10001218-1747944000-1747949400@cityfestival.thisisathens.org
SUMMARY:Martha Mavroidi: Cheilanthe
DESCRIPTION:A Celebration of the Voice – 90 Singers in One Performance\n\nComposer\, performer\, and multi-instrumentalist Martha Mavroidi presents an evening dedicated entirely to the human voice. Joined by Anna Linardou\, Tasos Poulios\, Alkmene Basakarou\, Giorgos Nikopoulos\, the Polyphonic Workshop of Rodia\, and vocal ensemble CHÓRES\, she unveils a series of new a cappella works inspired by global musical traditions.\n\nThese compositions explore the voice as a musical instrument in its own right—organic\, resonant\, and profoundly expressive.\n\nFeaturing Angelos Polychronou on percussion.\n\nPhoto: Panos Iliopoulos
URL:https://cityfestival.thisisathens.org/en/event/mavroidi-cheilanthe-fritzila-live/
LOCATION:Mitropoleos Square\, Mitropoleos Square\, Athens\, Athens\, 105 63\, Greece
CATEGORIES:CONCERT,ENTERTAINMENT,FREE,OUTDOOR ACTIVITY
ATTACH;FMTTYPE=image/jpeg:https://cityfestival.thisisathens.org/wp-content/uploads/2025/03/DSC6460.jpg
END:VEVENT
END:VCALENDAR