BEGIN:VCALENDAR
VERSION:2.0
PRODID:-//This is Athens City Festival - ECPv6.12.0.1//NONSGML v1.0//EN
CALSCALE:GREGORIAN
METHOD:PUBLISH
X-WR-CALNAME:This is Athens City Festival
X-ORIGINAL-URL:https://cityfestival.thisisathens.org/en/
X-WR-CALDESC:Events for This is Athens City Festival
REFRESH-INTERVAL;VALUE=DURATION:PT1H
X-Robots-Tag:noindex
X-PUBLISHED-TTL:PT1H
BEGIN:VTIMEZONE
TZID:Europe/Athens
BEGIN:DAYLIGHT
TZOFFSETFROM:+0200
TZOFFSETTO:+0300
TZNAME:EEST
DTSTART:20250330T010000
END:DAYLIGHT
BEGIN:STANDARD
TZOFFSETFROM:+0300
TZOFFSETTO:+0200
TZNAME:EET
DTSTART:20251026T010000
END:STANDARD
END:VTIMEZONE
BEGIN:VEVENT
DTSTART;TZID=Europe/Athens:20250523T180000
DTEND;TZID=Europe/Athens:20250523T200000
DTSTAMP:20260421T123457
CREATED:20250422T121148Z
LAST-MODIFIED:20250506T121005Z
UID:10003607-1748023200-1748030400@cityfestival.thisisathens.org
SUMMARY:Three-Star Architectural Crown: The Neoclassical Trilogy of Athens
DESCRIPTION:This activity is only available in Greek. \n\nArchaeologist and guide Michalis Giohalas leads a tour of the Athenian Trilogy\, in collaboration with the This is Athens City Festival. The University\, the Academy and the Library—an opus magnum by brothers Hans Christian and Theophil Hansen—form Athens’ famed neoclassical trilogy. Described by Alexandros Philadelpheus as “the architectural triple crown of our city\,” these buildings remain an enduring and iconic landmark. In the heart of the urban fabric\, visual and literary references to ancient history and mythology intertwine with the dominant ideologies of the time. In these structures\, the recent past confronts antiquity—mirroring the spirit\, aspirations and ideals of a bygone era.
URL:https://cityfestival.thisisathens.org/en/event/three-star-architectural-crown-the-neoclassical-trilogy-of-athens-3/
LOCATION:Athens Trilogy\, Panepistimiou 39\, Athens\, Athens\, 105 64\, Greece
CATEGORIES:ENTERTAINMENT,FREE,OUTDOOR ACTIVITY,TOUR
ATTACH;FMTTYPE=image/jpeg:https://cityfestival.thisisathens.org/wp-content/uploads/2025/03/ΤΡΙΛΟΓΙΑ-ΜΕΡΟΣ-Β-scaled.jpg
END:VEVENT
END:VCALENDAR