BEGIN:VCALENDAR
VERSION:2.0
PRODID:-//This is Athens City Festival - ECPv6.12.0.1//NONSGML v1.0//EN
CALSCALE:GREGORIAN
METHOD:PUBLISH
X-ORIGINAL-URL:https://cityfestival.thisisathens.org/en/
X-WR-CALDESC:Events for This is Athens City Festival
REFRESH-INTERVAL;VALUE=DURATION:PT1H
X-Robots-Tag:noindex
X-PUBLISHED-TTL:PT1H
BEGIN:VTIMEZONE
TZID:Europe/Athens
BEGIN:DAYLIGHT
TZOFFSETFROM:+0200
TZOFFSETTO:+0300
TZNAME:EEST
DTSTART:20250330T010000
END:DAYLIGHT
BEGIN:STANDARD
TZOFFSETFROM:+0300
TZOFFSETTO:+0200
TZNAME:EET
DTSTART:20251026T010000
END:STANDARD
END:VTIMEZONE
BEGIN:VEVENT
DTSTART;TZID=Europe/Athens:20250523T180000
DTEND;TZID=Europe/Athens:20250523T190000
DTSTAMP:20260421T114606
CREATED:20250328T112723Z
LAST-MODIFIED:20250414T115844Z
UID:10003244-1748023200-1748026800@cityfestival.thisisathens.org
SUMMARY:Discovering Athens Through the Work of Spyros Vassiliou
DESCRIPTION:This activity is only available in Greek. \nPaintings from the archive of Spyros Vasiliou “converse” with exhibits at the Children’s Museum of Athens\, creating an environment that takes us on a journey through early 20th-century Athens.\n\nFamilies with children aged 6-12 are invited to explore the artist’s work\, focusing on the transformations of the urban landscape.
URL:https://cityfestival.thisisathens.org/en/event/discovering-athens-through-work-of-spyros-vassiliou/
LOCATION:Hellenic Children’s Museum\, Vas. Georgiou Β΄ 19\, Athens\, Athens\, 106 75\, Greece
CATEGORIES:FOR KIDS,FREE,MUSEUM
ATTACH;FMTTYPE=image/jpeg:https://cityfestival.thisisathens.org/wp-content/uploads/2025/03/Spryos-Vasiliou.jpg
END:VEVENT
END:VCALENDAR