BEGIN:VCALENDAR
VERSION:2.0
PRODID:-//This is Athens City Festival - ECPv6.12.0.1//NONSGML v1.0//EN
CALSCALE:GREGORIAN
METHOD:PUBLISH
X-ORIGINAL-URL:https://cityfestival.thisisathens.org/en/
X-WR-CALDESC:Events for This is Athens City Festival
REFRESH-INTERVAL;VALUE=DURATION:PT1H
X-Robots-Tag:noindex
X-PUBLISHED-TTL:PT1H
BEGIN:VTIMEZONE
TZID:Europe/Athens
BEGIN:DAYLIGHT
TZOFFSETFROM:+0200
TZOFFSETTO:+0300
TZNAME:EEST
DTSTART:20250330T010000
END:DAYLIGHT
BEGIN:STANDARD
TZOFFSETFROM:+0300
TZOFFSETTO:+0200
TZNAME:EET
DTSTART:20251026T010000
END:STANDARD
END:VTIMEZONE
BEGIN:VEVENT
DTSTART;TZID=Europe/Athens:20250524T103000
DTEND;TZID=Europe/Athens:20250524T113000
DTSTAMP:20260424T102800
CREATED:20250423T124207Z
LAST-MODIFIED:20250506T120805Z
UID:10003647-1748082600-1748086200@cityfestival.thisisathens.org
SUMMARY:Guided Tour at the Elytis House Museum
DESCRIPTION:This activity is only available in Greek. \n\nStep inside the Elytis House Museum\, a neoclassical gem in the heart of Plaka\, and explore the world of Nobel Laureate Odysseas Elytis through a guided tour of its permanent exhibition. Rare manuscripts\, Greek and international editions\, paintings\, personal artefacts\, and the poet’s original writing desk—all housed in the space where he lived and worked for decades—offer an intimate experience of one of Greece’s most iconic literary figures.
URL:https://cityfestival.thisisathens.org/en/event/guided-tour-at-the-elytis-house-museum-2/
LOCATION:Elytis’ House – Museum\, Polygnotou 7\, Athens\, Athens\, 105 55\, Greece
CATEGORIES:EXHIBITION,FREE,LITERATURE,MUSEUM,TOUR
ATTACH;FMTTYPE=image/jpeg:https://cityfestival.thisisathens.org/wp-content/uploads/2025/03/elitis_banner.jpg
END:VEVENT
BEGIN:VEVENT
DTSTART;TZID=Europe/Athens:20250524T110000
DTEND;TZID=Europe/Athens:20250524T120000
DTSTAMP:20260424T102800
CREATED:20250423T122108Z
LAST-MODIFIED:20250506T120713Z
UID:10003639-1748084400-1748088000@cityfestival.thisisathens.org
SUMMARY:Cyprus 74 - Never Forget
DESCRIPTION:This activity is only available in Greek. \n\nA guided tour of the memory exhibition marking the 50th anniversary of the Turkish invasion of Cyprus. Through rare posters from the era and corresponding photographic material\, the exhibition aims to highlight the events of the Cypriot tragedy\, the nationwide solidarity with the people of Cyprus\, and their ongoing struggle for freedom and justice.
URL:https://cityfestival.thisisathens.org/en/event/cyprus-74-never-forget-2/
LOCATION:National Historical Museum\, Stadiou 13\, Athens\, Athens\, 105 61\, Greece
CATEGORIES:EXHIBITION,FREE,MUSEUM,TOUR
ATTACH;FMTTYPE=image/jpeg:https://cityfestival.thisisathens.org/wp-content/uploads/2025/04/ΚΥΠΡΟΣ.jpg
END:VEVENT
BEGIN:VEVENT
DTSTART;TZID=Europe/Athens:20250524T110000
DTEND;TZID=Europe/Athens:20250524T140000
DTSTAMP:20260424T102800
CREATED:20250513T150937Z
LAST-MODIFIED:20250516T182350Z
UID:10003986-1748084400-1748095200@cityfestival.thisisathens.org
SUMMARY:TAKIMI II – Reconnections Contemporary Ceramics Exhibition
DESCRIPTION:The Museum of Modern Greek Ceramics\, in collaboration with the French Institute of Greece\, presents the exhibition TAKIMI II – Reconnections\, featuring works by emerging ceramic artists Olga Vlassi and Auréline Caltagirone. The exhibition showcases pieces created during their 2024 artist residency at the French Lodging in Rhodes\, organised by the French Institute of Greece. Their creations engage in a dialogue with the museum’s permanent collections\, reflecting the myths and ceramic heritage of Rhodes through a contemporary lens. Through their work\, the artists share impressions and personal narratives inspired by their time on the island—reconnecting modern expression with tradition and the historical context that shaped it.\n\nCurated by: Thalassini Bratsou\n\nOpening: Sunday 18 May 2025\, 20:30 \n\nOpening hours: Monday: 12:00–15:00 Tuesday–Thursday: 12:00–20:00 Friday: 12:00–15:00 Saturday: 11:00–14:00
URL:https://cityfestival.thisisathens.org/en/event/takimi-ii-reconnections-contemporary-ceramics-exhibition/2025-05-24/
LOCATION:Pottery Museum\, Melidoni 4-6\, Athens\, Athens\, 105 53\, Greece
CATEGORIES:EXHIBITION,FREE
ATTACH;FMTTYPE=image/jpeg:https://cityfestival.thisisathens.org/wp-content/uploads/2025/05/Residences-Centre-de-ceramique-contemporaine-Rhodes_1300x768.jpg
END:VEVENT
BEGIN:VEVENT
DTSTART;TZID=Europe/Athens:20250524T110000
DTEND;TZID=Europe/Athens:20250524T150000
DTSTAMP:20260424T102800
CREATED:20250424T102622Z
LAST-MODIFIED:20250424T102622Z
UID:10003812-1748084400-1748098800@cityfestival.thisisathens.org
SUMMARY:CONQUISTADORS
DESCRIPTION:Nikos Kyriakopoulos and his conquistadors disembark on Lenorman Street. \n\nDragons and wild beasts\, locals and conquistadors—and even Death himself—battle deep in untrodden jungles. \n\nThe thirty-six works in this exhibition are not intended to serve History or the historical genre of painting. Instead\, the artist draws his material from the mythos surrounding the Age of Discovery\, crafting images that move beyond naturalism\, both in form and content. Created using monotype\, a technique dating back to the 16th century\, the works gain added resonance when paired with the fantastical stories they depict. The adventures of the characters serve as a point of departure—not only for the adventures of line and colour\, but also for reflection on themes such as desire\, fear\, conflict and illusion. \n\nOpening: Thursday 8 May 2025\, 19:30–23:00 \n\nOpening hours: Monday to Friday: 10:00–18:00 Saturday: 11:00–15:00 Closed on Sunday
URL:https://cityfestival.thisisathens.org/en/event/conquistadors/2025-05-24/
LOCATION:Macart’s Cultural Space\, Lenorman 244\, Athens\, Athens\, 104 43\, Greece
CATEGORIES:ENTERTAINMENT,EXHIBITION,FREE,GALLERY
ATTACH;FMTTYPE=image/jpeg:https://cityfestival.thisisathens.org/wp-content/uploads/2025/04/DSC_7775-1.jpg
END:VEVENT
BEGIN:VEVENT
DTSTART;TZID=Europe/Athens:20250524T110000
DTEND;TZID=Europe/Athens:20250524T160000
DTSTAMP:20260424T102800
CREATED:20250506T071617Z
LAST-MODIFIED:20250506T073507Z
UID:10003924-1748084400-1748102400@cityfestival.thisisathens.org
SUMMARY:Giorgos Gyzis: Clippings: Athens
DESCRIPTION:Clippings: Athens presents the third series of paintings inspired by clippings sourced from old newspapers. Photographs\, drawings\, and articles about Athens emerge from the archives\, transformed into visual artworks that evoke emotion. The works on display offer a brief journey through the evolving form of Athens\, beginning with the distinctive sketches by 19th-century British travellers in Attica and culminating in the height of modernism during the 1950s and 60s. \n\nExhibition Opening: Saturday 10 May 2025\, 12:00–17:00 Opening Hours: Tuesday\, Thursday\, Friday: 11:00–14:30 / 17:30–20:30 \n\nWednesday\, Saturday: 11:00–16:00 \n\nClosed Sunday and Monday
URL:https://cityfestival.thisisathens.org/en/event/giorgos-gyzis-clippings-athens/2025-05-24/
LOCATION:Ikastikos Kyklos\, Akadimias 6\, Athens\, Athens\, 106 71\, Greece
CATEGORIES:EXHIBITION,FREE,GALLERY
ATTACH;FMTTYPE=image/jpeg:https://cityfestival.thisisathens.org/wp-content/uploads/2025/05/9817.jpg
END:VEVENT
BEGIN:VEVENT
DTSTART;TZID=Europe/Athens:20250524T113000
DTEND;TZID=Europe/Athens:20250524T150000
DTSTAMP:20260424T102800
CREATED:20250424T085600Z
LAST-MODIFIED:20250506T132520Z
UID:10003770-1748086200-1748098800@cityfestival.thisisathens.org
SUMMARY:Vassilis Papageorgiou - Painting and Sculpture: Lignea Creatura Stans
DESCRIPTION:The worlds of plants\, animals and humans—along with legend\, myth\, imagination and dream—form the basis of Vassilis Papageorgiou’s new artistic exploration. His paradoxical heroes and hand-crafted wooden creatures inhabit both two- and three-dimensional space in a state of perpetual whirling. Through an aesthetic lens\, Papageorgiou reflects on the consequences of humanity’s destructive impact on the natural world. From this meditation\, he generates new values—drawn from the cultural references of nature and tradition—that define the conditions for coexistence. \n\nOpening hours: Monday – Friday: 11:30–14:30 & 17:30–20:30 Saturday: 11:30–15:00
URL:https://cityfestival.thisisathens.org/en/event/vassilis-papageorgiou-painting-lignea-creatura-stans/2025-05-24/
LOCATION:Gallery Ersi\, Kleomenous 4\, Athens\, Athens\, 106 75\, Greece
CATEGORIES:ENTERTAINMENT,EXHIBITION,FREE,GALLERY
ATTACH;FMTTYPE=image/jpeg:https://cityfestival.thisisathens.org/wp-content/uploads/2025/04/ΒΑΣΙΛΗΣ-ΠΑΠΑΓΕΩΡΓΙΟΥΑνάγνωση2023-Λάδι-σε-λινό-160-195-cm.jpg
END:VEVENT
BEGIN:VEVENT
DTSTART;TZID=Europe/Athens:20250524T120000
DTEND;TZID=Europe/Athens:20250524T150000
DTSTAMP:20260424T102800
CREATED:20250424T104023Z
LAST-MODIFIED:20250506T131959Z
UID:10003844-1748088000-1748098800@cityfestival.thisisathens.org
SUMMARY:Vassilis Karakatsanis: Urban Tools
DESCRIPTION:Vassilis Karakatsanis invites us on a journey through the spectrum of contemporary existence—a complex\, ever-evolving interplay of memories\, collective narratives and social dynamics. His exhibition Urban Tools unfolds as a compelling dialogue between past and present\, the personal and the monumental. Seven large-scale paintings\, accompanied by numerous smaller works—created using acrylic\, oil and gouache on canvas—invite a deep exploration of life in all its textures and tones. At the heart of Karakatsanis’ practice lies a transcendent inner process shaped by memory and materiality. The exhibition title hints at the hidden mechanisms that define a place’s essence: the subtle\, often invisible tools that help us navigate\, define and interpret the environments we inhabit—as well as those that shape and compose our very being. The urban landscape is not only his subject matter; it becomes his medium. Each brushstroke reveals the layered relationship between its singularity and the stories it holds. Symbols of personal and collective identity\, ideology and emotion are interwoven into the fabric of daily life. \n\nOpening night: Thursday 8 May 2025\, 20:00 \n\nOpening hours: Tuesday\, Thursday & Friday: 12:00–21:00 Saturday: 12:00–15:00 Closed on Monday\, Wednesday and Sunday
URL:https://cityfestival.thisisathens.org/en/event/vassilis-karakatsanis-urban-tools/2025-05-24/
LOCATION:Genesis Gallery\, Ippokratous 121\, Athens\, Athens\, 114 72\, Greece
CATEGORIES:EXHIBITION,GALLERY
ATTACH;FMTTYPE=image/jpeg:https://cityfestival.thisisathens.org/wp-content/uploads/2025/04/genesis-gallery-Vassilis-Karakatsanis-Urban-Tools-No34-the-drawerssecrets-2024-140X140cm.-acrylic-oil-gouache-on-canvas-scaled.jpg
END:VEVENT
BEGIN:VEVENT
DTSTART;TZID=Europe/Athens:20250524T120000
DTEND;TZID=Europe/Athens:20250524T160000
DTSTAMP:20260424T102800
CREATED:20250424T072048Z
LAST-MODIFIED:20250512T063141Z
UID:10003693-1748088000-1748102400@cityfestival.thisisathens.org
SUMMARY:How to Fit Inside the City
DESCRIPTION:The work of Haris Baskozos is compelling not only for its final forms but also for the sources of inspiration behind them. The artist studied architecture at the National Technical University of Athens and fine arts at the Athens School of Fine Arts. When drawing from his background in architecture\, his work leans toward a rectilinear style that echoes urban planning and evokes a kind of “emotional Mondrian.” In these compositions\, consciousness seems to take the lead. In contrast\, when his fine arts training prevails\, his work shifts towards a freer\, more instinctive expression\, dominated by human-like forms and influenced by art brut\, where the unconscious plays the central role. In both cases\, the final result is not a strict monologue of either approach\, but rather a dialogue—one side mostly leading\, the other echoing through. In this way\, Baskozos offers a fascinating visual argument: the idea of collectivity (the city) tends to be shaped through a more conscious process\, while reflections on individuality (the human being) emerge through the unconscious. \n\nOpening hours: Tuesday\, Thursday\, Friday: 12:00–20:00 Wednesday & Saturday: 12:00–16:00
URL:https://cityfestival.thisisathens.org/en/event/how-to-fit-inside-the-city/2025-05-24/
LOCATION:Athens Gallery7\, Solonos 20\, Athens\, Athens\, 106 73\, Greece
CATEGORIES:EXHIBITION,FREE,GALLERY
ATTACH;FMTTYPE=image/jpeg:https://cityfestival.thisisathens.org/wp-content/uploads/2025/04/athens-gallery7-scaled.jpg
END:VEVENT
BEGIN:VEVENT
DTSTART;TZID=Europe/Athens:20250524T190000
DTEND;TZID=Europe/Athens:20250524T220000
DTSTAMP:20260424T102800
CREATED:20250424T080846Z
LAST-MODIFIED:20250425T122224Z
UID:10003722-1748113200-1748124000@cityfestival.thisisathens.org
SUMMARY:Message in RGB and WHITE
DESCRIPTION:Mosaico Fine Art Studio (Athens) and Mobil Bóde Gallery (Budapest) co-present a mail art exhibition featuring works by Greek and Hungarian artists.\n\nOpening: Saturday\, May 24\, 19:00.\n\nOpening hours: Monday to Friday: 18:00–21:00 Saturday: 11:00–15:00 Closed on Sunday
URL:https://cityfestival.thisisathens.org/en/event/message-in-rgb-white/2025-05-24/
LOCATION:Mosaico Fine Art Studio\, Kesarias 18-20\, Athens\, Athens\, 115 27\, Greece
CATEGORIES:ENTERTAINMENT,EXHIBITION,FREE,GALLERY
ATTACH;FMTTYPE=image/jpeg:https://cityfestival.thisisathens.org/wp-content/uploads/2025/04/mosaico-Eva-Papagianni-scaled.jpg
END:VEVENT
BEGIN:VEVENT
DTSTART;TZID=Europe/Athens:20250524T200000
DTEND;TZID=Europe/Athens:20250524T200000
DTSTAMP:20260424T102800
CREATED:20250424T073639Z
LAST-MODIFIED:20250506T115944Z
UID:10003700-1748116800-1748116800@cityfestival.thisisathens.org
SUMMARY:All of the MOMus–Museum Alex Mylona in One Visit
DESCRIPTION:This activity is only available in Greek. \n\nJoin curator Yannis Bolis for a special guided tour of the MOMus – Museum Alex Mylona\, exploring every part of the museum. Discover the story of the building\, its visionary founder Alex Mylona\, the museum’s collections\, and the temporary exhibition A Cabinet of Curiosities—featuring works by 78 contemporary artists inspired by the unexpected\, the ambiguous\, the enigmatic\, the fantastical and the grotesque. \n\nBooking is required at +30 210 3215717 (Tuesday–Sunday: 10:00–18:00\, Thursday: 10:00–21:00) \n\nReservations open on 17 May at 12:00 noon.
URL:https://cityfestival.thisisathens.org/en/event/all-momus-alex-mylona-mseum-in-one-visit/
LOCATION:MOMus-Museum Alex Mylona\, Agion Asomaton Square 5\, Athens\, Athens\, 105 54\, Greece
CATEGORIES:EXHIBITION,FREE,MUSEUM,TOUR
ATTACH;FMTTYPE=image/jpeg:https://cityfestival.thisisathens.org/wp-content/uploads/2025/04/momusalexmylona_curiosities_photo-Talc-Studio-5-scaled.jpg
END:VEVENT
END:VCALENDAR