BEGIN:VCALENDAR
VERSION:2.0
PRODID:-//This is Athens City Festival - ECPv6.12.0.1//NONSGML v1.0//EN
CALSCALE:GREGORIAN
METHOD:PUBLISH
X-WR-CALNAME:This is Athens City Festival
X-ORIGINAL-URL:https://cityfestival.thisisathens.org/en/
X-WR-CALDESC:Events for This is Athens City Festival
REFRESH-INTERVAL;VALUE=DURATION:PT1H
X-Robots-Tag:noindex
X-PUBLISHED-TTL:PT1H
BEGIN:VTIMEZONE
TZID:Europe/Athens
BEGIN:DAYLIGHT
TZOFFSETFROM:+0200
TZOFFSETTO:+0300
TZNAME:EEST
DTSTART:20250330T010000
END:DAYLIGHT
BEGIN:STANDARD
TZOFFSETFROM:+0300
TZOFFSETTO:+0200
TZNAME:EET
DTSTART:20251026T010000
END:STANDARD
END:VTIMEZONE
BEGIN:VEVENT
DTSTART;TZID=Europe/Athens:20250525T103000
DTEND;TZID=Europe/Athens:20250525T113000
DTSTAMP:20260421T114236
CREATED:20250423T120713Z
LAST-MODIFIED:20250506T115644Z
UID:10003635-1748169000-1748172600@cityfestival.thisisathens.org
SUMMARY:From the Great to Modern Greece - Part B: The Refugees
DESCRIPTION:This activity is only available in Greek. \n\nA guided tour of the second part of the exhibition “From Great Greece to Modern Greece”\, which traces the completion of the country’s formation in terms of borders and population. The first part\, presented in 2022\, describes the events that led to the stabilization of borders after the end of World War I\, focusing on the Asia Minor Campaign and the collective trauma of the destruction of Smyrna. The second part\, subtitled “The Refugees”\, focuses on the demographic shaping of Greece through population movements over the course of a century. The exhibition is made possible by the exclusive sponsorship of Piraeus Bank. \n\nThis event is aimed at adults.
URL:https://cityfestival.thisisathens.org/en/event/from-the-great-to-modern-greece-part-b-the-refugees-2/
LOCATION:National Historical Museum\, Stadiou 13\, Athens\, Athens\, 105 61\, Greece
CATEGORIES:EXHIBITION,FREE,MUSEUM,TOUR
ATTACH;FMTTYPE=image/png:https://cityfestival.thisisathens.org/wp-content/uploads/2025/04/OWN-greater-contemporary-greece-2.png
END:VEVENT
BEGIN:VEVENT
DTSTART;TZID=Europe/Athens:20250525T113000
DTEND;TZID=Europe/Athens:20250525T130000
DTSTAMP:20260421T114236
CREATED:20250401T072126Z
LAST-MODIFIED:20250506T115511Z
UID:10003256-1748172600-1748178000@cityfestival.thisisathens.org
SUMMARY:Educational Program: The Power of the Poster
DESCRIPTION:This activity is only available in Greek.\n\nThe educational program includes a brief tour of the exhibition “Cyprus ’74 – Never Forget”. It focuses on the sources of inspiration for the posters displayed in the exhibition and the process of creating them. As part of the program\, children will have the opportunity to create their own poster using the collage technique.\n\nThis activity is aimed at children aged 6-12.
URL:https://cityfestival.thisisathens.org/en/event/educational-program-the-power-of-the-poster/
LOCATION:National Historical Museum\, Stadiou 13\, Athens\, Athens\, 105 61\, Greece
CATEGORIES:EXHIBITION,FOR KIDS,FREE,MUSEUM
ATTACH;FMTTYPE=image/jpeg:https://cityfestival.thisisathens.org/wp-content/uploads/2023/03/ΕΙΜ-Εξωτ..jpg
END:VEVENT
BEGIN:VEVENT
DTSTART;TZID=Europe/Athens:20250525T120000
DTEND;TZID=Europe/Athens:20250525T130000
DTSTAMP:20260421T114236
CREATED:20250423T115055Z
LAST-MODIFIED:20250423T115959Z
UID:10003631-1748174400-1748178000@cityfestival.thisisathens.org
SUMMARY:Guided Tour of the War Museum for Kids
DESCRIPTION:This activity is only available in Greek. \n\nA tour through Greece’s military history and cultural heritage\, guided by the permanent exhibitions of the War Museum. Young visitors aged 12\, accompanied by an adult\, will have the chance to discover rare artefacts\, historical records and stories from the past that bring history to life.
URL:https://cityfestival.thisisathens.org/en/event/guided-tour-of-the-war-museum-for-kids-2/
LOCATION:War Museum\, Rizari 2-4\, Athens\, Athens\, 106 75\, Greece
CATEGORIES:EXHIBITION,FOR KIDS,FREE,MUSEUM
ATTACH;FMTTYPE=image/jpeg:https://cityfestival.thisisathens.org/wp-content/uploads/2025/03/06-1.jpg
END:VEVENT
BEGIN:VEVENT
DTSTART;TZID=Europe/Athens:20250525T120000
DTEND;TZID=Europe/Athens:20250525T133000
DTSTAMP:20260421T114236
CREATED:20250327T152331Z
LAST-MODIFIED:20250414T095903Z
UID:10003228-1748174400-1748179800@cityfestival.thisisathens.org
SUMMARY:The City of the Future: From the Acropolis to Dubai and Back Again
DESCRIPTION:This activity is only available in Greek.\nWhat did ancient Greek cities look like? And could they have had technologies that echo what we use today? \nThis interactive journey retraces the steps of Heron and Archimedes\, uncovering how ancient Greeks pioneered “green” technologies that served their society and improved urban life. From clever mechanics to sustainable systems\, it’s a story of timeless innovation. \nStarting at the Acropolis and passing through Alexandria\, London\, Singapore and Dubai\, we’ll explore how today’s “city of the future” may have roots in ancient inventions.
URL:https://cityfestival.thisisathens.org/en/event/city-of-the-future-acropolis-to-dubai-back-again/
LOCATION:Museum of the Ancient Greek Technology “Kostas Kotsanas”\, Pindarou 6\, Athens\, Athens\, 106 71\, Greece
CATEGORIES:FOR KIDS,FREE,MUSEUM
ATTACH;FMTTYPE=image/jpeg:https://cityfestival.thisisathens.org/wp-content/uploads/2025/03/OWN-Museums-KotsanasMuseum1.jpg
END:VEVENT
BEGIN:VEVENT
DTSTART;TZID=Europe/Athens:20250525T130000
DTEND;TZID=Europe/Athens:20250525T140000
DTSTAMP:20260421T114236
CREATED:20250418T152717Z
LAST-MODIFIED:20250506T115408Z
UID:10003544-1748178000-1748181600@cityfestival.thisisathens.org
SUMMARY:Guided Tour of the Maria Callas Museum
DESCRIPTION:This activity is only available in Greek. \n\nThe Maria Callas Museum\, as part of the 2025 This is Athens City Festival\, invites you on an exciting journey through the life and art of the opera’s greatest diva! Visitors will have the opportunity to discover the most iconic moments of Maria Callas\, explore unknown aspects of her journey\, and delve into her personality and artistic legacy. With a narrative that brings her story to life\, each guided tour highlights details beyond the exhibition texts\, creating a unique experience tailored to the audience.
URL:https://cityfestival.thisisathens.org/en/event/guided-tour-of-the-maria-callas-museum-2/
LOCATION:Maria Callas Museum\, Mitropoleos 44\, Athens\, Athens\, 105 63\, Greece
CATEGORIES:EXHIBITION,FREE,MUSEUM
ATTACH;FMTTYPE=image/jpeg:https://cityfestival.thisisathens.org/wp-content/uploads/2025/04/General-photo_-Internal-photo-of-the-Museum-1st-floor_Vangelis-Patsialos_Maria-Callas-Museum.jpg
END:VEVENT
BEGIN:VEVENT
DTSTART;TZID=Europe/Athens:20250525T140000
DTEND;TZID=Europe/Athens:20250525T150000
DTSTAMP:20260421T114236
CREATED:20250416T135032Z
LAST-MODIFIED:20250506T114819Z
UID:10003514-1748181600-1748185200@cityfestival.thisisathens.org
SUMMARY:Guided Tour of the War Museum for Adults
DESCRIPTION:This activity is only available in Greek. \n\nExplore Greece’s military history and cultural heritage through a guided tour of the War Museum’s permanent exhibitions. Visitors will encounter rare artefacts\, historical documents and personal stories that shed light on key moments from the country’s past. \n\nThis activity is designed for adults.
URL:https://cityfestival.thisisathens.org/en/event/guided-tour-of-the-war-museum-for-adults-2/
LOCATION:War Museum\, Rizari 2-4\, Athens\, Athens\, 106 75\, Greece
CATEGORIES:EXHIBITION,FREE,MUSEUM,TOUR
ATTACH;FMTTYPE=image/jpeg:https://cityfestival.thisisathens.org/wp-content/uploads/2025/03/02.jpg
END:VEVENT
END:VCALENDAR