BEGIN:VCALENDAR
VERSION:2.0
PRODID:-//This is Athens City Festival - ECPv6.12.0.1//NONSGML v1.0//EN
CALSCALE:GREGORIAN
METHOD:PUBLISH
X-WR-CALNAME:This is Athens City Festival
X-ORIGINAL-URL:https://cityfestival.thisisathens.org/en/
X-WR-CALDESC:Events for This is Athens City Festival
REFRESH-INTERVAL;VALUE=DURATION:PT1H
X-Robots-Tag:noindex
X-PUBLISHED-TTL:PT1H
BEGIN:VTIMEZONE
TZID:Europe/Athens
BEGIN:DAYLIGHT
TZOFFSETFROM:+0200
TZOFFSETTO:+0300
TZNAME:EEST
DTSTART:20250330T010000
END:DAYLIGHT
BEGIN:STANDARD
TZOFFSETFROM:+0300
TZOFFSETTO:+0200
TZNAME:EET
DTSTART:20251026T010000
END:STANDARD
END:VTIMEZONE
BEGIN:VEVENT
DTSTART;TZID=Europe/Athens:20250527T100000
DTEND;TZID=Europe/Athens:20250527T180000
DTSTAMP:20260420T052050
CREATED:20250424T102622Z
LAST-MODIFIED:20250424T102622Z
UID:10003814-1748340000-1748368800@cityfestival.thisisathens.org
SUMMARY:CONQUISTADORS
DESCRIPTION:Nikos Kyriakopoulos and his conquistadors disembark on Lenorman Street. \n\nDragons and wild beasts\, locals and conquistadors—and even Death himself—battle deep in untrodden jungles. \n\nThe thirty-six works in this exhibition are not intended to serve History or the historical genre of painting. Instead\, the artist draws his material from the mythos surrounding the Age of Discovery\, crafting images that move beyond naturalism\, both in form and content. Created using monotype\, a technique dating back to the 16th century\, the works gain added resonance when paired with the fantastical stories they depict. The adventures of the characters serve as a point of departure—not only for the adventures of line and colour\, but also for reflection on themes such as desire\, fear\, conflict and illusion. \n\nOpening: Thursday 8 May 2025\, 19:30–23:00 \n\nOpening hours: Monday to Friday: 10:00–18:00 Saturday: 11:00–15:00 Closed on Sunday
URL:https://cityfestival.thisisathens.org/en/event/conquistadors/2025-05-27/
LOCATION:Macart’s Cultural Space\, Lenorman 244\, Athens\, Athens\, 104 43\, Greece
CATEGORIES:ENTERTAINMENT,EXHIBITION,FREE,GALLERY
ATTACH;FMTTYPE=image/jpeg:https://cityfestival.thisisathens.org/wp-content/uploads/2025/04/DSC_7775-1.jpg
END:VEVENT
BEGIN:VEVENT
DTSTART;TZID=Europe/Athens:20250527T110000
DTEND;TZID=Europe/Athens:20250527T203000
DTSTAMP:20260420T052051
CREATED:20250506T071617Z
LAST-MODIFIED:20250506T073507Z
UID:10003925-1748343600-1748377800@cityfestival.thisisathens.org
SUMMARY:Giorgos Gyzis: Clippings: Athens
DESCRIPTION:Clippings: Athens presents the third series of paintings inspired by clippings sourced from old newspapers. Photographs\, drawings\, and articles about Athens emerge from the archives\, transformed into visual artworks that evoke emotion. The works on display offer a brief journey through the evolving form of Athens\, beginning with the distinctive sketches by 19th-century British travellers in Attica and culminating in the height of modernism during the 1950s and 60s. \n\nExhibition Opening: Saturday 10 May 2025\, 12:00–17:00 Opening Hours: Tuesday\, Thursday\, Friday: 11:00–14:30 / 17:30–20:30 \n\nWednesday\, Saturday: 11:00–16:00 \n\nClosed Sunday and Monday
URL:https://cityfestival.thisisathens.org/en/event/giorgos-gyzis-clippings-athens/2025-05-27/
LOCATION:Ikastikos Kyklos\, Akadimias 6\, Athens\, Athens\, 106 71\, Greece
CATEGORIES:EXHIBITION,FREE,GALLERY
ATTACH;FMTTYPE=image/jpeg:https://cityfestival.thisisathens.org/wp-content/uploads/2025/05/9817.jpg
END:VEVENT
BEGIN:VEVENT
DTSTART;TZID=Europe/Athens:20250527T113000
DTEND;TZID=Europe/Athens:20250527T203000
DTSTAMP:20260420T052051
CREATED:20250424T085600Z
LAST-MODIFIED:20250506T132520Z
UID:10003772-1748345400-1748377800@cityfestival.thisisathens.org
SUMMARY:Vassilis Papageorgiou - Painting and Sculpture: Lignea Creatura Stans
DESCRIPTION:The worlds of plants\, animals and humans—along with legend\, myth\, imagination and dream—form the basis of Vassilis Papageorgiou’s new artistic exploration. His paradoxical heroes and hand-crafted wooden creatures inhabit both two- and three-dimensional space in a state of perpetual whirling. Through an aesthetic lens\, Papageorgiou reflects on the consequences of humanity’s destructive impact on the natural world. From this meditation\, he generates new values—drawn from the cultural references of nature and tradition—that define the conditions for coexistence. \n\nOpening hours: Monday – Friday: 11:30–14:30 & 17:30–20:30 Saturday: 11:30–15:00
URL:https://cityfestival.thisisathens.org/en/event/vassilis-papageorgiou-painting-lignea-creatura-stans/2025-05-27/
LOCATION:Gallery Ersi\, Kleomenous 4\, Athens\, Athens\, 106 75\, Greece
CATEGORIES:ENTERTAINMENT,EXHIBITION,FREE,GALLERY
ATTACH;FMTTYPE=image/jpeg:https://cityfestival.thisisathens.org/wp-content/uploads/2025/04/ΒΑΣΙΛΗΣ-ΠΑΠΑΓΕΩΡΓΙΟΥΑνάγνωση2023-Λάδι-σε-λινό-160-195-cm.jpg
END:VEVENT
BEGIN:VEVENT
DTSTART;TZID=Europe/Athens:20250527T120000
DTEND;TZID=Europe/Athens:20250527T200000
DTSTAMP:20260420T052051
CREATED:20250424T072048Z
LAST-MODIFIED:20250512T063141Z
UID:10003694-1748347200-1748376000@cityfestival.thisisathens.org
SUMMARY:How to Fit Inside the City
DESCRIPTION:The work of Haris Baskozos is compelling not only for its final forms but also for the sources of inspiration behind them. The artist studied architecture at the National Technical University of Athens and fine arts at the Athens School of Fine Arts. When drawing from his background in architecture\, his work leans toward a rectilinear style that echoes urban planning and evokes a kind of “emotional Mondrian.” In these compositions\, consciousness seems to take the lead. In contrast\, when his fine arts training prevails\, his work shifts towards a freer\, more instinctive expression\, dominated by human-like forms and influenced by art brut\, where the unconscious plays the central role. In both cases\, the final result is not a strict monologue of either approach\, but rather a dialogue—one side mostly leading\, the other echoing through. In this way\, Baskozos offers a fascinating visual argument: the idea of collectivity (the city) tends to be shaped through a more conscious process\, while reflections on individuality (the human being) emerge through the unconscious. \n\nOpening hours: Tuesday\, Thursday\, Friday: 12:00–20:00 Wednesday & Saturday: 12:00–16:00
URL:https://cityfestival.thisisathens.org/en/event/how-to-fit-inside-the-city/2025-05-27/
LOCATION:Athens Gallery7\, Solonos 20\, Athens\, Athens\, 106 73\, Greece
CATEGORIES:EXHIBITION,FREE,GALLERY
ATTACH;FMTTYPE=image/jpeg:https://cityfestival.thisisathens.org/wp-content/uploads/2025/04/athens-gallery7-scaled.jpg
END:VEVENT
BEGIN:VEVENT
DTSTART;TZID=Europe/Athens:20250527T120000
DTEND;TZID=Europe/Athens:20250527T200000
DTSTAMP:20260420T052051
CREATED:20250513T150937Z
LAST-MODIFIED:20250516T182350Z
UID:10003988-1748347200-1748376000@cityfestival.thisisathens.org
SUMMARY:TAKIMI II – Reconnections Contemporary Ceramics Exhibition
DESCRIPTION:The Museum of Modern Greek Ceramics\, in collaboration with the French Institute of Greece\, presents the exhibition TAKIMI II – Reconnections\, featuring works by emerging ceramic artists Olga Vlassi and Auréline Caltagirone. The exhibition showcases pieces created during their 2024 artist residency at the French Lodging in Rhodes\, organised by the French Institute of Greece. Their creations engage in a dialogue with the museum’s permanent collections\, reflecting the myths and ceramic heritage of Rhodes through a contemporary lens. Through their work\, the artists share impressions and personal narratives inspired by their time on the island—reconnecting modern expression with tradition and the historical context that shaped it.\n\nCurated by: Thalassini Bratsou\n\nOpening: Sunday 18 May 2025\, 20:30 \n\nOpening hours: Monday: 12:00–15:00 Tuesday–Thursday: 12:00–20:00 Friday: 12:00–15:00 Saturday: 11:00–14:00
URL:https://cityfestival.thisisathens.org/en/event/takimi-ii-reconnections-contemporary-ceramics-exhibition/2025-05-27/
LOCATION:Pottery Museum\, Melidoni 4-6\, Athens\, Athens\, 105 53\, Greece
CATEGORIES:EXHIBITION,FREE
ATTACH;FMTTYPE=image/jpeg:https://cityfestival.thisisathens.org/wp-content/uploads/2025/05/Residences-Centre-de-ceramique-contemporaine-Rhodes_1300x768.jpg
END:VEVENT
BEGIN:VEVENT
DTSTART;TZID=Europe/Athens:20250527T150000
DTEND;TZID=Europe/Athens:20250527T230000
DTSTAMP:20260420T052051
CREATED:20250404T112941Z
LAST-MODIFIED:20250524T140212Z
UID:10003405-1748358000-1748386800@cityfestival.thisisathens.org
SUMMARY:Athens Cocktails
DESCRIPTION:We mix delicious\, easygoing cocktails\, curate top dance-friendly tunes\, and choose a unique setting to bring it all together. The result? A springtime afternoon that feels like the ultimate feel-good get-together.
URL:https://cityfestival.thisisathens.org/en/event/athens-cocktails-2/
LOCATION:Thisseos Square\, Thisseos Square\, Athens\, Athens\, 118 51\, Greece
CATEGORIES:DJ SET,ENTERTAINMENT,FREE,GASTRONOMY,OUTDOOR ACTIVITY,PARTY
ATTACH;FMTTYPE=image/jpeg:https://cityfestival.thisisathens.org/wp-content/uploads/2025/04/Untitled-3.jpg
GEO:37.976916497452;23.7206739132
X-APPLE-STRUCTURED-LOCATION;VALUE=URI;X-ADDRESS=Thisseos Square Thisseos Square Athens Athens 118 51 Greece;X-APPLE-RADIUS=500;X-TITLE=Thisseos Square:geo:23.7206739132,37.976916497452
END:VEVENT
BEGIN:VEVENT
DTSTART;TZID=Europe/Athens:20250527T180000
DTEND;TZID=Europe/Athens:20250527T210000
DTSTAMP:20260420T052051
CREATED:20250424T080846Z
LAST-MODIFIED:20250425T122224Z
UID:10003724-1748368800-1748379600@cityfestival.thisisathens.org
SUMMARY:Message in RGB and WHITE
DESCRIPTION:Mosaico Fine Art Studio (Athens) and Mobil Bóde Gallery (Budapest) co-present a mail art exhibition featuring works by Greek and Hungarian artists.\n\nOpening: Saturday\, May 24\, 19:00.\n\nOpening hours: Monday to Friday: 18:00–21:00 Saturday: 11:00–15:00 Closed on Sunday
URL:https://cityfestival.thisisathens.org/en/event/message-in-rgb-white/2025-05-27/
LOCATION:Mosaico Fine Art Studio\, Kesarias 18-20\, Athens\, Athens\, 115 27\, Greece
CATEGORIES:ENTERTAINMENT,EXHIBITION,FREE,GALLERY
ATTACH;FMTTYPE=image/jpeg:https://cityfestival.thisisathens.org/wp-content/uploads/2025/04/mosaico-Eva-Papagianni-scaled.jpg
END:VEVENT
BEGIN:VEVENT
DTSTART;TZID=Europe/Athens:20250527T190000
DTEND;TZID=Europe/Athens:20250527T203000
DTSTAMP:20260420T052051
CREATED:20250327T135157Z
LAST-MODIFIED:20250518T092838Z
UID:10002457-1748372400-1748377800@cityfestival.thisisathens.org
SUMMARY:Fairy Tales in the Square: Tatiana Fragkoulia - Lida Xydia
DESCRIPTION:This activity is only available in Greek.\n\nFairy tales\, tales and more tales\, with beans and peas and all the delights of the earth…\n\nBut also the salt\, the pepper\, the lemon\, the sugar\, and all the spices of the earth fill the stories we will tell with their deliciousness and fragrance. Come and listen to the story of the girl who couldn’t eat without lemon\, the king whose daughter loved him like salt\, the princess who married a man made of semolina\, the girl who fed the prince Sleep with boiled chickpeas\, Nasreddin Hodja who received baklava as a gift\, and the vizier who yearned with all his heart to taste a pistachio loukoumi. All of them are fairy tales so delicious you’ll lick your fingers and enjoy with your whole heart all the flavors of life!
URL:https://cityfestival.thisisathens.org/en/event/fairy-tales-in-the-square-tatiana-fragkoulia-lida-xydia/
LOCATION:Kalliga Square\, Kalliga Square\, Athens\, Athens\, 112 53\, Greece
CATEGORIES:ENTERTAINMENT,FOR KIDS,FREE,OUTDOOR ACTIVITY
ATTACH;FMTTYPE=image/jpeg:https://cityfestival.thisisathens.org/wp-content/uploads/2025/03/230501-GMK-Athens_Urban_Picnic_17-scaled.jpg
END:VEVENT
BEGIN:VEVENT
DTSTART;TZID=Europe/Athens:20250527T200000
DTEND;TZID=Europe/Athens:20250527T230000
DTSTAMP:20260420T052051
CREATED:20250422T110132Z
LAST-MODIFIED:20250527T153316Z
UID:10003603-1748376000-1748386800@cityfestival.thisisathens.org
SUMMARY:Greek Cinema Nights
DESCRIPTION:The city’s summer cinema pops up at Eleftherias Park. Under the stars\, on the grass\, a colourful crowd gathers for four nights of open-air screenings—ready to be transported by the magic of the big screen and the very best of contemporary Greek cinema.\n\nMay 26: Buzzheart\nMay 27: The Summer with Carmen\nJune 1: Stella\nJune 1: Mythopathy
URL:https://cityfestival.thisisathens.org/en/event/greek-cinema-nights-2/
LOCATION:Eleftherias Park\, Eleftherias Park\, Athens\, Athens\, 115 21\, Greece
CATEGORIES:CINEMA,ENTERTAINMENT,FREE
ATTACH;FMTTYPE=image/jpeg:https://cityfestival.thisisathens.org/wp-content/uploads/2023/02/20220526-OSF-AthensCityFestival-CinemaNights-0030.jpg
END:VEVENT
END:VCALENDAR