BEGIN:VCALENDAR
VERSION:2.0
PRODID:-//This is Athens City Festival - ECPv6.12.0.1//NONSGML v1.0//EN
CALSCALE:GREGORIAN
METHOD:PUBLISH
X-ORIGINAL-URL:https://cityfestival.thisisathens.org/en/
X-WR-CALDESC:Events for This is Athens City Festival
REFRESH-INTERVAL;VALUE=DURATION:PT1H
X-Robots-Tag:noindex
X-PUBLISHED-TTL:PT1H
BEGIN:VTIMEZONE
TZID:Europe/Athens
BEGIN:DAYLIGHT
TZOFFSETFROM:+0200
TZOFFSETTO:+0300
TZNAME:EEST
DTSTART:20250330T010000
END:DAYLIGHT
BEGIN:STANDARD
TZOFFSETFROM:+0300
TZOFFSETTO:+0200
TZNAME:EET
DTSTART:20251026T010000
END:STANDARD
END:VTIMEZONE
BEGIN:VEVENT
DTSTART;TZID=Europe/Athens:20250528T100000
DTEND;TZID=Europe/Athens:20250528T180000
DTSTAMP:20260420T111942
CREATED:20250424T102622Z
LAST-MODIFIED:20250424T102622Z
UID:10003815-1748426400-1748455200@cityfestival.thisisathens.org
SUMMARY:CONQUISTADORS
DESCRIPTION:Nikos Kyriakopoulos and his conquistadors disembark on Lenorman Street. \n\nDragons and wild beasts\, locals and conquistadors—and even Death himself—battle deep in untrodden jungles. \n\nThe thirty-six works in this exhibition are not intended to serve History or the historical genre of painting. Instead\, the artist draws his material from the mythos surrounding the Age of Discovery\, crafting images that move beyond naturalism\, both in form and content. Created using monotype\, a technique dating back to the 16th century\, the works gain added resonance when paired with the fantastical stories they depict. The adventures of the characters serve as a point of departure—not only for the adventures of line and colour\, but also for reflection on themes such as desire\, fear\, conflict and illusion. \n\nOpening: Thursday 8 May 2025\, 19:30–23:00 \n\nOpening hours: Monday to Friday: 10:00–18:00 Saturday: 11:00–15:00 Closed on Sunday
URL:https://cityfestival.thisisathens.org/en/event/conquistadors/2025-05-28/
LOCATION:Macart’s Cultural Space\, Lenorman 244\, Athens\, Athens\, 104 43\, Greece
CATEGORIES:ENTERTAINMENT,EXHIBITION,FREE,GALLERY
ATTACH;FMTTYPE=image/jpeg:https://cityfestival.thisisathens.org/wp-content/uploads/2025/04/DSC_7775-1.jpg
END:VEVENT
BEGIN:VEVENT
DTSTART;TZID=Europe/Athens:20250528T113000
DTEND;TZID=Europe/Athens:20250528T203000
DTSTAMP:20260420T111942
CREATED:20250424T085600Z
LAST-MODIFIED:20250506T132520Z
UID:10003773-1748431800-1748464200@cityfestival.thisisathens.org
SUMMARY:Vassilis Papageorgiou - Painting and Sculpture: Lignea Creatura Stans
DESCRIPTION:The worlds of plants\, animals and humans—along with legend\, myth\, imagination and dream—form the basis of Vassilis Papageorgiou’s new artistic exploration. His paradoxical heroes and hand-crafted wooden creatures inhabit both two- and three-dimensional space in a state of perpetual whirling. Through an aesthetic lens\, Papageorgiou reflects on the consequences of humanity’s destructive impact on the natural world. From this meditation\, he generates new values—drawn from the cultural references of nature and tradition—that define the conditions for coexistence. \n\nOpening hours: Monday – Friday: 11:30–14:30 & 17:30–20:30 Saturday: 11:30–15:00
URL:https://cityfestival.thisisathens.org/en/event/vassilis-papageorgiou-painting-lignea-creatura-stans/2025-05-28/
LOCATION:Gallery Ersi\, Kleomenous 4\, Athens\, Athens\, 106 75\, Greece
CATEGORIES:ENTERTAINMENT,EXHIBITION,FREE,GALLERY
ATTACH;FMTTYPE=image/jpeg:https://cityfestival.thisisathens.org/wp-content/uploads/2025/04/ΒΑΣΙΛΗΣ-ΠΑΠΑΓΕΩΡΓΙΟΥΑνάγνωση2023-Λάδι-σε-λινό-160-195-cm.jpg
END:VEVENT
BEGIN:VEVENT
DTSTART;TZID=Europe/Athens:20250528T180000
DTEND;TZID=Europe/Athens:20250528T210000
DTSTAMP:20260420T111943
CREATED:20250424T080846Z
LAST-MODIFIED:20250425T122224Z
UID:10003725-1748455200-1748466000@cityfestival.thisisathens.org
SUMMARY:Message in RGB and WHITE
DESCRIPTION:Mosaico Fine Art Studio (Athens) and Mobil Bóde Gallery (Budapest) co-present a mail art exhibition featuring works by Greek and Hungarian artists.\n\nOpening: Saturday\, May 24\, 19:00.\n\nOpening hours: Monday to Friday: 18:00–21:00 Saturday: 11:00–15:00 Closed on Sunday
URL:https://cityfestival.thisisathens.org/en/event/message-in-rgb-white/2025-05-28/
LOCATION:Mosaico Fine Art Studio\, Kesarias 18-20\, Athens\, Athens\, 115 27\, Greece
CATEGORIES:ENTERTAINMENT,EXHIBITION,FREE,GALLERY
ATTACH;FMTTYPE=image/jpeg:https://cityfestival.thisisathens.org/wp-content/uploads/2025/04/mosaico-Eva-Papagianni-scaled.jpg
END:VEVENT
BEGIN:VEVENT
DTSTART;TZID=Europe/Athens:20250528T190000
DTEND;TZID=Europe/Athens:20250528T203000
DTSTAMP:20260420T111943
CREATED:20250327T110643Z
LAST-MODIFIED:20250506T114003Z
UID:10001264-1748458800-1748464200@cityfestival.thisisathens.org
SUMMARY:Fairy Tales in the Square: Taxiarchis Beligiannis - Maria Ploumi
DESCRIPTION:This activity is only available in Greek.\n\nFairy Tales for Fearless Kids!\n\nWho doesn’t love a good adventure story? Heroes who fear nothing\, children who face dragons\, and little fearless friends who can do anything! With music and storytelling\, get ready for fairy tales that will give you strength and courage!\n\nStorytelling by: Taxiarhis Beligiannis\nMusic by: Maria Ploumi
URL:https://cityfestival.thisisathens.org/en/event/fairy-tales-in-the-square-taxiarchis-beligiannis-maria-ploumi/
LOCATION:Pangrati Grove\, Pangrati Grove\, Athens\, Athens\, 116 35\, Greece
CATEGORIES:ENTERTAINMENT,FOR KIDS,FREE,OUTDOOR ACTIVITY
ATTACH;FMTTYPE=image/jpeg:https://cityfestival.thisisathens.org/wp-content/uploads/2025/03/230501-GMK-Athens_Urban_Picnic_15-scaled.jpg
END:VEVENT
BEGIN:VEVENT
DTSTART;TZID=Europe/Athens:20250528T200000
DTEND;TZID=Europe/Athens:20250528T230000
DTSTAMP:20260420T111943
CREATED:20250404T134520Z
LAST-MODIFIED:20250506T113917Z
UID:10003356-1748462400-1748473200@cityfestival.thisisathens.org
SUMMARY:Antonia Kaouri Live
DESCRIPTION:One of the most enigmatic figures in the new Greek music scene\, Antonia Kauri captivated audiences on The Voice with her seductive voice and later mesmerised them as the opening act at the sold-out Coldplay concerts. Now\, at the This is Athens City Festival\, she takes the stage at the Athens Municipality Art Gallery—a building with decades of history and a cultural hub for the city—for a live performance filled with mystery and electronic sounds that promise to surprise us.
URL:https://cityfestival.thisisathens.org/en/event/antonia-kaouri-live/
LOCATION:The City of Athens Gallery\, Municipal Gallery of Athens\, Athens\, Athens\, 104 36\, Greece
CATEGORIES:CONCERT,ENTERTAINMENT,FREE,OUTDOOR ACTIVITY
ATTACH;FMTTYPE=image/png:https://cityfestival.thisisathens.org/wp-content/uploads/2025/04/Στιγμιότυπο-οθόνης-2024-06-08-134630-1024x573-1.png
END:VEVENT
BEGIN:VEVENT
DTSTART;TZID=Europe/Athens:20250528T200000
DTEND;TZID=Europe/Athens:20250528T233000
DTSTAMP:20260420T111943
CREATED:20250422T100610Z
LAST-MODIFIED:20250422T101426Z
UID:10003582-1748462400-1748475000@cityfestival.thisisathens.org
SUMMARY:Hispanic Film Festival at Aello
DESCRIPTION:The best of Spanish-language cinema takes over Athens for an entire week in May. Visionary directors\, acclaimed actors and celebrated screenwriters bring a breath of Spain\, Chile\, Argentina\, Cuba and other beloved Spanish-speaking countries to the big screen.
URL:https://cityfestival.thisisathens.org/en/event/hispanic-film-festival-at-aello-3/
LOCATION:Open Air Cinema “Aello”\, Patission 140\, Athens\, Athens\, 112 57\, Greece
CATEGORIES:CINEMA,ENTERTAINMENT
ATTACH;FMTTYPE=image/jpeg:https://cityfestival.thisisathens.org/wp-content/uploads/2025/04/20230531-OSF-AthensCityFestival-Ispanofono_Cinema-0002-scaled.jpg
END:VEVENT
BEGIN:VEVENT
DTSTART;TZID=Europe/Athens:20250528T200000
DTEND;TZID=Europe/Athens:20250528T233000
DTSTAMP:20260420T111943
CREATED:20250422T104549Z
LAST-MODIFIED:20250422T105146Z
UID:10003594-1748462400-1748475000@cityfestival.thisisathens.org
SUMMARY:Hispanic Film Festival at Ellinis
DESCRIPTION:A full week in May is dedicated to the highlights of Spanish-language cinema. Groundbreaking directors\, renowned actors and celebrated screenwriters bring to Athens the spirit of Spain\, Chile\, Argentina\, Cuba and other beloved Spanish-speaking countries—through stories that captivate\, move and inspire.
URL:https://cityfestival.thisisathens.org/en/event/hispanic-film-festival-at-ellinis-3/
LOCATION:Open Air Cinema “Ellinis”\, Leof. Kifissias 29\, Athens\, Athens\, 115 23\, Greece
CATEGORIES:CINEMA,ENTERTAINMENT
ATTACH;FMTTYPE=image/jpeg:https://cityfestival.thisisathens.org/wp-content/uploads/2025/03/20230531-OSF-AthensCityFestival-Ispanofono_Cinema-0006-scaled.jpg
END:VEVENT
END:VCALENDAR