BEGIN:VCALENDAR
VERSION:2.0
PRODID:-//This is Athens City Festival - ECPv6.12.0.1//NONSGML v1.0//EN
CALSCALE:GREGORIAN
METHOD:PUBLISH
X-ORIGINAL-URL:https://cityfestival.thisisathens.org/en/
X-WR-CALDESC:Events for This is Athens City Festival
REFRESH-INTERVAL;VALUE=DURATION:PT1H
X-Robots-Tag:noindex
X-PUBLISHED-TTL:PT1H
BEGIN:VTIMEZONE
TZID:Europe/Athens
BEGIN:DAYLIGHT
TZOFFSETFROM:+0200
TZOFFSETTO:+0300
TZNAME:EEST
DTSTART:20250330T010000
END:DAYLIGHT
BEGIN:STANDARD
TZOFFSETFROM:+0300
TZOFFSETTO:+0200
TZNAME:EET
DTSTART:20251026T010000
END:STANDARD
END:VTIMEZONE
BEGIN:VEVENT
DTSTART;TZID=Europe/Athens:20250529T203000
DTEND;TZID=Europe/Athens:20250529T213000
DTSTAMP:20260421T224342
CREATED:20250327T112914Z
LAST-MODIFIED:20250513T142639Z
UID:10001275-1748550600-1748554200@cityfestival.thisisathens.org
SUMMARY:The National School of Dance Steps Out
DESCRIPTION:Dance performances in unexpected spots around the city\, featuring students from the State School of Dance\, under the artistic direction of the school’s leading dance teacher\, Dafni Kokkinou.
URL:https://cityfestival.thisisathens.org/en/event/the-national-school-of-dance/
LOCATION:Kotzia Square\, Kotzia Square\, Αθήνα\, Athens\, 105 51\, Greece
CATEGORIES:DANCE,ENTERTAINMENT,FREE,OUTDOOR ACTIVITY
ATTACH;FMTTYPE=image/jpeg:https://cityfestival.thisisathens.org/wp-content/uploads/2025/03/20240530TiACF-GMK-KSOTOmonoia-0025-scaled.jpg
END:VEVENT
END:VCALENDAR