BEGIN:VCALENDAR
VERSION:2.0
PRODID:-//This is Athens City Festival - ECPv6.12.0.1//NONSGML v1.0//EN
CALSCALE:GREGORIAN
METHOD:PUBLISH
X-ORIGINAL-URL:https://cityfestival.thisisathens.org/en/
X-WR-CALDESC:Events for This is Athens City Festival
REFRESH-INTERVAL;VALUE=DURATION:PT1H
X-Robots-Tag:noindex
X-PUBLISHED-TTL:PT1H
BEGIN:VTIMEZONE
TZID:Europe/Athens
BEGIN:DAYLIGHT
TZOFFSETFROM:+0200
TZOFFSETTO:+0300
TZNAME:EEST
DTSTART:20250330T010000
END:DAYLIGHT
BEGIN:STANDARD
TZOFFSETFROM:+0300
TZOFFSETTO:+0200
TZNAME:EET
DTSTART:20251026T010000
END:STANDARD
END:VTIMEZONE
BEGIN:VEVENT
DTSTART;TZID=Europe/Athens:20250529T100000
DTEND;TZID=Europe/Athens:20250529T180000
DTSTAMP:20260420T094555
CREATED:20250424T102622Z
LAST-MODIFIED:20250424T102622Z
UID:10003816-1748512800-1748541600@cityfestival.thisisathens.org
SUMMARY:CONQUISTADORS
DESCRIPTION:Nikos Kyriakopoulos and his conquistadors disembark on Lenorman Street. \n\nDragons and wild beasts\, locals and conquistadors—and even Death himself—battle deep in untrodden jungles. \n\nThe thirty-six works in this exhibition are not intended to serve History or the historical genre of painting. Instead\, the artist draws his material from the mythos surrounding the Age of Discovery\, crafting images that move beyond naturalism\, both in form and content. Created using monotype\, a technique dating back to the 16th century\, the works gain added resonance when paired with the fantastical stories they depict. The adventures of the characters serve as a point of departure—not only for the adventures of line and colour\, but also for reflection on themes such as desire\, fear\, conflict and illusion. \n\nOpening: Thursday 8 May 2025\, 19:30–23:00 \n\nOpening hours: Monday to Friday: 10:00–18:00 Saturday: 11:00–15:00 Closed on Sunday
URL:https://cityfestival.thisisathens.org/en/event/conquistadors/2025-05-29/
LOCATION:Macart’s Cultural Space\, Lenorman 244\, Athens\, Athens\, 104 43\, Greece
CATEGORIES:ENTERTAINMENT,EXHIBITION,FREE,GALLERY
ATTACH;FMTTYPE=image/jpeg:https://cityfestival.thisisathens.org/wp-content/uploads/2025/04/DSC_7775-1.jpg
END:VEVENT
BEGIN:VEVENT
DTSTART;TZID=Europe/Athens:20250529T113000
DTEND;TZID=Europe/Athens:20250529T203000
DTSTAMP:20260420T094555
CREATED:20250424T085600Z
LAST-MODIFIED:20250506T132520Z
UID:10003774-1748518200-1748550600@cityfestival.thisisathens.org
SUMMARY:Vassilis Papageorgiou - Painting and Sculpture: Lignea Creatura Stans
DESCRIPTION:The worlds of plants\, animals and humans—along with legend\, myth\, imagination and dream—form the basis of Vassilis Papageorgiou’s new artistic exploration. His paradoxical heroes and hand-crafted wooden creatures inhabit both two- and three-dimensional space in a state of perpetual whirling. Through an aesthetic lens\, Papageorgiou reflects on the consequences of humanity’s destructive impact on the natural world. From this meditation\, he generates new values—drawn from the cultural references of nature and tradition—that define the conditions for coexistence. \n\nOpening hours: Monday – Friday: 11:30–14:30 & 17:30–20:30 Saturday: 11:30–15:00
URL:https://cityfestival.thisisathens.org/en/event/vassilis-papageorgiou-painting-lignea-creatura-stans/2025-05-29/
LOCATION:Gallery Ersi\, Kleomenous 4\, Athens\, Athens\, 106 75\, Greece
CATEGORIES:ENTERTAINMENT,EXHIBITION,FREE,GALLERY
ATTACH;FMTTYPE=image/jpeg:https://cityfestival.thisisathens.org/wp-content/uploads/2025/04/ΒΑΣΙΛΗΣ-ΠΑΠΑΓΕΩΡΓΙΟΥΑνάγνωση2023-Λάδι-σε-λινό-160-195-cm.jpg
END:VEVENT
BEGIN:VEVENT
DTSTART;TZID=Europe/Athens:20250529T173000
DTEND;TZID=Europe/Athens:20250529T230000
DTSTAMP:20260420T094555
CREATED:20250327T133018Z
LAST-MODIFIED:20250507T224935Z
UID:10002442-1748539800-1748559600@cityfestival.thisisathens.org
SUMMARY:Athens Voice - 1st Green Experience Music Event
DESCRIPTION:Athens Voice joins the This is Athens City Festival with an original music event set to become a new tradition. In the heart of the city\, the Emporikon Arcade is transformed into a lush urban oasis filled with hundreds of live plants.\n\nAt its centre\, the Athens Digital Arts Festival installs a striking LED gateway\, turning the arcade into the most futuristic “park” in Athens—where nature and technology coexist in harmony. Music sets the pace while the screens respond to the rhythm\, creating the illusion of floating greenery and an unforgettable sensory experience.
URL:https://cityfestival.thisisathens.org/en/event/athens-voice-1st-green-experience-music-event/
LOCATION:Stoa Emporon\, Voulis 8-10\, Athens\, Athens\, 105 62\, Greece
CATEGORIES:DJ SET,ENTERTAINMENT,FREE,PARTY
ATTACH;FMTTYPE=image/jpeg:https://cityfestival.thisisathens.org/wp-content/uploads/2025/03/EVZ-InstagramHotSpots-StoaEmporon.jpg
END:VEVENT
BEGIN:VEVENT
DTSTART;TZID=Europe/Athens:20250529T180000
DTEND;TZID=Europe/Athens:20250529T210000
DTSTAMP:20260420T094555
CREATED:20250424T080846Z
LAST-MODIFIED:20250425T122224Z
UID:10003726-1748541600-1748552400@cityfestival.thisisathens.org
SUMMARY:Message in RGB and WHITE
DESCRIPTION:Mosaico Fine Art Studio (Athens) and Mobil Bóde Gallery (Budapest) co-present a mail art exhibition featuring works by Greek and Hungarian artists.\n\nOpening: Saturday\, May 24\, 19:00.\n\nOpening hours: Monday to Friday: 18:00–21:00 Saturday: 11:00–15:00 Closed on Sunday
URL:https://cityfestival.thisisathens.org/en/event/message-in-rgb-white/2025-05-29/
LOCATION:Mosaico Fine Art Studio\, Kesarias 18-20\, Athens\, Athens\, 115 27\, Greece
CATEGORIES:ENTERTAINMENT,EXHIBITION,FREE,GALLERY
ATTACH;FMTTYPE=image/jpeg:https://cityfestival.thisisathens.org/wp-content/uploads/2025/04/mosaico-Eva-Papagianni-scaled.jpg
END:VEVENT
BEGIN:VEVENT
DTSTART;TZID=Europe/Athens:20250529T190000
DTEND;TZID=Europe/Athens:20250529T203000
DTSTAMP:20260420T094555
CREATED:20250327T125412Z
LAST-MODIFIED:20250506T113358Z
UID:10001688-1748545200-1748550600@cityfestival.thisisathens.org
SUMMARY:Fairy Tales at the Square: Babis Bourekas - Maria Ploumi
DESCRIPTION:This activity is only available in Greek.\n\nFearless Little Ones!\n\nStorytelling from both Greek and global folk traditions\, where the heroes overcame their fears\, faced stronger\, mightier\, and more terrifying forces\, and in the end\, succeeded! The accompaniment of music and song completes the narrative\, the journey of imagination\, relieves tension\, and helps create a sense of community.\n\nStorytelling by: Charalambos Bourekas\nMusic/Singing: Maria Ploumi (laouto)
URL:https://cityfestival.thisisathens.org/en/event/fairy-tales-square-babis-bourekas-maria-ploumi/
LOCATION:Pinelopi Delta Square\, Pinelopis Delta 16\, Athens\, Athens\, 115 25\, Greece
CATEGORIES:ENTERTAINMENT,FOR KIDS,FREE,OUTDOOR ACTIVITY
ATTACH;FMTTYPE=image/jpeg:https://cityfestival.thisisathens.org/wp-content/uploads/2025/03/20240521-TiACF-GMK-TaxiarchisMpeligiannisKalligaSq-0001-scaled.jpg
END:VEVENT
BEGIN:VEVENT
DTSTART;TZID=Europe/Athens:20250529T200000
DTEND;TZID=Europe/Athens:20250529T233000
DTSTAMP:20260420T094555
CREATED:20250422T100732Z
LAST-MODIFIED:20250522T145438Z
UID:10003583-1748548800-1748561400@cityfestival.thisisathens.org
SUMMARY:Hispanic Film Festival at Aello
DESCRIPTION:The best of Spanish-language cinema takes over Athens for an entire week in May. Visionary directors\, acclaimed actors and celebrated screenwriters bring a breath of Spain\, Chile\, Argentina\, Cuba and other beloved Spanish-speaking countries to the big screen.
URL:https://cityfestival.thisisathens.org/en/event/hispanic-film-festival-at-aello-4/
LOCATION:Open Air Cinema “Aello”\, Patission 140\, Athens\, Athens\, 112 57\, Greece
CATEGORIES:CINEMA,ENTERTAINMENT
ATTACH;FMTTYPE=image/jpeg:https://cityfestival.thisisathens.org/wp-content/uploads/2025/04/20230531-OSF-AthensCityFestival-Ispanofono_Cinema-0002-scaled.jpg
END:VEVENT
BEGIN:VEVENT
DTSTART;TZID=Europe/Athens:20250529T200000
DTEND;TZID=Europe/Athens:20250529T233000
DTSTAMP:20260420T094555
CREATED:20250422T104632Z
LAST-MODIFIED:20250522T144957Z
UID:10003595-1748548800-1748561400@cityfestival.thisisathens.org
SUMMARY:Hispanic Film Festival at Ellinis
DESCRIPTION:A full week in May is dedicated to the highlights of Spanish-language cinema. Groundbreaking directors\, renowned actors and celebrated screenwriters bring to Athens the spirit of Spain\, Chile\, Argentina\, Cuba and other beloved Spanish-speaking countries—through stories that captivate\, move and inspire.
URL:https://cityfestival.thisisathens.org/en/event/hispanic-film-festival-at-ellinis-4/
LOCATION:Open Air Cinema “Ellinis”\, Leof. Kifissias 29\, Athens\, Athens\, 115 23\, Greece
CATEGORIES:CINEMA,ENTERTAINMENT
ATTACH;FMTTYPE=image/jpeg:https://cityfestival.thisisathens.org/wp-content/uploads/2025/03/20230531-OSF-AthensCityFestival-Ispanofono_Cinema-0006-scaled.jpg
END:VEVENT
BEGIN:VEVENT
DTSTART;TZID=Europe/Athens:20250529T203000
DTEND;TZID=Europe/Athens:20250529T213000
DTSTAMP:20260420T094555
CREATED:20250327T112914Z
LAST-MODIFIED:20250513T142639Z
UID:10001275-1748550600-1748554200@cityfestival.thisisathens.org
SUMMARY:The National School of Dance Steps Out
DESCRIPTION:Dance performances in unexpected spots around the city\, featuring students from the State School of Dance\, under the artistic direction of the school’s leading dance teacher\, Dafni Kokkinou.
URL:https://cityfestival.thisisathens.org/en/event/the-national-school-of-dance/
LOCATION:Kotzia Square\, Kotzia Square\, Αθήνα\, Athens\, 105 51\, Greece
CATEGORIES:DANCE,ENTERTAINMENT,FREE,OUTDOOR ACTIVITY
ATTACH;FMTTYPE=image/jpeg:https://cityfestival.thisisathens.org/wp-content/uploads/2025/03/20240530TiACF-GMK-KSOTOmonoia-0025-scaled.jpg
END:VEVENT
END:VCALENDAR