BEGIN:VCALENDAR
VERSION:2.0
PRODID:-//This is Athens City Festival - ECPv6.12.0.1//NONSGML v1.0//EN
CALSCALE:GREGORIAN
METHOD:PUBLISH
X-ORIGINAL-URL:https://cityfestival.thisisathens.org/en/
X-WR-CALDESC:Events for This is Athens City Festival
REFRESH-INTERVAL;VALUE=DURATION:PT1H
X-Robots-Tag:noindex
X-PUBLISHED-TTL:PT1H
BEGIN:VTIMEZONE
TZID:Europe/Athens
BEGIN:DAYLIGHT
TZOFFSETFROM:+0200
TZOFFSETTO:+0300
TZNAME:EEST
DTSTART:20250330T010000
END:DAYLIGHT
BEGIN:STANDARD
TZOFFSETFROM:+0300
TZOFFSETTO:+0200
TZNAME:EET
DTSTART:20251026T010000
END:STANDARD
END:VTIMEZONE
BEGIN:VEVENT
DTSTART;TZID=Europe/Athens:20250530T180000
DTEND;TZID=Europe/Athens:20250530T200000
DTSTAMP:20260421T123100
CREATED:20250416T145345Z
LAST-MODIFIED:20250425T104055Z
UID:10003523-1748628000-1748635200@cityfestival.thisisathens.org
SUMMARY:A Tour of Rizokastro and the Anafiotika Area
DESCRIPTION:This activity is only available in Greek. \n\nArchaeologist Michalis Giohalas\, in collaboration with the This is Athens City Festival\, leads a walking tour through Anafiotika and its layered history. Rizokastro—the area nestled at the root of the Sacred Rock—and Anafiotika are among the most historic quarters of Athens. Using surviving monuments and buildings\, remnants of lost structures\, and even the street names as our guide\, we’ll attempt to piece together the memory and image of a city that feels both different and not entirely lost. This journey will tune in to the lingering echoes of beliefs\, myths and legends tied to ancient places that still endure in the present day.\n\nA reservation is required.
URL:https://cityfestival.thisisathens.org/en/event/a-tour-of-rizokastro-and-the-anafiotika-area-4/
LOCATION:Acropolis Metro Station\, Makrygianni 9\, Athens\, Athens\, 117 42\, Greece
CATEGORIES:FREE,OUTDOOR ACTIVITY,TOUR
ATTACH;FMTTYPE=image/jpeg:https://cityfestival.thisisathens.org/wp-content/uploads/2025/04/20240516-TiACF-GMK-RizokastroAnafiotikaTour-0026-scaled.jpg
END:VEVENT
END:VCALENDAR