BEGIN:VCALENDAR
VERSION:2.0
PRODID:-//This is Athens City Festival - ECPv6.12.0.1//NONSGML v1.0//EN
CALSCALE:GREGORIAN
METHOD:PUBLISH
X-ORIGINAL-URL:https://cityfestival.thisisathens.org/en/
X-WR-CALDESC:Events for This is Athens City Festival
REFRESH-INTERVAL;VALUE=DURATION:PT1H
X-Robots-Tag:noindex
X-PUBLISHED-TTL:PT1H
BEGIN:VTIMEZONE
TZID:Europe/Athens
BEGIN:DAYLIGHT
TZOFFSETFROM:+0200
TZOFFSETTO:+0300
TZNAME:EEST
DTSTART:20250330T010000
END:DAYLIGHT
BEGIN:STANDARD
TZOFFSETFROM:+0300
TZOFFSETTO:+0200
TZNAME:EET
DTSTART:20251026T010000
END:STANDARD
END:VTIMEZONE
BEGIN:VEVENT
DTSTART;TZID=Europe/Athens:20250530T100000
DTEND;TZID=Europe/Athens:20250530T180000
DTSTAMP:20260420T094554
CREATED:20250424T102622Z
LAST-MODIFIED:20250424T102622Z
UID:10003817-1748599200-1748628000@cityfestival.thisisathens.org
SUMMARY:CONQUISTADORS
DESCRIPTION:Nikos Kyriakopoulos and his conquistadors disembark on Lenorman Street. \n\nDragons and wild beasts\, locals and conquistadors—and even Death himself—battle deep in untrodden jungles. \n\nThe thirty-six works in this exhibition are not intended to serve History or the historical genre of painting. Instead\, the artist draws his material from the mythos surrounding the Age of Discovery\, crafting images that move beyond naturalism\, both in form and content. Created using monotype\, a technique dating back to the 16th century\, the works gain added resonance when paired with the fantastical stories they depict. The adventures of the characters serve as a point of departure—not only for the adventures of line and colour\, but also for reflection on themes such as desire\, fear\, conflict and illusion. \n\nOpening: Thursday 8 May 2025\, 19:30–23:00 \n\nOpening hours: Monday to Friday: 10:00–18:00 Saturday: 11:00–15:00 Closed on Sunday
URL:https://cityfestival.thisisathens.org/en/event/conquistadors/2025-05-30/
LOCATION:Macart’s Cultural Space\, Lenorman 244\, Athens\, Athens\, 104 43\, Greece
CATEGORIES:ENTERTAINMENT,EXHIBITION,FREE,GALLERY
ATTACH;FMTTYPE=image/jpeg:https://cityfestival.thisisathens.org/wp-content/uploads/2025/04/DSC_7775-1.jpg
END:VEVENT
BEGIN:VEVENT
DTSTART;TZID=Europe/Athens:20250530T113000
DTEND;TZID=Europe/Athens:20250530T203000
DTSTAMP:20260420T094555
CREATED:20250424T085600Z
LAST-MODIFIED:20250506T132520Z
UID:10003775-1748604600-1748637000@cityfestival.thisisathens.org
SUMMARY:Vassilis Papageorgiou - Painting and Sculpture: Lignea Creatura Stans
DESCRIPTION:The worlds of plants\, animals and humans—along with legend\, myth\, imagination and dream—form the basis of Vassilis Papageorgiou’s new artistic exploration. His paradoxical heroes and hand-crafted wooden creatures inhabit both two- and three-dimensional space in a state of perpetual whirling. Through an aesthetic lens\, Papageorgiou reflects on the consequences of humanity’s destructive impact on the natural world. From this meditation\, he generates new values—drawn from the cultural references of nature and tradition—that define the conditions for coexistence. \n\nOpening hours: Monday – Friday: 11:30–14:30 & 17:30–20:30 Saturday: 11:30–15:00
URL:https://cityfestival.thisisathens.org/en/event/vassilis-papageorgiou-painting-lignea-creatura-stans/2025-05-30/
LOCATION:Gallery Ersi\, Kleomenous 4\, Athens\, Athens\, 106 75\, Greece
CATEGORIES:ENTERTAINMENT,EXHIBITION,FREE,GALLERY
ATTACH;FMTTYPE=image/jpeg:https://cityfestival.thisisathens.org/wp-content/uploads/2025/04/ΒΑΣΙΛΗΣ-ΠΑΠΑΓΕΩΡΓΙΟΥΑνάγνωση2023-Λάδι-σε-λινό-160-195-cm.jpg
END:VEVENT
BEGIN:VEVENT
DTSTART;TZID=Europe/Athens:20250530T180000
DTEND;TZID=Europe/Athens:20250530T210000
DTSTAMP:20260420T094555
CREATED:20250424T080846Z
LAST-MODIFIED:20250425T122224Z
UID:10003727-1748628000-1748638800@cityfestival.thisisathens.org
SUMMARY:Message in RGB and WHITE
DESCRIPTION:Mosaico Fine Art Studio (Athens) and Mobil Bóde Gallery (Budapest) co-present a mail art exhibition featuring works by Greek and Hungarian artists.\n\nOpening: Saturday\, May 24\, 19:00.\n\nOpening hours: Monday to Friday: 18:00–21:00 Saturday: 11:00–15:00 Closed on Sunday
URL:https://cityfestival.thisisathens.org/en/event/message-in-rgb-white/2025-05-30/
LOCATION:Mosaico Fine Art Studio\, Kesarias 18-20\, Athens\, Athens\, 115 27\, Greece
CATEGORIES:ENTERTAINMENT,EXHIBITION,FREE,GALLERY
ATTACH;FMTTYPE=image/jpeg:https://cityfestival.thisisathens.org/wp-content/uploads/2025/04/mosaico-Eva-Papagianni-scaled.jpg
END:VEVENT
BEGIN:VEVENT
DTSTART;TZID=Europe/Athens:20250530T180000
DTEND;TZID=Europe/Athens:20250530T230000
DTSTAMP:20260420T094555
CREATED:20250327T150112Z
LAST-MODIFIED:20250522T103258Z
UID:10003222-1748628000-1748646000@cityfestival.thisisathens.org
SUMMARY:Pepper at the Park
DESCRIPTION:The first summer Pepper party of the year\, in the heart of Athens\, with free entry. On Friday\, May 30th\, at Eleftherias Park\, next to the Athens Concert Hall (Megaron Mousikis)\, from 6 PM until late in the evening. Music will be provided by special guests and the presenters of Pepper 96.6. \nPepper 96.6 creates a magical open-air setting: Music\, friends\, summer vibes\, drinks in hand\, towels spread out on the grass\, groups gathered under the park’s trees\, and of course\, DJ sets by top radio producers from the Pepper 96.6 team.
URL:https://cityfestival.thisisathens.org/en/event/pepper-96-6-party/
LOCATION:Eleftherias Park\, Eleftherias Park\, Athens\, Athens\, 115 21\, Greece
CATEGORIES:DANCE,DJ SET,ENTERTAINMENT,FREE,OUTDOOR ACTIVITY
ATTACH;FMTTYPE=image/jpeg:https://cityfestival.thisisathens.org/wp-content/uploads/2025/03/20240513-TiACF-OSF-BonEntendeur-0037-scaled.jpg
END:VEVENT
BEGIN:VEVENT
DTSTART;TZID=Europe/Athens:20250530T183000
DTEND;TZID=Europe/Athens:20250530T230000
DTSTAMP:20260420T094555
CREATED:20250404T082020Z
LAST-MODIFIED:20250508T140113Z
UID:10003388-1748629800-1748646000@cityfestival.thisisathens.org
SUMMARY:Music 89 2 Street Party
DESCRIPTION:Get ready to feel the city’s magic just before summer kicks in! Music 89.2 and the This is Athens City Festival invite you to an unforgettable street party at Klafthmonos Square\, right in the heart of Athens.\n\nExpect high-energy music\, live shows\, dance performances\, and plenty of surprises with Music 89.2 favourites Kounavia\, Maggie\, Evanjelia and Chris IDH turning the square into an open-air dance stage bursting with colour and good vibes. Come dance\, meet new people\, and soak up the unique energy of the city in one of its most iconic squares.
URL:https://cityfestival.thisisathens.org/en/event/music-89-2-street-party/
LOCATION:Klafthmonos Square\, Klaftmonos Square\, Athens\, Athens\, 105 61\, Greece
CATEGORIES:DJ SET,ENTERTAINMENT,FREE,OUTDOOR ACTIVITY,PARTY
ATTACH;FMTTYPE=image/jpeg:https://cityfestival.thisisathens.org/wp-content/uploads/2025/04/900x600-copy-3.jpg
END:VEVENT
BEGIN:VEVENT
DTSTART;TZID=Europe/Athens:20250530T190000
DTEND;TZID=Europe/Athens:20250530T230000
DTSTAMP:20260420T094555
CREATED:20250404T105334Z
LAST-MODIFIED:20250506T114359Z
UID:10003399-1748631600-1748646000@cityfestival.thisisathens.org
SUMMARY:A Cretan Fest with Psarogiorgis
DESCRIPTION:The This is Athens City Festival brings the heartbeat of Crete to Athens\, organizing a grand Cretan Feast with Psaroyiorgis. Raised in the deep musical tradition of Anogeia\, he is a descendant of a legendary family of musicians from this mountain village. Son of the unique Psarantonis and nephew of Nikos Xylouris\, the man who greatly contributed to the revival of Cretan traditional music\, Yiorgis has managed to put the laouto (Cretan lute) in the spotlight\, giving a leading role to an instrument once considered merely an accompaniment.
URL:https://cityfestival.thisisathens.org/en/event/a-cretan-fest-with-psarogiorgis/
LOCATION:Mayor Dimitris Beis Park\, Dimarchou Dimitri Bei Park\, Athens\, Athens\, 117 45\, Greece
CATEGORIES:CONCERT,ENTERTAINMENT,FREE,OUTDOOR ACTIVITY
ATTACH;FMTTYPE=image/jpeg:https://cityfestival.thisisathens.org/wp-content/uploads/2025/04/20230516-TGR-AthensCityFestival-Psarogiorgis-0182-scaled.jpg
END:VEVENT
BEGIN:VEVENT
DTSTART;TZID=Europe/Athens:20250530T200000
DTEND;TZID=Europe/Athens:20250530T220000
DTSTAMP:20260420T094555
CREATED:20250423T115508Z
LAST-MODIFIED:20250523T072513Z
UID:10003874-1748635200-1748642400@cityfestival.thisisathens.org
SUMMARY:Argithea
DESCRIPTION:The Panhellenic Federation of Argithea Associations (P.O.A.S.)\, in collaboration with the Municipality of Argithea and the traditional music group Argitheatiki Zygia\, will present a showcase of local dances and songs from the region of Argithea\, performed by dancers and singers from P.O.A.S. member associations.\n\nCelebrating a decade of continuous cultural activity\, the Federation now enters its second decade with a series of events honouring the “Mother of Argithea” — a symbolic figure who embodies the preservation and transmission of local customs\, traditions\, and history. Through this tribute\, the spotlight turns to the pivotal and multifaceted role of women\, and especially mothers\, in Argithea’s social fabric.\n\nThis performance at the This is Athens City Festival marks the beginning of a nationwide series of events\, culminating in 2026 with a major music-theatre production in Athens featuring acclaimed artists and co-organised with the City of Athens.
URL:https://cityfestival.thisisathens.org/en/event/argithea/
LOCATION:Agios Thomas Square\, Mikras Asias 69\, Athens\, Athens\, 115 27\, Greece
CATEGORIES:DANCE,ENTERTAINMENT,FREE,OUTDOOR ACTIVITY
ATTACH;FMTTYPE=image/jpeg:https://cityfestival.thisisathens.org/wp-content/uploads/2025/04/1ef.jpg
END:VEVENT
BEGIN:VEVENT
DTSTART;TZID=Europe/Athens:20250530T200000
DTEND;TZID=Europe/Athens:20250530T230000
DTSTAMP:20260420T094555
CREATED:20250327T095642Z
LAST-MODIFIED:20250528T130726Z
UID:10001247-1748635200-1748646000@cityfestival.thisisathens.org
SUMMARY:Evritiki Zygia Live
DESCRIPTION:A year ago\, Evritiki Zygia introduced itself to the Festival audience with a stunning concert in the square of the National Archaeological Museum. This year\, it lands in the center of Athens\, in Kotzia Square\, leading the audience into the Dionysian magic of a Thracian Psychedelia. \nOn Friday\, May 30th\, at 20:00\, make a stop at Kotzia Square. Experience a powerful event with the concert by Evritiki Zygia and take part in a major solidarity action. The City of Athens Festival and the Athens Municipality Reception and Solidarity Centre (K.Y.A.D.A.) join forces and invite you to bring: \n\n\n 	Long-lasting food items\n 	Personal hygiene items (soaps\, diapers\, paper products\, etc.)\n 	Cleaning supplies\, household items\, and basic necessities. K.Y.A.D.A. offers daily support to:\n 	Over 3\,500 families below the poverty line\n 	Homeless fellow citizens through hospitality structures\, psychosocial and employment support\n 	Homeless individuals living on the streets\, through StreetWork teams\n 	Elderly people without a supportive environment Your participation is valuable and irreplaceable. With a bag of food\, you offer more than you can imagine.\n\n\n\n\n\n\n\n\n\n\n\n\n\n\n\n\n\n\n\n\n\n\n\n\n\n\n\n Generate Audio Overview \n\n\n\n\n\n\n\n\n\n\n\n\n\n\n\n\n \n\n\n\nDeep Research\nCanvas\nVideo
URL:https://cityfestival.thisisathens.org/en/event/thracian-panigyri/
LOCATION:Kotzia Square\, Kotzia Square\, Αθήνα\, Athens\, 105 51\, Greece
CATEGORIES:DANCE,ENTERTAINMENT,FREE,OUTDOOR ACTIVITY
ATTACH;FMTTYPE=image/jpeg:https://cityfestival.thisisathens.org/wp-content/uploads/2025/03/R1-06634-0012.jpg
END:VEVENT
BEGIN:VEVENT
DTSTART;TZID=Europe/Athens:20250530T200000
DTEND;TZID=Europe/Athens:20250530T233000
DTSTAMP:20260420T094555
CREATED:20250422T100808Z
LAST-MODIFIED:20250522T145429Z
UID:10003584-1748635200-1748647800@cityfestival.thisisathens.org
SUMMARY:Hispanic Film Festival at Aello
DESCRIPTION:The best of Spanish-language cinema takes over Athens for an entire week in May. Visionary directors\, acclaimed actors and celebrated screenwriters bring a breath of Spain\, Chile\, Argentina\, Cuba and other beloved Spanish-speaking countries to the big screen.
URL:https://cityfestival.thisisathens.org/en/event/hispanic-film-festival-at-aello-5/
LOCATION:Open Air Cinema “Aello”\, Patission 140\, Athens\, Athens\, 112 57\, Greece
CATEGORIES:CINEMA,ENTERTAINMENT
ATTACH;FMTTYPE=image/jpeg:https://cityfestival.thisisathens.org/wp-content/uploads/2025/04/20230531-OSF-AthensCityFestival-Ispanofono_Cinema-0002-scaled.jpg
END:VEVENT
BEGIN:VEVENT
DTSTART;TZID=Europe/Athens:20250530T200000
DTEND;TZID=Europe/Athens:20250530T233000
DTSTAMP:20260420T094555
CREATED:20250422T104705Z
LAST-MODIFIED:20250522T144939Z
UID:10003596-1748635200-1748647800@cityfestival.thisisathens.org
SUMMARY:Hispanic Film Festival at Ellinis
DESCRIPTION:A full week in May is dedicated to the highlights of Spanish-language cinema. Groundbreaking directors\, renowned actors and celebrated screenwriters bring to Athens the spirit of Spain\, Chile\, Argentina\, Cuba and other beloved Spanish-speaking countries—through stories that captivate\, move and inspire.\n\n 
URL:https://cityfestival.thisisathens.org/en/event/hispanic-film-festival-at-ellinis-5/
LOCATION:Open Air Cinema “Ellinis”\, Leof. Kifissias 29\, Athens\, Athens\, 115 23\, Greece
CATEGORIES:CINEMA,ENTERTAINMENT
ATTACH;FMTTYPE=image/jpeg:https://cityfestival.thisisathens.org/wp-content/uploads/2025/03/20230531-OSF-AthensCityFestival-Ispanofono_Cinema-0006-scaled.jpg
END:VEVENT
BEGIN:VEVENT
DTSTART;TZID=Europe/Athens:20250530T203000
DTEND;TZID=Europe/Athens:20250530T213000
DTSTAMP:20260420T094555
CREATED:20250513T143502Z
LAST-MODIFIED:20250529T140651Z
UID:10003954-1748637000-1748640600@cityfestival.thisisathens.org
SUMMARY:The National School of Dance Steps Out
DESCRIPTION:Dance performances in unexpected spots around the city\, featuring students from the State School of Dance\, under the artistic direction of the school’s leading dance teacher\, Dafni Kokkinou.
URL:https://cityfestival.thisisathens.org/en/event/the-national-dance-school-steps-out/
LOCATION:Panathenaic Stadium Square (Kallimarmaro)\, Kallimarmaro\, Athens\, Athens\, 116 35\, Greece
CATEGORIES:DANCE,ENTERTAINMENT,FREE,OUTDOOR ACTIVITY
ATTACH;FMTTYPE=image/jpeg:https://cityfestival.thisisathens.org/wp-content/uploads/2025/04/20240529-TiACF-TGR-KSOTEthnikosKipos-0280-scaled.jpg
END:VEVENT
END:VCALENDAR