BEGIN:VCALENDAR
VERSION:2.0
PRODID:-//This is Athens City Festival - ECPv6.12.0.1//NONSGML v1.0//EN
CALSCALE:GREGORIAN
METHOD:PUBLISH
X-ORIGINAL-URL:https://cityfestival.thisisathens.org/en/
X-WR-CALDESC:Events for This is Athens City Festival
REFRESH-INTERVAL;VALUE=DURATION:PT1H
X-Robots-Tag:noindex
X-PUBLISHED-TTL:PT1H
BEGIN:VTIMEZONE
TZID:Europe/Athens
BEGIN:DAYLIGHT
TZOFFSETFROM:+0200
TZOFFSETTO:+0300
TZNAME:EEST
DTSTART:20250330T010000
END:DAYLIGHT
BEGIN:STANDARD
TZOFFSETFROM:+0300
TZOFFSETTO:+0200
TZNAME:EET
DTSTART:20251026T010000
END:STANDARD
END:VTIMEZONE
BEGIN:VEVENT
DTSTART;TZID=Europe/Athens:20250531T110000
DTEND;TZID=Europe/Athens:20250531T150000
DTSTAMP:20260420T111936
CREATED:20250424T080846Z
LAST-MODIFIED:20250425T122224Z
UID:10003728-1748689200-1748703600@cityfestival.thisisathens.org
SUMMARY:Message in RGB and WHITE
DESCRIPTION:Mosaico Fine Art Studio (Athens) and Mobil Bóde Gallery (Budapest) co-present a mail art exhibition featuring works by Greek and Hungarian artists.\n\nOpening: Saturday\, May 24\, 19:00.\n\nOpening hours: Monday to Friday: 18:00–21:00 Saturday: 11:00–15:00 Closed on Sunday
URL:https://cityfestival.thisisathens.org/en/event/message-in-rgb-white/2025-05-31/
LOCATION:Mosaico Fine Art Studio\, Kesarias 18-20\, Athens\, Athens\, 115 27\, Greece
CATEGORIES:ENTERTAINMENT,EXHIBITION,FREE,GALLERY
ATTACH;FMTTYPE=image/jpeg:https://cityfestival.thisisathens.org/wp-content/uploads/2025/04/mosaico-Eva-Papagianni-scaled.jpg
END:VEVENT
BEGIN:VEVENT
DTSTART;TZID=Europe/Athens:20250531T110000
DTEND;TZID=Europe/Athens:20250531T150000
DTSTAMP:20260420T111936
CREATED:20250424T102622Z
LAST-MODIFIED:20250424T102622Z
UID:10003818-1748689200-1748703600@cityfestival.thisisathens.org
SUMMARY:CONQUISTADORS
DESCRIPTION:Nikos Kyriakopoulos and his conquistadors disembark on Lenorman Street. \n\nDragons and wild beasts\, locals and conquistadors—and even Death himself—battle deep in untrodden jungles. \n\nThe thirty-six works in this exhibition are not intended to serve History or the historical genre of painting. Instead\, the artist draws his material from the mythos surrounding the Age of Discovery\, crafting images that move beyond naturalism\, both in form and content. Created using monotype\, a technique dating back to the 16th century\, the works gain added resonance when paired with the fantastical stories they depict. The adventures of the characters serve as a point of departure—not only for the adventures of line and colour\, but also for reflection on themes such as desire\, fear\, conflict and illusion. \n\nOpening: Thursday 8 May 2025\, 19:30–23:00 \n\nOpening hours: Monday to Friday: 10:00–18:00 Saturday: 11:00–15:00 Closed on Sunday
URL:https://cityfestival.thisisathens.org/en/event/conquistadors/2025-05-31/
LOCATION:Macart’s Cultural Space\, Lenorman 244\, Athens\, Athens\, 104 43\, Greece
CATEGORIES:ENTERTAINMENT,EXHIBITION,FREE,GALLERY
ATTACH;FMTTYPE=image/jpeg:https://cityfestival.thisisathens.org/wp-content/uploads/2025/04/DSC_7775-1.jpg
END:VEVENT
BEGIN:VEVENT
DTSTART;TZID=Europe/Athens:20250531T113000
DTEND;TZID=Europe/Athens:20250531T150000
DTSTAMP:20260420T111936
CREATED:20250424T085600Z
LAST-MODIFIED:20250506T132520Z
UID:10003776-1748691000-1748703600@cityfestival.thisisathens.org
SUMMARY:Vassilis Papageorgiou - Painting and Sculpture: Lignea Creatura Stans
DESCRIPTION:The worlds of plants\, animals and humans—along with legend\, myth\, imagination and dream—form the basis of Vassilis Papageorgiou’s new artistic exploration. His paradoxical heroes and hand-crafted wooden creatures inhabit both two- and three-dimensional space in a state of perpetual whirling. Through an aesthetic lens\, Papageorgiou reflects on the consequences of humanity’s destructive impact on the natural world. From this meditation\, he generates new values—drawn from the cultural references of nature and tradition—that define the conditions for coexistence. \n\nOpening hours: Monday – Friday: 11:30–14:30 & 17:30–20:30 Saturday: 11:30–15:00
URL:https://cityfestival.thisisathens.org/en/event/vassilis-papageorgiou-painting-lignea-creatura-stans/2025-05-31/
LOCATION:Gallery Ersi\, Kleomenous 4\, Athens\, Athens\, 106 75\, Greece
CATEGORIES:ENTERTAINMENT,EXHIBITION,FREE,GALLERY
ATTACH;FMTTYPE=image/jpeg:https://cityfestival.thisisathens.org/wp-content/uploads/2025/04/ΒΑΣΙΛΗΣ-ΠΑΠΑΓΕΩΡΓΙΟΥΑνάγνωση2023-Λάδι-σε-λινό-160-195-cm.jpg
END:VEVENT
BEGIN:VEVENT
DTSTART;TZID=Europe/Athens:20250531T170000
DTEND;TZID=Europe/Athens:20250531T230000
DTSTAMP:20260420T111936
CREATED:20250327T103257Z
LAST-MODIFIED:20250506T112952Z
UID:10001251-1748710800-1748732400@cityfestival.thisisathens.org
SUMMARY:Seds Lifestyle X Needless with Palms Trax UK
DESCRIPTION:The This is Athens City Festival returns—reviving the pulse of the city! Since 2022\, every May\, the centre of Athens transforms into a massive open celebration\, with happenings and events that bring public spaces to life.\n\nThis year\, for the first time\, Seds Lifestyle—one of Greece’s leading dance music platforms—joins forces with Athens’ beloved mobile party crew Needless to throw a huge open-air street party at Santaroza Square. The result? The ultimate gathering for those who live and breathe electronic dance music.\n\nOn the decks: Palms Trax (UK)—the acclaimed British selector and one of Europe’s most influential DJs—lands in Athens with an eclectic dance set fusing disco\, house\, electro and techno vibes.\n\nWarming up the night are local heavyweights Lex & Chevy\, delivering a back-to-back set guaranteed to set the tone for an unforgettable evening of rhythm and sonic magic.\n\nAthens is dancing—are you coming?
URL:https://cityfestival.thisisathens.org/en/event/seds-needless-palms-trax/
LOCATION:Dikaiosinis Square\, Panepistimiou & Santaroza\, Athens\, Athens\, 105 64\, Greece
CATEGORIES:DANCE,DJ SET,ENTERTAINMENT,FREE,OUTDOOR ACTIVITY
ATTACH;FMTTYPE=image/jpeg:https://cityfestival.thisisathens.org/wp-content/uploads/2025/03/Palms-Trax-–-Press-Photo-7-scaled.jpg
END:VEVENT
BEGIN:VEVENT
DTSTART;TZID=Europe/Athens:20250531T173000
DTEND;TZID=Europe/Athens:20250531T230000
DTSTAMP:20260420T111936
CREATED:20250404T112149Z
LAST-MODIFIED:20250524T081554Z
UID:10003403-1748712600-1748732400@cityfestival.thisisathens.org
SUMMARY:Lambrini Block  Party by ENTEKA Athens
DESCRIPTION:ENTEKA Athens joins the This is Athens City Festival with a massive open-air party at Agios Andreas Square in Lamprini.\n\nOn this northern edge of the City of Athens\, ENTEKA brings together some of the most active DJs in the Greek electronic scene for an impressive setup—drawing thousands to a square that’s still off most people’s radar.
URL:https://cityfestival.thisisathens.org/en/event/lambrini-block-party-by-enteka-athens/
LOCATION:Agios Andreas Square\, Πλατεία Τράλλεων\, Athens\, 111 42\, Greece
CATEGORIES:DJ SET,ENTERTAINMENT,FREE,OUTDOOR ACTIVITY,PARTY
ATTACH;FMTTYPE=image/jpeg:https://cityfestival.thisisathens.org/wp-content/uploads/2025/04/20230526-OSF-AthensCityFestival-FlowersInMyGarden-0028-scaled.jpg
END:VEVENT
BEGIN:VEVENT
DTSTART;TZID=Europe/Athens:20250531T200000
DTEND;TZID=Europe/Athens:20250531T233000
DTSTAMP:20260420T111936
CREATED:20250422T100847Z
LAST-MODIFIED:20250522T145422Z
UID:10003585-1748721600-1748734200@cityfestival.thisisathens.org
SUMMARY:Hispanic Film Festival at Aello
DESCRIPTION:The best of Spanish-language cinema takes over Athens for an entire week in May. Visionary directors\, acclaimed actors and celebrated screenwriters bring a breath of Spain\, Chile\, Argentina\, Cuba and other beloved Spanish-speaking countries to the big screen.
URL:https://cityfestival.thisisathens.org/en/event/hispanic-film-festival-at-aello-6/
LOCATION:Open Air Cinema “Aello”\, Patission 140\, Athens\, Athens\, 112 57\, Greece
CATEGORIES:CINEMA,ENTERTAINMENT
ATTACH;FMTTYPE=image/jpeg:https://cityfestival.thisisathens.org/wp-content/uploads/2025/04/20230531-OSF-AthensCityFestival-Ispanofono_Cinema-0002-scaled.jpg
END:VEVENT
BEGIN:VEVENT
DTSTART;TZID=Europe/Athens:20250531T200000
DTEND;TZID=Europe/Athens:20250531T233000
DTSTAMP:20260420T111936
CREATED:20250422T104738Z
LAST-MODIFIED:20250522T144927Z
UID:10003597-1748721600-1748734200@cityfestival.thisisathens.org
SUMMARY:Hispanic Film Festival at Ellinis
DESCRIPTION:A full week in May is dedicated to the highlights of Spanish-language cinema. Groundbreaking directors\, renowned actors and celebrated screenwriters bring to Athens the spirit of Spain\, Chile\, Argentina\, Cuba and other beloved Spanish-speaking countries—through stories that captivate\, move and inspire.
URL:https://cityfestival.thisisathens.org/en/event/hispanic-film-festival-at-ellinis-6/
LOCATION:Open Air Cinema “Ellinis”\, Leof. Kifissias 29\, Athens\, Athens\, 115 23\, Greece
CATEGORIES:CINEMA,ENTERTAINMENT
ATTACH;FMTTYPE=image/jpeg:https://cityfestival.thisisathens.org/wp-content/uploads/2025/03/20230531-OSF-AthensCityFestival-Ispanofono_Cinema-0006-scaled.jpg
END:VEVENT
END:VCALENDAR