BEGIN:VCALENDAR
VERSION:2.0
PRODID:-//This is Athens City Festival - ECPv6.12.0.1//NONSGML v1.0//EN
CALSCALE:GREGORIAN
METHOD:PUBLISH
X-ORIGINAL-URL:https://cityfestival.thisisathens.org/en/
X-WR-CALDESC:Events for This is Athens City Festival
REFRESH-INTERVAL;VALUE=DURATION:PT1H
X-Robots-Tag:noindex
X-PUBLISHED-TTL:PT1H
BEGIN:VTIMEZONE
TZID:Europe/Athens
BEGIN:DAYLIGHT
TZOFFSETFROM:+0200
TZOFFSETTO:+0300
TZNAME:EEST
DTSTART:20250330T010000
END:DAYLIGHT
BEGIN:STANDARD
TZOFFSETFROM:+0300
TZOFFSETTO:+0200
TZNAME:EET
DTSTART:20251026T010000
END:STANDARD
END:VTIMEZONE
BEGIN:VEVENT
DTSTART;TZID=Europe/Athens:20250920T200000
DTEND;TZID=Europe/Athens:20250921T230000
DTSTAMP:20260422T001522
CREATED:20250917T083351Z
LAST-MODIFIED:20250917T114103Z
UID:10004048-1758398400-1758495600@cityfestival.thisisathens.org
SUMMARY:Traffic Regulations
DESCRIPTION:Car-Free Athinas Street is all about leaving the car behind! It’s a 24-hour street festival full of activities and events in central Athens\, marking World Car-Free Day. To ensure smooth access and safety for all visitors\, traffic regulations will be in effect throughout the event.\n\nMetro Service \n\nMetro Lines 2 & 3 will operate 24 hours a day during the event to facilitate travel into and out of the city centre.\n\nTemporary Bus Route Changes\n\nFrom Saturday 20 September at 20:00 to Sunday 21 September at 23:00\, the following changes will apply:\n\nModified Bus Routes:\n\n1. Route 227: To Agios Artemios: Via Piraeus Street → Omonia Square → continues regular route.\n\nTo Petralona: Via Sokratous Street → right onto Piraeus Street → continues regular route.\n\n2. Routes 025 & 026: From Ippokratous: Via Omirou Street → right onto Panepistimiou Street → Omonia Square → left onto Sokratous Street → right onto Piraeus Street → right onto Myllerou Street→ continues regular route.\n\nTo Ippokratous: Via Thermopylon Street → left onto Piraeus Street → Omonia Square → Stadiou Street → continues regular route.\n\n3. Route 035: To Tavros: Via Sokratous Street→ right onto Piraeus Street → continues regular route.\n\nTo Kypseli: Via Piraeus Street → Omonia Square → continues regular route.\n\nTraffic Police Measures (Road Closures & Parking Restrictions) From 20:00 on Saturday\, 20 September to 23:00 on Sunday\, 21 September\, the following roads will be closed to all vehicle traffic\, and stopping and parking will be strictly prohibited:\n\nClosed Roads:\n\nAthinas Street (between Evripidou Street and Ermou Street)\, both directions\, including all side streets up to the first parallel roads.\n\nKarageorgi Servias Street (entire length)\n\nPerikleous Street (entire length)\n\nAthinaidos Street (entire length)\n\nAgias Irinis Street (entire length)\n\nAgion Asomaton Square (between Sarri Street and Ermou Street both directions\, including all side streets up to the first parallel roads.)\n\nErmou Street (between Agion Asomaton and Athinas Street both directions\, including all side streets up to the first parallel roads.)\n\nPlease Note:\n\nThese traffic restrictions may begin earlier or be extended beyond the scheduled times\, depending on prevailing traffic conditions. The final decision rests with the Athens Traffic Police Commander on duty. The Athens Traffic Department\, in coordination with the relevant authorities\, will be responsible for implementing and enforcing these measures. This includes the placement of road signage\, pavement markings\, and the management of traffic by authorised officers.\n\nPenalties for Non-Compliance\n\nAny violation of the above regulations—including failure to comply with road signs\, markings\, or instructions issued by traffic officers—will be prosecuted and penalised in accordance with the provisions of Law 2696/1999 (A-57) on the ratification of the Greek Highway Code.
URL:https://cityfestival.thisisathens.org/en/event/traffic-regulations/
LOCATION:Athinas Str.\, Athinas Street\, Athens\, Athens\, 105 52\, Greece
ATTACH;FMTTYPE=image/jpeg:https://cityfestival.thisisathens.org/wp-content/uploads/2025/09/GMK-Antiquities-ArtOnTheUnderground-26-scaled.jpg
END:VEVENT
BEGIN:VEVENT
DTSTART;TZID=Europe/Athens:20250920T203000
DTEND;TZID=Europe/Athens:20250920T230000
DTSTAMP:20260422T001522
CREATED:20250902T132823Z
LAST-MODIFIED:20250903T093247Z
UID:10004027-1758400200-1758409200@cityfestival.thisisathens.org
SUMMARY:Disco Roller Party: DJ Nicola Lavacca
DESCRIPTION:As the vinyl crates are opened\, the iconic sounds of the ‘70s and ‘80s infuse the city\, transporting you back to the golden age of legendary club nights. Behind the decks\, the inimitable Nicola Lavacca\, Athens’ foremost collector and DJ\, delivers an unparalleled tribute to the authentic disco era. It’s a relentless chase for the perfect dance move\, an open invitation to those who revere the glittering allure of the disco ball. It’s the ultimate party taking over Athinas Street\, at the heart of the city.
URL:https://cityfestival.thisisathens.org/en/event/disco-roller-party-dj-nicola-lavacca/
LOCATION:Athinas Str.\, Athinas Street\, Athens\, Athens\, 105 52\, Greece
CATEGORIES:DJ SET,ENTERTAINMENT,FREE,OUTDOOR ACTIVITY,PARTY
ATTACH;FMTTYPE=image/jpeg:https://cityfestival.thisisathens.org/wp-content/uploads/2025/09/20240922-TGR-AthinasCarFree-Saturday-0477-scaled.jpg
END:VEVENT
BEGIN:VEVENT
DTSTART;TZID=Europe/Athens:20250920T233000
DTEND;TZID=Europe/Athens:20250921T053000
DTSTAMP:20260422T001522
CREATED:20250902T141342Z
LAST-MODIFIED:20250904T071550Z
UID:10004032-1758411000-1758432600@cityfestival.thisisathens.org
SUMMARY:Midnight Screenings with Midnight Express
DESCRIPTION:Back with another installment of midnight screenings\, the concept of film aficionado Akis Kapranos returns\, featuring three films\, three unique worlds\, and an unforgettable cinematic experience beneath the city stars.\n\n 	The Love Bug\, Robert Stevenson\, 1968 (108′)\n\nThe lovable Herbie\, the “Beetle with a soul\,” brings laughter and action in this classic Disney comedy. A race car driver in a career crisis and a car with personality prove that friendship and dedication win every race. A light-hearted\, feel-good film that continues to captivate both young and old.\n\n 	Christine\, John Carpent\, 1983 (110′)\n\nFrom Stephen King’s imagination and directed by John Carpenter comes one of the most iconic thrillers of the ’80s. A seemingly innocent red Plymouth Fury develops a life of its own\, dragging its young owner into a dark obsession. A cult classic that explores the darker side of passion\, uniquely capturing the atmosphere of the ’80s and still beloved by horror movie fans today.\n\n 	Blade Runner\, Ridley Scott\, 1982 (117′)\n\nMore than just a science fiction film\, Ridley Scott’s iconic futuristic noir transports us to the dark\, rainy Los Angeles of 2019. “Blade runners” hunt down replicants\, genetically engineered humans\, in a story that goes beyond police procedural to explore deep existential questions about identity and humanity. A masterpiece that defined the genre.
URL:https://cityfestival.thisisathens.org/en/event/midnight-screenings-with-midnight-express/
LOCATION:Athinas Str.\, Athinas Street\, Athens\, Athens\, 105 52\, Greece
CATEGORIES:CINEMA,ENTERTAINMENT,FREE,OUTDOOR ACTIVITY
ATTACH;FMTTYPE=image/jpeg:https://cityfestival.thisisathens.org/wp-content/uploads/2025/09/20240922-TGR-AthinasCarFree-Saturday-0623-scaled.jpg
END:VEVENT
END:VCALENDAR