BEGIN:VCALENDAR
VERSION:2.0
PRODID:-//This is Athens City Festival - ECPv6.12.0.1//NONSGML v1.0//EN
CALSCALE:GREGORIAN
METHOD:PUBLISH
X-ORIGINAL-URL:https://cityfestival.thisisathens.org/en/
X-WR-CALDESC:Events for This is Athens City Festival
REFRESH-INTERVAL;VALUE=DURATION:PT1H
X-Robots-Tag:noindex
X-PUBLISHED-TTL:PT1H
BEGIN:VTIMEZONE
TZID:Europe/Athens
BEGIN:DAYLIGHT
TZOFFSETFROM:+0200
TZOFFSETTO:+0300
TZNAME:EEST
DTSTART:20250330T010000
END:DAYLIGHT
BEGIN:STANDARD
TZOFFSETFROM:+0300
TZOFFSETTO:+0200
TZNAME:EET
DTSTART:20251026T010000
END:STANDARD
END:VTIMEZONE
BEGIN:VEVENT
DTSTART;TZID=Europe/Athens:20251220T173000
DTEND;TZID=Europe/Athens:20251221T230000
DTSTAMP:20260419T233420
CREATED:20251211T105744Z
LAST-MODIFIED:20251211T105750Z
UID:10004067-1766251800-1766358000@cityfestival.thisisathens.org
SUMMARY:Protogenous Street Party
DESCRIPTION:It’s a small street with a big creative heart. The traditional Protogenous Street will once more light up for a two-night musical adventure\, transforming into a buzzing hotspot of music and imagination. DJ sets fire up the first night (Dec 20th)\, while rising alternative bands take the reins on the next (Dec 21st). Expect happenings\, art\, surprises\, and neighborhood shops keeping their doors open to fuel the vibe with festive flavors and scents. It’s a street party full of authentic\, city-grown holiday magic!
URL:https://cityfestival.thisisathens.org/en/event/protogenous-street-party/
LOCATION:Protogenous Str.\, Protogenous Street\, Athens\, Athens\, 105 54\, Greece
CATEGORIES:CONCERT,DJ SET,ENTERTAINMENT,FREE,GASTRONOMY,OUTDOOR ACTIVITY,PARTY
ATTACH;FMTTYPE=image/jpeg:https://cityfestival.thisisathens.org/wp-content/uploads/2025/11/Protogenous-Street-Party.jpg
END:VEVENT
BEGIN:VEVENT
DTSTART;TZID=Europe/Athens:20251220T190000
DTEND;TZID=Europe/Athens:20251220T190000
DTSTAMP:20260419T233420
CREATED:20251211T105810Z
LAST-MODIFIED:20251211T105810Z
UID:10004068-1766257200-1766257200@cityfestival.thisisathens.org
SUMMARY:Lambrini Street Party
DESCRIPTION:Dance at the edge of the city\, as Lambrini transforms into a one-night-only dance stage this festive season. ENTEKΑ Athens is hosting a massive\, electrifying bash in this vibrant Athenian neighbourhood\, bringing together some of the city’s most energetic DJs and producers to keep the beats blazing and the crowd dancing all night long. With dazzling lights and a high-energy atmosphere\, this night is set to be one of the most talked-about parties of the season.
URL:https://cityfestival.thisisathens.org/en/event/lambrini-street-party/
LOCATION:Agios Andreas Square\, Πλατεία Τράλλεων\, Athens\, 111 42\, Greece
CATEGORIES:DJ SET,ENTERTAINMENT,OUTDOOR ACTIVITY,PARTY
ATTACH;FMTTYPE=image/png:https://cityfestival.thisisathens.org/wp-content/uploads/2025/11/Enteka-Athens.png
END:VEVENT
BEGIN:VEVENT
DTSTART;TZID=Europe/Athens:20251220T190000
DTEND;TZID=Europe/Athens:20251220T200000
DTSTAMP:20260419T233420
CREATED:20251211T105613Z
LAST-MODIFIED:20251211T105613Z
UID:10004069-1766257200-1766260800@cityfestival.thisisathens.org
SUMMARY:Night Yoga
DESCRIPTION:Take a deep breath and find your zen under the stars with a unique night yoga session at Rizari Park. Led by experienced instructors\, it’s the perfect way to unwind in the city’s green oasis. Whether you’re a pro or a total newbie\, expect a night of breathing\, stretching\, and a whole lot of good vibes. It might even be the start of a new holiday tradition! Because for the Longest Night of the Year\, beyond music\, dance\, and partying\, there’s also a chance for well-being\, surrounded by the nighttime greenery of Rizari Park.
URL:https://cityfestival.thisisathens.org/en/event/night-yoga/
LOCATION:Rizari Park\, Rizari 5\, Athens\, Athens\, 106 76\, Greece
CATEGORIES:FREE,OUTDOOR ACTIVITY
ATTACH;FMTTYPE=image/png:https://cityfestival.thisisathens.org/wp-content/uploads/2025/11/Night-Yoga.png
END:VEVENT
BEGIN:VEVENT
DTSTART;TZID=Europe/Athens:20251220T193000
DTEND;TZID=Europe/Athens:20251220T203000
DTSTAMP:20260419T233420
CREATED:20251211T105636Z
LAST-MODIFIED:20251211T105636Z
UID:10004071-1766259000-1766262600@cityfestival.thisisathens.org
SUMMARY:Melachrinos Velenzas: A Christmas Piano Story
DESCRIPTION:Melachrinos Velenzas\, the artist who charmed us with his globally acclaimed Lemon\, is back this festive season with a brand-new musical universe! His Piano Stories\, vivid musical tales woven sometimes from memory and other times from moments of today\, will take on a festive twist. Picture intimate\, poetic compositions blending the magic of Christmas with the simplicity of a piano. Join him at Victoria Square for a night where music speaks louder than words.\n\n \n\n 
URL:https://cityfestival.thisisathens.org/en/event/melachrinos-velenzas-christmas-piano-story/
LOCATION:Victoria Square\, Victoria Square\, 104 34\, Greece
CATEGORIES:CONCERT,ENTERTAINMENT,FREE,OUTDOOR ACTIVITY
ATTACH;FMTTYPE=image/jpeg:https://cityfestival.thisisathens.org/wp-content/uploads/2025/11/Piano-Stories-Μελαχρινός-Βελέντζας.jpg
GEO:37.993247439277;23.729732025345
X-APPLE-STRUCTURED-LOCATION;VALUE=URI;X-ADDRESS=Victoria Square Victoria Square 104 34 Greece;X-APPLE-RADIUS=500;X-TITLE=Victoria Square:geo:23.729732025345,37.993247439277
END:VEVENT
BEGIN:VEVENT
DTSTART;TZID=Europe/Athens:20251220T193000
DTEND;TZID=Europe/Athens:20251220T203000
DTSTAMP:20260419T233420
CREATED:20251211T105703Z
LAST-MODIFIED:20251211T105703Z
UID:10004070-1766259000-1766262600@cityfestival.thisisathens.org
SUMMARY:A Parade with Agia Fanfara
DESCRIPTION:The legendary Agia Fanfara hits the streets just before the Longest Night of the Year to get the whole city pulsing with joy! This iconic 25-piece ensemble\, featuring brass\, woodwinds\, percussion\, and pure energy\, will take over Athens with a full-blown Balkan celebration. From Monastiraki Square to Avissynia Square\, they’ll set the pace with irresistible rhythms\, spreading smiles\, beats\, and festive vibes wherever they go. Join the parade and follow their lead for a true Balkan fanfare!
URL:https://cityfestival.thisisathens.org/en/event/a-parade-with-agia-fanfara/
LOCATION:Monastiraki Square\, Moanstiraki Square\, Athens\, Athens\, 105 57\, Greece
CATEGORIES:CONCERT,ENTERTAINMENT,FREE,OUTDOOR ACTIVITY
ATTACH;FMTTYPE=image/jpeg:https://cityfestival.thisisathens.org/wp-content/uploads/2025/11/Αγία-Φανφάρα-scaled.jpg
END:VEVENT
BEGIN:VEVENT
DTSTART;TZID=Europe/Athens:20251220T200000
DTEND;TZID=Europe/Athens:20251220T210000
DTSTAMP:20260419T233420
CREATED:20251211T105803Z
LAST-MODIFIED:20251211T105804Z
UID:10004072-1766260800-1766264400@cityfestival.thisisathens.org
SUMMARY:Alexandros Affolter Quartet - Sinatra with a Twist
DESCRIPTION:The smooth sounds of Frank Sinatra will drift over Mesologgiou Square as Dutch singer Alexandros Affolter joins forces with drummer Serafeim Bello to celebrate Ol’ Blue Eyes with a fresh jazz twist. Classic Sinatra gems\, along with deeper cuts that shaped his own record collection\, blend into a tribute that sweeps you back to the golden age of swing\, this time with a stylish\, contemporary spark.
URL:https://cityfestival.thisisathens.org/en/event/alexandros-affolter-quartet-sinatra-with-a-twist/
LOCATION:Mesologgiou Square\, Mesologgiou Square\, Athens\, Athens\, 116 34\, Greece
CATEGORIES:CONCERT,ENTERTAINMENT,FREE,OUTDOOR ACTIVITY
ATTACH;FMTTYPE=image/png:https://cityfestival.thisisathens.org/wp-content/uploads/2025/11/Sinatra-with-a-twist.png
END:VEVENT
BEGIN:VEVENT
DTSTART;TZID=Europe/Athens:20251220T210000
DTEND;TZID=Europe/Athens:20251220T220000
DTSTAMP:20260419T233420
CREATED:20251211T105434Z
LAST-MODIFIED:20251216T111940Z
UID:10004075-1766264400-1766268000@cityfestival.thisisathens.org
SUMMARY:Storyville Ragtimers & Stomping Ground
DESCRIPTION:Step back in time to when jazz wasn’t just music\, it was a way of life!\nThe Storyville Rugtimers bring the pulse of 1920s New Orleans to Athens\, from the lively streets of Storyville to the rolling rhythms of Basin Street. Channeling the spirit of Armstrong\, Jelly Roll Morton\, and the legends who shaped an era\, they’re serving up a vintage\, swing-soaked Christmas celebration. Head to the heart of Kolonaki’s best-known pedestrian street for a festive\, jazz-infused throwback filled with twinkling lights and irresistible beats. Accompanied by the Stomping Ground dance group\, the night promises irresistible rhythms that will have us dancing together.
URL:https://cityfestival.thisisathens.org/en/event/storyville-ragtimers-stomping-ground/
LOCATION:Voukourestiou Street\, Voukourestiou Street\, Kolonaki\, 106 71
CATEGORIES:CONCERT,ENTERTAINMENT,FREE,OUTDOOR ACTIVITY
ATTACH;FMTTYPE=image/jpeg:https://cityfestival.thisisathens.org/wp-content/uploads/2025/12/The-Storyville-Ragtimers.jpg
GEO:37.977779603773;23.73669268936
X-APPLE-STRUCTURED-LOCATION;VALUE=URI;X-ADDRESS=Voukourestiou Street Voukourestiou Street Kolonaki 106 71;X-APPLE-RADIUS=500;X-TITLE=Voukourestiou Street:geo:23.73669268936,37.977779603773
END:VEVENT
BEGIN:VEVENT
DTSTART;TZID=Europe/Athens:20251220T210000
DTEND;TZID=Europe/Athens:20251220T220000
DTSTAMP:20260419T233420
CREATED:20251211T105554Z
LAST-MODIFIED:20251211T105554Z
UID:10004074-1766264400-1766268000@cityfestival.thisisathens.org
SUMMARY:De Profundis Ensemble
DESCRIPTION:De Profundis Ensemble breaks the rules with classical street vibes\, stepping out of the concert hall and onto the vibrant stretch of Ermou! This group of virtuoso musicians brings classical music straight into the heart of Athens\, transforming the city’s busiest street into a dynamic open-air stage. With passion\, precision\, and a surge of energy\, they turn this commercial artery into a space of high artistry\, proving that classical music can shine anywhere\, as long as you give it room to breathe.
URL:https://cityfestival.thisisathens.org/en/event/de-profundis-ensemble/
LOCATION:Kapnikarea\, Kapnikarea Square\, Athens\, Athens\, 105 63\, Greece
CATEGORIES:CONCERT,ENTERTAINMENT,FREE,OUTDOOR ACTIVITY
ATTACH;FMTTYPE=image/jpeg:https://cityfestival.thisisathens.org/wp-content/uploads/2025/11/De-Profundis-Ensemble.jpg
END:VEVENT
END:VCALENDAR