BEGIN:VCALENDAR
VERSION:2.0
PRODID:-//This is Athens City Festival - ECPv6.12.0.1//NONSGML v1.0//EN
CALSCALE:GREGORIAN
METHOD:PUBLISH
X-WR-CALNAME:This is Athens City Festival
X-ORIGINAL-URL:https://cityfestival.thisisathens.org/en/
X-WR-CALDESC:Events for This is Athens City Festival
REFRESH-INTERVAL;VALUE=DURATION:PT1H
X-Robots-Tag:noindex
X-PUBLISHED-TTL:PT1H
BEGIN:VTIMEZONE
TZID:Europe/Athens
BEGIN:DAYLIGHT
TZOFFSETFROM:+0200
TZOFFSETTO:+0300
TZNAME:EEST
DTSTART:20260329T010000
END:DAYLIGHT
BEGIN:STANDARD
TZOFFSETFROM:+0300
TZOFFSETTO:+0200
TZNAME:EET
DTSTART:20261025T010000
END:STANDARD
END:VTIMEZONE
BEGIN:VEVENT
DTSTART;TZID=Europe/Athens:20260501T170000
DTEND;TZID=Europe/Athens:20260503T230000
DTSTAMP:20260419T191744
CREATED:20260331T120824Z
LAST-MODIFIED:20260331T120853Z
UID:10004127-1777654800-1777849200@cityfestival.thisisathens.org
SUMMARY:Protogenous Urban Market
DESCRIPTION:Protogenous Street is a living example of the art of Athenian transformation\, going from a narrow\, downtown commercial lane into the ultimate destination for the city’s coolest subcultures. There’s something for everyone here: from niche record stores and skate shops to quirky hair salons\, vintage furniture\, and street food you won’t forget. It’s a place where everyone finds their spot.\n\nBut when the This is Athens City Festival arrives\, Protogenous switches gears for three whole days. Once the shutters go down\, the speakers go up\, the street fills with people\, and the urban landscape turns into one massive open-air party.\n\nYou can expect live gigs that’ll make you stop in your tracks\, DJs keeping the beat going non-stop\, street food on the go\, impromptu markets\, creative pop-ups\, and surprises tucked away in every corner. For those forty-eight hours\, the whole street becomes one big group of friends. You’ll find yourself dancing with strangers who feel like mates by the end of the night\, drifting from stage to stage\, beat to beat\, and laugh to laugh.\n\nThese are the moments when Athens shows its most authentic side: open\, spontaneous\, creative\, and completely up for a good time.
URL:https://cityfestival.thisisathens.org/en/event/protogenous-urban-market/
LOCATION:Protogenous Str.\, Protogenous Street\, Athens\, Athens\, 105 54\, Greece
CATEGORIES:CONCERT,DJ SET,ENTERTAINMENT,FREE,GASTRONOMY,OUTDOOR ACTIVITY,PARTY
ATTACH;FMTTYPE=image/jpeg:https://cityfestival.thisisathens.org/wp-content/uploads/2026/03/Photo-May-09-2025-19-58-01-scaled.jpg
END:VEVENT
BEGIN:VEVENT
DTSTART;TZID=Europe/Athens:20260502T130000
DTEND;TZID=Europe/Athens:20260503T230000
DTSTAMP:20260419T191744
CREATED:20260331T122315Z
LAST-MODIFIED:20260418T133837Z
UID:10004125-1777726800-1777849200@cityfestival.thisisathens.org
SUMMARY:Athens Asian Food Festival 2026
DESCRIPTION:The Kypseli Municipal Market is set to be flooded with the incredible aromas and flavours of the East for a two-day celebration of Asian gastronomy and culture\, held as part of the This is Athens City Festival. In one of the city’s most vibrant community hubs\, top chefs and artisans are coming together to serve up an experience that bridges authentic street food with modern Asian aesthetics.\n\nFoodies can expect a deep dive into the kitchens of Japan\, China\, India\, and Thailand (and beyond). But it’s not just about the snacks\, though the street food is obviously a major draw. You’ll have the chance to experience traditional tea rituals\, discover the nuances of sake\, and tuck into legendary Asian sweets.\n\nBetween bites\, you can browse pop-up corners filled with unique products and handmade crafts. It’s a full-on sensory feast that brings a burst of Asian energy right into the heart of Kypseli.\n\nThe ultimate weekend pitstop for anyone craving authentic bao\, spice\, and a bit of a wander through Athens’ most eclectic market.
URL:https://cityfestival.thisisathens.org/en/event/athens-asian-food-festival-2026/
LOCATION:Kypseli Municipal Market\, Kypseli Municipal Market\, Athens\, Athens\, 113 61\, Greece
CATEGORIES:DJ SET,ENTERTAINMENT,EXHIBITION,FOR KIDS,FREE,GASTRONOMY,OUTDOOR ACTIVITY
ATTACH;FMTTYPE=image/png:https://cityfestival.thisisathens.org/wp-content/uploads/2026/03/image-5.png
END:VEVENT
BEGIN:VEVENT
DTSTART;TZID=Europe/Athens:20260503T150000
DTEND;TZID=Europe/Athens:20260503T230000
DTSTAMP:20260419T191744
CREATED:20260418T134359Z
LAST-MODIFIED:20260418T134359Z
UID:10004779-1777820400-1777849200@cityfestival.thisisathens.org
SUMMARY:Κeramikos Beat
DESCRIPTION:The crews from Needless and Teleion Bar have handpicked the Mikis Theodorakis Park (Iera Odos & Pireos) as their personal “Eden\,” transforming it into the ultimate summer warm-up.\n\nFrom early afternoon\, the landscape is flooded with music\, atmosphere\, and that effortless energy that makes you want to stay until the final beat. A curated lineup of DJs and live acts will lay down a sonic carpet of tropical\, Afro\, disco\, and Balearic beats. Within this soundscape\, you can browse a boutique record fair\, dive into curated street food\, and sip cocktails designed specifically for the day’s vibe.\n\nA heavenly reminder that summer can start right here in the city—provided you have the right location\, the right soundtrack\, and the right company.
URL:https://cityfestival.thisisathens.org/en/event/keramikos-beat/
LOCATION:Mikis Theodorakis Park\, Iera Odos & Pireos\, Athens\, 118 54\, Greece
CATEGORIES:DJ SET,ENTERTAINMENT,FREE,GASTRONOMY,OUTDOOR ACTIVITY,PARTY
ATTACH;FMTTYPE=image/png:https://cityfestival.thisisathens.org/wp-content/uploads/2026/03/DRAFT-COVER0.png
END:VEVENT
BEGIN:VEVENT
DTSTART;TZID=Europe/Athens:20260503T180000
DTEND;TZID=Europe/Athens:20260503T230000
DTSTAMP:20260419T191744
CREATED:20260417T090934Z
LAST-MODIFIED:20260418T135958Z
UID:10004150-1777831200-1777849200@cityfestival.thisisathens.org
SUMMARY:Zappeion Dance by FOR303\, 88 Butterfly & MOS
DESCRIPTION:Two of the city’s most formidable promoters\, FOR303\, 88 Butterfly and MadeOfSounds\, are joining forces for a one-off\, one-of-a-kind afternoon. They’re staging a rhythmic takeover of the iconic Zappeion Megaron courtyard\, flipping one of Athens’ most stately landmarks into a world-class outdoor club. At the helm is a global special guest from the electronic A-list\, ensuring the Zappeion becomes a thumping international dance scene. Expect a bespoke setup and a sound system beefy enough to rival any major festival\, all set against the backdrop of 19th-century marble and the open Athenian sky.\n\nIt’s a rare chance to catch a high-octane dance experience where grand neoclassical architecture meets cutting-edge electronic beats. If you’re the type who demands quality in the booth and pure intensity on the dancefloor\, consider your weekend plans sorted. It’s an absolute essential for those who like their basslines served against a historic backdrop.
URL:https://cityfestival.thisisathens.org/en/event/zappeion-dance-for303-88-butterfly-mos/
LOCATION:Zappeion Megaron\, Zappeion Hall\, Athens\, Athens\, 105 57\, Greece
CATEGORIES:DJ SET,ENTERTAINMENT,FREE,PARTY
ATTACH;FMTTYPE=image/png:https://cityfestival.thisisathens.org/wp-content/uploads/2026/04/image-1.png
GEO:37.971705378867;23.736738299693
X-APPLE-STRUCTURED-LOCATION;VALUE=URI;X-ADDRESS=Zappeion Megaron Zappeion Hall Athens Athens 105 57 Greece;X-APPLE-RADIUS=500;X-TITLE=Zappeion Hall:geo:23.736738299693,37.971705378867
END:VEVENT
END:VCALENDAR