BEGIN:VCALENDAR
VERSION:2.0
PRODID:-//This is Athens City Festival - ECPv6.12.0.1//NONSGML v1.0//EN
CALSCALE:GREGORIAN
METHOD:PUBLISH
X-WR-CALNAME:This is Athens City Festival
X-ORIGINAL-URL:https://cityfestival.thisisathens.org/en/
X-WR-CALDESC:Events for This is Athens City Festival
REFRESH-INTERVAL;VALUE=DURATION:PT1H
X-Robots-Tag:noindex
X-PUBLISHED-TTL:PT1H
BEGIN:VTIMEZONE
TZID:Europe/Athens
BEGIN:DAYLIGHT
TZOFFSETFROM:+0200
TZOFFSETTO:+0300
TZNAME:EEST
DTSTART:20260329T010000
END:DAYLIGHT
BEGIN:STANDARD
TZOFFSETFROM:+0300
TZOFFSETTO:+0200
TZNAME:EET
DTSTART:20261025T010000
END:STANDARD
END:VTIMEZONE
BEGIN:VEVENT
DTSTART;TZID=Europe/Athens:20260503T120000
DTEND;TZID=Europe/Athens:20260503T130000
DTSTAMP:20260422T053038
CREATED:20260331T130830Z
LAST-MODIFIED:20260401T081651Z
UID:10004196-1777809600-1777813200@cityfestival.thisisathens.org
SUMMARY:Guided Tour at the National Historical Museum
DESCRIPTION:Step inside the grand\, stately building with the bronze statue of Kolokotronis on horseback out front. It’s nothing less than the Old Parliament House\, the very heart of Greece’s early political acts\, and it is throwing open its doors for the This is Athens City Festival.\n\nThis isn’t just a wander through a dusty museum; it’s a guided journey through the National Historical Museum. You’ll be stepping into the original debating chamber where the big decisions that shaped modern Greece were hammered out. It’s an atmospheric spot that keeps history grounded in the centre of the city. Our guide will lead you through a stunning collection that charts the Greek story from the fall of Constantinople through to the 20th century. You’ll see personal heirlooms and everyday objects from the Greek Revolution\, intricate traditional costumes that are basically 19th-century high fashion\, historic weaponry\, and archival treasures that tell the story of a nation finding its feet.\n\nThis activity is only available in Greek.
URL:https://cityfestival.thisisathens.org/en/event/guided-tour-at-the-national-historical-museum/2026-05-03/
LOCATION:National Historical Museum\, Stadiou 13\, Athens\, Athens\, 105 61\, Greece
CATEGORIES:EXHIBITION,FREE,MUSEUM,TOUR
ATTACH;FMTTYPE=image/jpeg:https://cityfestival.thisisathens.org/wp-content/uploads/2026/03/φωτό-ξεναγήσεων.jpg
END:VEVENT
BEGIN:VEVENT
DTSTART;TZID=Europe/Athens:20260503T170000
DTEND;TZID=Europe/Athens:20260503T190000
DTSTAMP:20260422T053038
CREATED:20260409T075131Z
LAST-MODIFIED:20260409T075310Z
UID:10005285-1777827600-1777834800@cityfestival.thisisathens.org
SUMMARY:A Three-Star Architectural Crown: The Neoclassical Trilogy of Athens
DESCRIPTION:The University\, the Academy\, and the National Library form the absolute crown jewels of our city’s architecture\, the ultimate Trilogy that defined the look of modern Athens.\n\nBut there’s way more to these marble marvels than just a good photo op. As part of this year’s This is Athens City Festival\, we are hitting the pavement with archaeologist and top-tier guide Michalis Giohalas.\nMichalis won’t just point at statues; he’s here to spill the secrets\, symbols\, and big ideas hidden behind those famous facades. You’ll discover how 19th-century architects tried to build a “bridge” between the glory of Ancient Greece and the newly formed Greek state. Think of it as a deep dive into Athens’ DNA\, explaining how statues\, towering columns\, and tiny decorative details all played a part in a young nation’s vision.\n\nIt’s history\, but with a pulse. Whether you’re a fresh arrival to the city or a long-term expat who walks past these buildings every day\, this tour will make you see the centre of Athens in a completely new light.\n\nMeeting Point: The Propylaea of the University of Athens (Right outside “Panepistimio” Metro station\, University exit). \n\nThis activity is only available in Greek.
URL:https://cityfestival.thisisathens.org/en/event/a-three-star-architectural-crown-the-neoclassical-trilogy-of-athens-2/
LOCATION:Athens Trilogy\, Panepistimiou 39\, Athens\, Athens\, 105 64\, Greece
CATEGORIES:FREE,OUTDOOR ACTIVITY,TOUR
ATTACH;FMTTYPE=image/jpeg:https://cityfestival.thisisathens.org/wp-content/uploads/2025/03/ΤΡΙΛΟΓΙΑ-ΜΕΡΟΣ-Β-scaled.jpg
END:VEVENT
END:VCALENDAR