BEGIN:VCALENDAR
VERSION:2.0
PRODID:-//This is Athens City Festival - ECPv6.12.0.1//NONSGML v1.0//EN
CALSCALE:GREGORIAN
METHOD:PUBLISH
X-WR-CALNAME:This is Athens City Festival
X-ORIGINAL-URL:https://cityfestival.thisisathens.org/en/
X-WR-CALDESC:Events for This is Athens City Festival
REFRESH-INTERVAL;VALUE=DURATION:PT1H
X-Robots-Tag:noindex
X-PUBLISHED-TTL:PT1H
BEGIN:VTIMEZONE
TZID:Europe/Athens
BEGIN:DAYLIGHT
TZOFFSETFROM:+0200
TZOFFSETTO:+0300
TZNAME:EEST
DTSTART:20260329T010000
END:DAYLIGHT
BEGIN:STANDARD
TZOFFSETFROM:+0300
TZOFFSETTO:+0200
TZNAME:EET
DTSTART:20261025T010000
END:STANDARD
END:VTIMEZONE
BEGIN:VEVENT
DTSTART;TZID=Europe/Athens:20260504T210000
DTEND;TZID=Europe/Athens:20260504T230000
DTSTAMP:20260422T215228
CREATED:20260421T122751Z
LAST-MODIFIED:20260421T122916Z
UID:10004279-1777928400-1777935600@cityfestival.thisisathens.org
SUMMARY:Pantelis Thalassinos
DESCRIPTION:Greek radio MENTA 88 FM returns to the This is Athens City Festival\, once again leaving its distinct musical mark on the city’s biggest celebration. This time\, they are bringing a true heavyweight of Greek songwriting to the stage: the legendary Pantelis Thalassinos.\n\nWith a career- spanning decades\, Thalassinos has mastered the art of bridging the gap between traditional folk and the sophisticated entechno scene. Whether you know him from the cult-classic days of Lathrepivates or his iconic solo hits like “Anathema se” and “Smirnaika Tragoudia\,” his voice is a vessel that travels from the salt-air of the Aegean straight to the neighborhoods of Athens. Joined by a band of talented musicians\, Thalassinos promises a night of raw authenticity and emotion. Expect a setlist of timeless anthems that have become the soundtrack to countless Greek summers and city nights alike.
URL:https://cityfestival.thisisathens.org/en/event/pantelis-thalassinos/
LOCATION:Korai Square\, Korai 1\, Athens\, Athens\, 105 64\, Greece
CATEGORIES:CONCERT,ENTERTAINMENT,FREE,OUTDOOR ACTIVITY
ATTACH;FMTTYPE=image/jpeg:https://cityfestival.thisisathens.org/wp-content/uploads/2026/03/1500x1000_27.ΣΥΝΑΥΛΙΑ-ΜΕ-ΤΟΝ-ΠΑΝΤΕΛΗ-ΘΑΛΑΣΣΙΝΟ-1024x683-1.jpg
END:VEVENT
END:VCALENDAR