BEGIN:VCALENDAR
VERSION:2.0
PRODID:-//This is Athens City Festival - ECPv6.12.0.1//NONSGML v1.0//EN
CALSCALE:GREGORIAN
METHOD:PUBLISH
X-ORIGINAL-URL:https://cityfestival.thisisathens.org/en/
X-WR-CALDESC:Events for This is Athens City Festival
REFRESH-INTERVAL;VALUE=DURATION:PT1H
X-Robots-Tag:noindex
X-PUBLISHED-TTL:PT1H
BEGIN:VTIMEZONE
TZID:Europe/Athens
BEGIN:DAYLIGHT
TZOFFSETFROM:+0200
TZOFFSETTO:+0300
TZNAME:EEST
DTSTART:20260329T010000
END:DAYLIGHT
BEGIN:STANDARD
TZOFFSETFROM:+0300
TZOFFSETTO:+0200
TZNAME:EET
DTSTART:20261025T010000
END:STANDARD
END:VTIMEZONE
BEGIN:VEVENT
DTSTART;TZID=Europe/Athens:20260506T140000
DTEND;TZID=Europe/Athens:20260506T150000
DTSTAMP:20260421T161952
CREATED:20260408T120753Z
LAST-MODIFIED:20260408T120753Z
UID:10005223-1778076000-1778079600@cityfestival.thisisathens.org
SUMMARY:Thematic Tour: The Depiction of the Face through the Collections of the National Gallery
DESCRIPTION:In the main building of the National Gallery\, the public has the opportunity to participate in a thematic tour dedicated to the art of portraiture. The tour explores the timeless need of artists\, as well as historical figures\, to keep their likeness alive through the centuries\, beginning with the simple\, and almost ascetic forms of the Saints in the late 16th century.\n\nAs the tour progresses towards the present day\, visitors observe radical changes in materials and techniques\, discovering how the long tradition of painting was transformed to render human psychography with a contemporary perspective. It is a journey into the gaze and the form\, illuminating the evolution of identity and artistic expression through the treasures of the country’s most important gallery.\n\n\nThis activity is only available in Greek.
URL:https://cityfestival.thisisathens.org/en/event/thematic-tour-the-depiction-of-the-face-through-the-collections-of-the-national-gallery/
LOCATION:National Gallery – Alexandros Soutsos Museum\, 50 Vasileos Konstantinou\, Athens\, 116 34\, Greece
CATEGORIES:EXHIBITION,FREE,MUSEUM,TOUR
ATTACH;FMTTYPE=image/jpeg:https://cityfestival.thisisathens.org/wp-content/uploads/2026/04/61222_2000_2000-1.jpg
GEO:37.975933789444;23.749294222899
X-APPLE-STRUCTURED-LOCATION;VALUE=URI;X-ADDRESS=National Gallery – Alexandros Soutsos Museum 50 Vasileos Konstantinou Athens 116 34 Greece;X-APPLE-RADIUS=500;X-TITLE=50 Vasileos Konstantinou:geo:23.749294222899,37.975933789444
END:VEVENT
END:VCALENDAR