BEGIN:VCALENDAR
VERSION:2.0
PRODID:-//This is Athens City Festival - ECPv6.12.0.1//NONSGML v1.0//EN
CALSCALE:GREGORIAN
METHOD:PUBLISH
X-ORIGINAL-URL:https://cityfestival.thisisathens.org/en/
X-WR-CALDESC:Events for This is Athens City Festival
REFRESH-INTERVAL;VALUE=DURATION:PT1H
X-Robots-Tag:noindex
X-PUBLISHED-TTL:PT1H
BEGIN:VTIMEZONE
TZID:Europe/Athens
BEGIN:DAYLIGHT
TZOFFSETFROM:+0200
TZOFFSETTO:+0300
TZNAME:EEST
DTSTART:20260329T010000
END:DAYLIGHT
BEGIN:STANDARD
TZOFFSETFROM:+0300
TZOFFSETTO:+0200
TZNAME:EET
DTSTART:20261025T010000
END:STANDARD
END:VTIMEZONE
BEGIN:VEVENT
DTSTART;TZID=Europe/Athens:20260506T180000
DTEND;TZID=Europe/Athens:20260506T203000
DTSTAMP:20260422T194307
CREATED:20260420T125735Z
LAST-MODIFIED:20260420T130005Z
UID:10005412-1778090400-1778099400@cityfestival.thisisathens.org
SUMMARY:Historical Walk: "Women in the Resistance"
DESCRIPTION:History is often written in the singular\, but the soul of Athens was defended by many. As part of the Athens City Festival 2026\, historian Menelaos Charalampidis invites us on a specialized commemorative walk through the city streets\, illuminating a pivotal yet often overlooked chapter: the defiant role of women during the Occupation.\n\nThrough personal testimonies\, rare documents\, and vivid storytelling\, the footsteps of iconic figures like Lela Karagianni\, Elektra Apostolou\, and Ioulia Bimba come to life. From the protesters who stood unflinching before enemy tanks to the female partisans of the eastern neighbourhoods\, the city reveals a different\, fiercely dynamic face.\n\nThis isn’t just a journey through the struggle for liberation; it’s the story of women claiming a new place in post-war society. Join us for an experience that bridges past and present\, inviting you to “re-read” the history of Athens through the voices of the trailblazers who were kept on the margins for far too long.\n\nThis activity is only available in Greek.
URL:https://cityfestival.thisisathens.org/en/event/historical-walk-women-in-the-resistance/
LOCATION:Athens Trilogy\, Panepistimiou 39\, Athens\, Athens\, 105 64\, Greece
CATEGORIES:FREE,OUTDOOR ACTIVITY,TOUR
ATTACH;FMTTYPE=image/jpeg:https://cityfestival.thisisathens.org/wp-content/uploads/2026/04/3-scaled.jpg
END:VEVENT
END:VCALENDAR