BEGIN:VCALENDAR
VERSION:2.0
PRODID:-//This is Athens City Festival - ECPv6.12.0.1//NONSGML v1.0//EN
CALSCALE:GREGORIAN
METHOD:PUBLISH
X-WR-CALNAME:This is Athens City Festival
X-ORIGINAL-URL:https://cityfestival.thisisathens.org/en/
X-WR-CALDESC:Events for This is Athens City Festival
REFRESH-INTERVAL;VALUE=DURATION:PT1H
X-Robots-Tag:noindex
X-PUBLISHED-TTL:PT1H
BEGIN:VTIMEZONE
TZID:Europe/Athens
BEGIN:DAYLIGHT
TZOFFSETFROM:+0200
TZOFFSETTO:+0300
TZNAME:EEST
DTSTART:20260329T010000
END:DAYLIGHT
BEGIN:STANDARD
TZOFFSETFROM:+0300
TZOFFSETTO:+0200
TZNAME:EET
DTSTART:20261025T010000
END:STANDARD
END:VTIMEZONE
BEGIN:VEVENT
DTSTART;TZID=Europe/Athens:20260509T120000
DTEND;TZID=Europe/Athens:20260509T133000
DTSTAMP:20260422T110415
CREATED:20260417T104229Z
LAST-MODIFIED:20260417T105438Z
UID:10005338-1778328000-1778333400@cityfestival.thisisathens.org
SUMMARY:Guided Tour: AFTER - Giorgos Tserionis & Performance: Homo Urbanus Audit
DESCRIPTION:The Municipal Gallery of Athens presents a unique event centred around the exhibition “AFTER.”\n\nThe event begins with an exclusive walkthrough led by artist Giorgos Tserionis and curator Matina Tsigkakou\, who will explore the life cycle of homo urbanus\, shedding light on the hidden aspects of the urban narrative that define the exhibition. The experience culminates with the provocative performance “Homo urbanus audit” by Alex Louloudis. The internationally acclaimed drummer and composer activates Tserionis’ installation\, transforming it into a living sonic field. Using sounds inspired by the urban landscape\, Louloudis builds and deconstructs auditory structures\, challenging us to become “active listeners” and reflect on our relationship with the sonic stimuli and memories that saturate daily life in the modern city.
URL:https://cityfestival.thisisathens.org/en/event/guided-tour-after-giorgos-tserionis-performance-homo-urbanus-audit-2/
LOCATION:The City of Athens Gallery\, Municipal Gallery of Athens\, Athens\, Athens\, 104 36\, Greece
CATEGORIES:EXHIBITION,FREE,GALLERY,THEATER
ATTACH;FMTTYPE=image/jpeg:https://cityfestival.thisisathens.org/wp-content/uploads/2026/04/1000061758.jpg
END:VEVENT
END:VCALENDAR