BEGIN:VCALENDAR
VERSION:2.0
PRODID:-//This is Athens City Festival - ECPv6.12.0.1//NONSGML v1.0//EN
CALSCALE:GREGORIAN
METHOD:PUBLISH
X-ORIGINAL-URL:https://cityfestival.thisisathens.org/en/
X-WR-CALDESC:Events for This is Athens City Festival
REFRESH-INTERVAL;VALUE=DURATION:PT1H
X-Robots-Tag:noindex
X-PUBLISHED-TTL:PT1H
BEGIN:VTIMEZONE
TZID:Europe/Athens
BEGIN:DAYLIGHT
TZOFFSETFROM:+0200
TZOFFSETTO:+0300
TZNAME:EEST
DTSTART:20260329T010000
END:DAYLIGHT
BEGIN:STANDARD
TZOFFSETFROM:+0300
TZOFFSETTO:+0200
TZNAME:EET
DTSTART:20261025T010000
END:STANDARD
END:VTIMEZONE
BEGIN:VEVENT
DTSTART;TZID=Europe/Athens:20260509T110000
DTEND;TZID=Europe/Athens:20260509T120000
DTSTAMP:20260421T145001
CREATED:20260403T104914Z
LAST-MODIFIED:20260403T105029Z
UID:10005162-1778324400-1778328000@cityfestival.thisisathens.org
SUMMARY:Guided Tour of the "Elytis House" Museum
DESCRIPTION:A unique opportunity to get up close to the personal and intellectual world of Odysseas Elytis through a special guided tour of the “Elytis House” Museum.\n\nThe museum’s permanent exhibition brings the life and work of the great Nobel laureate to life\, featuring precious manuscripts\, rare Greek and foreign editions\, and artworks that illuminate his multifaceted creativity. A central highlight of the experience is the reconstruction of his study. this is the authentic space where the poet worked continuously from 1962 until the end of his life\, surrounded by his personal belongings and archives. A journey into the heart of Greek letters. The visit will allow visitors to breathe in the very atmosphere where some of the most significant works of world poetry were born.\n\nThis activity is only available in Greek.
URL:https://cityfestival.thisisathens.org/en/event/guided-tour-of-the-elytis-house-museum/
LOCATION:Elytis’ House – Museum\, Polygnotou 7\, Athens\, Athens\, 105 55\, Greece
CATEGORIES:EXHIBITION,FREE,MUSEUM,TOUR
ATTACH;FMTTYPE=image/jpeg:https://cityfestival.thisisathens.org/wp-content/uploads/2026/04/Ξενάγηση-κοινού-1-scaled.jpg
END:VEVENT
BEGIN:VEVENT
DTSTART;TZID=Europe/Athens:20260509T133000
DTEND;TZID=Europe/Athens:20260509T173000
DTSTAMP:20260421T145001
CREATED:20260421T092345Z
LAST-MODIFIED:20260421T092345Z
UID:10005469-1778333400-1778347800@cityfestival.thisisathens.org
SUMMARY:Guided Tours of the Cavafy Archive
DESCRIPTION:This year\, the This is Athens City Festival marks its fifth anniversary with a truly special collaboration. We’ve teamed up with the Onassis Foundation to invite you on a deeply personal journey through the life of one of the world’s most influential poets. For the first time as part of the festival\, we’re stepping inside a stunning 1910 listed building on Phrynichou Street. Since late 2023\, this spot in the heart of Plaka has become the new home of the Cavafy Archive\, and now\, its doors are opening for a series of exclusive guided tours.\n\nIt’s a rare chance to get up close and personal with the world of C.P. Cavafy by wandering through five specially curated rooms that recreate the atmosphere of his legendary home in Alexandria. Among the treasures\, you will find personal relics such as original furniture\, mementos\, and even the poet’s death mask\, alongside a remarkable collection of 966 surviving volumes in the library. The experience also showcases inspired art\, with works ranging from Theodore Ralli and Nikos Hadjikyriakos-Ghika to contemporary artists moved by his poetry. Perhaps most poignantly\, the tour reveals the universe of Cavafy’s Athens through personal diaries and glowing letters from literary greats like Angelos Sikelianos\, revealing the poet’s deep\, timeless connection to this city.\n\nTo celebrate this new partnership\, the Onassis Foundation is offering 20 free guided tours throughout the month for festival-goers. It’s a wonderful opportunity to dive deep into history\, memory\, and world-class art.\n\nThis activity is only available in Greek.
URL:https://cityfestival.thisisathens.org/en/event/guided-tours-of-the-cavafy-archive/
LOCATION:Cavafy Archive\, 16B Frynichou\, Plaka\, 105 58\, Greece
CATEGORIES:EXHIBITION,FREE,LITERATURE,MUSEUM,TOUR
ATTACH;FMTTYPE=image/jpeg:https://cityfestival.thisisathens.org/wp-content/uploads/2026/03/S9A1494_small.jpg
GEO:37.970139361328;23.730618794063
X-APPLE-STRUCTURED-LOCATION;VALUE=URI;X-ADDRESS=Cavafy Archive 16B Frynichou Plaka 105 58 Greece;X-APPLE-RADIUS=500;X-TITLE=16B Frynichou:geo:23.730618794063,37.970139361328
END:VEVENT
END:VCALENDAR