BEGIN:VCALENDAR
VERSION:2.0
PRODID:-//This is Athens City Festival - ECPv6.12.0.1//NONSGML v1.0//EN
CALSCALE:GREGORIAN
METHOD:PUBLISH
X-WR-CALNAME:This is Athens City Festival
X-ORIGINAL-URL:https://cityfestival.thisisathens.org/en/
X-WR-CALDESC:Events for This is Athens City Festival
REFRESH-INTERVAL;VALUE=DURATION:PT1H
X-Robots-Tag:noindex
X-PUBLISHED-TTL:PT1H
BEGIN:VTIMEZONE
TZID:Europe/Athens
BEGIN:DAYLIGHT
TZOFFSETFROM:+0200
TZOFFSETTO:+0300
TZNAME:EEST
DTSTART:20260329T010000
END:DAYLIGHT
BEGIN:STANDARD
TZOFFSETFROM:+0300
TZOFFSETTO:+0200
TZNAME:EET
DTSTART:20261025T010000
END:STANDARD
END:VTIMEZONE
BEGIN:VEVENT
DTSTART;TZID=Europe/Athens:20260510T110000
DTEND;TZID=Europe/Athens:20260510T200000
DTSTAMP:20260419T203831
CREATED:20260401T083050Z
LAST-MODIFIED:20260417T142706Z
UID:10004259-1778410800-1778443200@cityfestival.thisisathens.org
SUMMARY:Fun Vibes Family Festival
DESCRIPTION:One of the city’s most beautiful green lungs is being transformed into a massive playground for a day. As part of the This is Athens City Festival\, Rizari Park is hosting an all-day fest dedicated to kids\, families\, and the pure joy of getting active.\n\nThink of it as the ultimate outdoor reset. Through a mix of sports\, games\, and creative activities\, this is a chance for families to bond away from the glow of their screens. Whether you’re competing in team games or trying out new wellness activities\, the focus is on teamwork\, well-being\, and all-around joy.\n\nIt’s the perfect excuse to grab the trainers\, round up the kids\, and head to the park for a day of fresh air and high energy. In a city as bustling as Athens\, this is a rare moment to slow down (or speed up!) and reconnect with nature and each other through play.\n\nThis activity is only available in Greek.
URL:https://cityfestival.thisisathens.org/en/event/fun-vibes-family-festival/
LOCATION:Rizari Park\, Rizari 5\, Athens\, Athens\, 106 76\, Greece
CATEGORIES:DJ SET,ENTERTAINMENT,FOR KIDS,FREE,OUTDOOR ACTIVITY,SPORTS & WELLNESS,THEATER
ATTACH;FMTTYPE=image/jpeg:https://cityfestival.thisisathens.org/wp-content/uploads/2026/03/VGK_3344-scaled.jpg
END:VEVENT
BEGIN:VEVENT
DTSTART;TZID=Europe/Athens:20260510T120000
DTEND;TZID=Europe/Athens:20260510T233000
DTSTAMP:20260419T203831
CREATED:20260408T122650Z
LAST-MODIFIED:20260408T122824Z
UID:10005229-1778414400-1778455800@cityfestival.thisisathens.org
SUMMARY:World of Beer Festival 2026
DESCRIPTION:The Athens City Festival 2026 meets the World of Beer Festival for a unique three-day event dedicated to those who love great beer\, food\, and music. From 8 to 10 May\, more than 300 beer brands from Greece and abroad will gather at Technopolis: from classic lagers and weiss to original craft beers infused with mastic or lavender.\n\nAt the Beer Talks & Tastings\, experts will reveal the secrets of the perfect pairing while the experience reaches new heights with delicious street food and an explosive line-up of 9 different concerts: from the rock of Magic de Spell and Dionysis Tsaknis to the traditional Ikarian feasts of Nikos Fakaros.\n\nLaughter takes centre stage with top stand-up shows from Vangelis Charisopoulos\, Dimitra Nikitea\, and other beloved comedians. With a games area\, the Greek Beer Awards 2026\, and an atmosphere full of energy\, the World of Beer becomes the city’s ultimate meeting point.\n\nBook your tickets now and get ready for a three-day event that has it all—always enjoying responsibly!
URL:https://cityfestival.thisisathens.org/en/event/world-of-beer-festival-2026/2026-05-10/
LOCATION:Technopolis City of Athens\, Pireos 100\, Athens\, Athens\, 118 54\, Greece
CATEGORIES:CONCERT,DJ SET,ENTERTAINMENT,GASTRONOMY
ATTACH;FMTTYPE=image/jpeg:https://cityfestival.thisisathens.org/wp-content/uploads/2026/04/DJI_20250510203440_0199_D-scaled.jpg
END:VEVENT
BEGIN:VEVENT
DTSTART;TZID=Europe/Athens:20260510T130000
DTEND;TZID=Europe/Athens:20260510T230000
DTSTAMP:20260419T203831
CREATED:20260331T124808Z
LAST-MODIFIED:20260331T124808Z
UID:10004321-1778418000-1778454000@cityfestival.thisisathens.org
SUMMARY:Flare the Square 2026
DESCRIPTION:The This is Athens City Festival and Ministry Of Concrete (MOC) are renewing their vows for another epic skateboarding takeover of Kotzia Square. For one day only\, the massive plaza in front of City Hall is transformed into a sprawling\, state-of-the-art skate park\, welcoming a mix of pro riders and local amateurs.\n\nExpect high-speed lines\, gravity-defying tricks\, and that raw\, unfiltered street energy that defines Athenian skate culture. With massive DJ sets pumping through the speakers and the aroma of local street food filling the air\, Athens transforms into an urban stage for this celebration of movement\, creativity\, and the city’s vibrant youth scene.
URL:https://cityfestival.thisisathens.org/en/event/flare-the-square-2026/
LOCATION:Kotzia Square\, Kotzia Square\, Αθήνα\, Athens\, 105 51\, Greece
CATEGORIES:DJ SET,ENTERTAINMENT,FREE,OUTDOOR ACTIVITY,SPORTS & WELLNESS
ATTACH;FMTTYPE=image/jpeg:https://cityfestival.thisisathens.org/wp-content/uploads/2026/03/20230527-OSF-AthensCityFestival-FlameTheSquare_skate-0064-scaled.jpg
END:VEVENT
BEGIN:VEVENT
DTSTART;TZID=Europe/Athens:20260510T190000
DTEND;TZID=Europe/Athens:20260510T230000
DTSTAMP:20260419T203831
CREATED:20260331T124724Z
LAST-MODIFIED:20260331T124724Z
UID:10004260-1778439600-1778454000@cityfestival.thisisathens.org
SUMMARY:Athens All Star Party 2026
DESCRIPTION:There is nothing quite like watching the sunrise over the Parthenon while the bass is still dropping and the city’s heart starts beating a little faster. On the legendary “city balcony\,” suspended between the starlight and the city lights below\, the Lycabettus Hill parking lot is transforming once again into the country’s most iconic open-air dancefloor.\n\nThis is Athens City Festival invites the city’s top promoters who join joining forces to create a night of pure\, unadulterated ecstasy. Imagine thousands of people gathering at the summit for a marathon of electronic beats and an electric atmosphere that you can feel from miles away.\n\nWith a panoramic view that literally takes your breath away\, this is where high-octane club culture meets the vastness of the Attic sky. It has officially reached must-attend status for May\, confirming Athens as the nightlife capital of the Mediterranean.
URL:https://cityfestival.thisisathens.org/en/event/athens-all-star-party-2026/
LOCATION:Lycabettus Theatre Parking Lot\, Lycabettus Hill\, Athens\, Athens\, 114 71\, Greece
CATEGORIES:DJ SET,ENTERTAINMENT,FREE,OUTDOOR ACTIVITY,PARTY
ATTACH;FMTTYPE=image/png:https://cityfestival.thisisathens.org/wp-content/uploads/2026/03/ASL_DHMOS_900x600.png
END:VEVENT
END:VCALENDAR