BEGIN:VCALENDAR
VERSION:2.0
PRODID:-//This is Athens City Festival - ECPv6.12.0.1//NONSGML v1.0//EN
CALSCALE:GREGORIAN
METHOD:PUBLISH
X-WR-CALNAME:This is Athens City Festival
X-ORIGINAL-URL:https://cityfestival.thisisathens.org/en/
X-WR-CALDESC:Events for This is Athens City Festival
REFRESH-INTERVAL;VALUE=DURATION:PT1H
X-Robots-Tag:noindex
X-PUBLISHED-TTL:PT1H
BEGIN:VTIMEZONE
TZID:Europe/Athens
BEGIN:DAYLIGHT
TZOFFSETFROM:+0200
TZOFFSETTO:+0300
TZNAME:EEST
DTSTART:20260329T010000
END:DAYLIGHT
BEGIN:STANDARD
TZOFFSETFROM:+0300
TZOFFSETTO:+0200
TZNAME:EET
DTSTART:20261025T010000
END:STANDARD
END:VTIMEZONE
BEGIN:VEVENT
DTSTART;TZID=Europe/Athens:20260510T100000
DTEND;TZID=Europe/Athens:20260510T160000
DTSTAMP:20260424T185600
CREATED:20260402T123222Z
LAST-MODIFIED:20260407T093748Z
UID:10005106-1778407200-1778428800@cityfestival.thisisathens.org
SUMMARY:Nikolas Klironomos: A Retrospective (1985–2025)
DESCRIPTION:This major retrospective is a brilliant place to start looking into the work of Nikolas Klironomos\, an artist who has spent decades masterfully blurring the lines between fine art and set design.\n\nKlironomos doesn’t just paint; he “directs” his canvases. Think of him as a visual filmmaker who takes the raw\, chaotic energy of Athens\, our streets\, our faces\, our light\, and filters it through a lens of memory and emotion.\n\nIn this exhibition\, the mundane meets the dreamlike. You’ll see the changing seasons of the city tangled up with those small\, quirky moments that make life in Athens so unique. By playing with vibrant palettes and some rather unusual materials\, he creates scenes that feel like they’re in constant motion. It’s a bit like catching a glimpse of Athens from a moving Vespa—everything is fluid\, poetic\, and strangely alive.\n\nThis exhibition is designed to speak directly to your heart and your memory. What’s truly clever is how Klironomos takes “the bits and bobs” of life\, those fragmented\, everyday moments\, and gives them a sense of grandeur and importance. It’s a proper journey into the hidden corners of time and what it actually means to be human.\n\nOpening hours: Tuesday–Saturday: 11:00–19:00; Sunday: 10:00–16:00. Closed on Monday.
URL:https://cityfestival.thisisathens.org/en/event/nikolas-klironomos-a-retrospective-1985-2025/2026-05-10/
LOCATION:The City of Athens Gallery\, Municipal Gallery of Athens\, Athens\, Athens\, 104 36\, Greece
CATEGORIES:EXHIBITION,FREE,GALLERY
ATTACH;FMTTYPE=image/jpeg:https://cityfestival.thisisathens.org/wp-content/uploads/2026/04/5.-Η-Ακρόπολη-από-τον-Λυκαβηττό-ιδιωτ.-συλλογή-ακρυλικά-σε-καμβά-120Χ110εκ.jpg
END:VEVENT
BEGIN:VEVENT
DTSTART;TZID=Europe/Athens:20260510T100000
DTEND;TZID=Europe/Athens:20260510T160000
DTSTAMP:20260424T185600
CREATED:20260408T125056Z
LAST-MODIFIED:20260408T125137Z
UID:10005247-1778407200-1778428800@cityfestival.thisisathens.org
SUMMARY:Giorgos Tserionis: AFTER
DESCRIPTION:Through his works\, Giorgos Tserionis captures the life cycle of homo urbanus\, using a diverse array of materials such as clay\, marble\, metal\, and latex. The artist creates a contemporary “archaeology” from ruins\, building skeletons\, and debris\, highlighting the daily struggle for survival and the eternal search for a better life.\n\nSet within a historic neoclassical building in Metaxourgeio\, his work functions as a memento mori that\, while underscoring human fragility\, is not devoid of hope.\n\nBy juxtaposing darkness with light and “hazard yellow” with earthy tones\, the creator leads us beneath the surface of things\, offering a compassionate look at the hardships of modern man and giving a wink to the future with his own version of “and they lived happily ever after.\n\n\n\n\n\n\n\nOpening hours: Tuesday–Saturday: 11:00–19:00; Sunday: 10:00–16:00. Closed on Monday.
URL:https://cityfestival.thisisathens.org/en/event/giorgos-tserionis-after/2026-05-10/
LOCATION:The City of Athens Gallery\, Municipal Gallery of Athens\, Athens\, Athens\, 104 36\, Greece
CATEGORIES:EXHIBITION,FREE,GALLERY
ATTACH;FMTTYPE=image/jpeg:https://cityfestival.thisisathens.org/wp-content/uploads/2026/04/3-TSERIONIS-1-1.jpg
END:VEVENT
BEGIN:VEVENT
DTSTART;TZID=Europe/Athens:20260510T113000
DTEND;TZID=Europe/Athens:20260510T163000
DTSTAMP:20260424T185600
CREATED:20260421T105948Z
LAST-MODIFIED:20260421T105948Z
UID:10004262-1778412600-1778430600@cityfestival.thisisathens.org
SUMMARY:From Tbilisi to Athens
DESCRIPTION:We join forces with the Embassy of Georgia to host a unique celebration in the heart of the capital\, inviting you on a journey through a land defined by music\, art\, and deep-rooted tradition. From the haunting\, ethereal layers of polyphonic singing to the graceful\, high-energy movements of traditional dance\, every moment is designed to bring us closer to the authentic spirit of the Caucasus.\nYou’ll have the chance to get stuck into the distinct flavours and famous wines of Georgia through a curated tasting. You will gaze at an exhibition of contemporary Georgian painters that showcases the incredible vibrancy and creativity of the country’s modern art scene.\n\nWith workshops and performances tailored for all ages\, this is a brilliant shout for families and culture-seekers alike. It’s an open invitation to feel the warmth\, hospitality\, and creative energy of the Georgian community as they transform a central neighbourhood square into a crossroads of cultures. \n\n 
URL:https://cityfestival.thisisathens.org/en/event/from-tbilisi-to-athens/
LOCATION:Klafthmonos Square\, Klaftmonos Square\, Athens\, Athens\, 105 61\, Greece
CATEGORIES:DANCE,ENTERTAINMENT,EXHIBITION,FREE,GASTRONOMY,OUTDOOR ACTIVITY
ATTACH;FMTTYPE=image/png:https://cityfestival.thisisathens.org/wp-content/uploads/2026/03/Screenshot-2026-04-09-115236.png
END:VEVENT
BEGIN:VEVENT
DTSTART;TZID=Europe/Athens:20260510T120000
DTEND;TZID=Europe/Athens:20260510T180000
DTSTAMP:20260424T185600
CREATED:20260331T121739Z
LAST-MODIFIED:20260407T094104Z
UID:10004429-1778414400-1778436000@cityfestival.thisisathens.org
SUMMARY:Inna Orlik: The Permanent Collection
DESCRIPTION:Orlik Gallery invites the This is Athens City Festival audience to a distinctive encounter with the visual universe of Inna Orlik. This exhibition brings to the fore a world where contemporary painting enters into a dialogue with mythology\, nature\, and the human experience\, creating an environment rich in symbolism and layers of interpretation.\n\nDefined by bold colours\, complex textures\, and a singular painterly language\, Orlik’s works move between the visible and the suggestive\, the personal and the collective. The artist transforms the canvas into a space for narrative and exploration\, inviting the viewer to discover forms\, symbols\, and underlying connections. It is an exhibition tailored for those seeking not only aesthetic intensity in contemporary art but also a substantial\, resonant depth.\n\nOpening hours: Daily: 12:00–18:00.
URL:https://cityfestival.thisisathens.org/en/event/inna-orlik-the-permanent-collection/2026-05-10/
LOCATION:Orlik Gallery\, 3 Palaiologou Benizelou\, Athens\, 105 56\, Greece
CATEGORIES:EXHIBITION,FREE,GALLERY
ATTACH;FMTTYPE=image/jpeg:https://cityfestival.thisisathens.org/wp-content/uploads/2026/03/1K9A0075-HDR-scaled.jpg
GEO:37.974622591545;23.729274295913
X-APPLE-STRUCTURED-LOCATION;VALUE=URI;X-ADDRESS=Orlik Gallery 3 Palaiologou Benizelou Athens 105 56 Greece;X-APPLE-RADIUS=500;X-TITLE=3 Palaiologou Benizelou:geo:23.729274295913,37.974622591545
END:VEVENT
BEGIN:VEVENT
DTSTART;TZID=Europe/Athens:20260510T190000
DTEND;TZID=Europe/Athens:20260510T230000
DTSTAMP:20260424T185600
CREATED:20260408T133943Z
LAST-MODIFIED:20260421T072337Z
UID:10005456-1778439600-1778454000@cityfestival.thisisathens.org
SUMMARY:ATHENS: AM EXTENDED
DESCRIPTION:A high-tech\, multi-sensory deep dive into the city’s midnight soul with photographer Thanasis Karatzas and multimedia director Byron Nikolopoulos teaming up to breathe life into 88 iconic black-and-white shots of Athens captured between 2008 and 2022. Hosted at the cutting-edge METACOSMOI space right in the heart of the city\, they’ve turned static images into a living\, breathing digital playground.\n\nUsing Augmented Reality (AR)\, VR\, and sleek video projections\, the exhibition takes classic street photography and adds movement\, sound\, and a splash of colour. The project is fresh off international acclaim at Paris Photo and Photo London\, so we’re thrilled to bring it back to the very streets that inspired it. You’ll see Athens as a “palimpsest”\, a city of layers where ancient history\, gritty urban vibes\, and the digital future all sit at the same table.\n\n 
URL:https://cityfestival.thisisathens.org/en/event/athens-am-extended/2026-05-10/
LOCATION:metacosmoi\, 44 Geraniou\, Αθήνα\, 104 31\, Greece
CATEGORIES:EXHIBITION,FREE
ATTACH;FMTTYPE=image/jpeg:https://cityfestival.thisisathens.org/wp-content/uploads/2026/04/ATHENS-AM-EXTENDED-KARATZAS-1.jpg
GEO:37.984236009787;23.726108409407
X-APPLE-STRUCTURED-LOCATION;VALUE=URI;X-ADDRESS=metacosmoi 44 Geraniou Αθήνα 104 31 Greece;X-APPLE-RADIUS=500;X-TITLE=44 Geraniou:geo:23.726108409407,37.984236009787
END:VEVENT
END:VCALENDAR