BEGIN:VCALENDAR
VERSION:2.0
PRODID:-//This is Athens City Festival - ECPv6.12.0.1//NONSGML v1.0//EN
CALSCALE:GREGORIAN
METHOD:PUBLISH
X-WR-CALNAME:This is Athens City Festival
X-ORIGINAL-URL:https://cityfestival.thisisathens.org/en/
X-WR-CALDESC:Events for This is Athens City Festival
REFRESH-INTERVAL;VALUE=DURATION:PT1H
X-Robots-Tag:noindex
X-PUBLISHED-TTL:PT1H
BEGIN:VTIMEZONE
TZID:Europe/Athens
BEGIN:DAYLIGHT
TZOFFSETFROM:+0200
TZOFFSETTO:+0300
TZNAME:EEST
DTSTART:20260329T010000
END:DAYLIGHT
BEGIN:STANDARD
TZOFFSETFROM:+0300
TZOFFSETTO:+0200
TZNAME:EET
DTSTART:20261025T010000
END:STANDARD
END:VTIMEZONE
BEGIN:VEVENT
DTSTART;TZID=Europe/Athens:20260513T110000
DTEND;TZID=Europe/Athens:20260513T123000
DTSTAMP:20260421T143528
CREATED:20260420T134710Z
LAST-MODIFIED:20260420T134838Z
UID:10005418-1778670000-1778675400@cityfestival.thisisathens.org
SUMMARY:Guided Tour: The Permanent Collection of the National Glyptotheque
DESCRIPTION:The National Glyptotheque invites us to an immersive guided tour through the history of modern Greek sculpture\, from its beginnings in the 19th century to the bold explorations of the 21st. Under the guidance of the collection’s curator\, Tonia Giannoudaki\, the public will have the unique opportunity to discover the transition from the rigour of Neoclassicism to dynamic Realism and\, ultimately\, to the absolute freedom of Abstraction.\n\nThe tour illuminates the work of great Greek creators while simultaneously placing it in dialogue with iconic works by international artists\, highlighting the European trends that shaped domestic sculptural creation. This is a comprehensive narrative that transforms a visit to Goudi into a living art history lesson\, revealing how volume and matter have been transformed over time to express the concerns of the modern era.\n\nThis activity is only available in Greek.
URL:https://cityfestival.thisisathens.org/en/event/guided-tour-the-permanent-collection-of-the-national-glyptotheque/
LOCATION:National Glypthotheque\, Army Park\, Panagiotis Kanellopoulos Avenue\, Athens\, 115 25\, Greece
CATEGORIES:EXHIBITION,FREE,MUSEUM,TOUR
ATTACH;FMTTYPE=image/jpeg:https://cityfestival.thisisathens.org/wp-content/uploads/2026/04/64-945x630-1.jpg
GEO:37.987441369848;23.777789929045
X-APPLE-STRUCTURED-LOCATION;VALUE=URI;X-ADDRESS=National Glypthotheque Army Park Panagiotis Kanellopoulos Avenue Athens 115 25 Greece;X-APPLE-RADIUS=500;X-TITLE=Army Park\, Panagiotis Kanellopoulos Avenue:geo:23.777789929045,37.987441369848
END:VEVENT
END:VCALENDAR