BEGIN:VCALENDAR
VERSION:2.0
PRODID:-//This is Athens City Festival - ECPv6.12.0.1//NONSGML v1.0//EN
CALSCALE:GREGORIAN
METHOD:PUBLISH
X-ORIGINAL-URL:https://cityfestival.thisisathens.org/en/
X-WR-CALDESC:Events for This is Athens City Festival
REFRESH-INTERVAL;VALUE=DURATION:PT1H
X-Robots-Tag:noindex
X-PUBLISHED-TTL:PT1H
BEGIN:VTIMEZONE
TZID:Europe/Athens
BEGIN:DAYLIGHT
TZOFFSETFROM:+0200
TZOFFSETTO:+0300
TZNAME:EEST
DTSTART:20260329T010000
END:DAYLIGHT
BEGIN:STANDARD
TZOFFSETFROM:+0300
TZOFFSETTO:+0200
TZNAME:EET
DTSTART:20261025T010000
END:STANDARD
END:VTIMEZONE
BEGIN:VEVENT
DTSTART;TZID=Europe/Athens:20260513T183000
DTEND;TZID=Europe/Athens:20260513T210000
DTSTAMP:20260422T015827
CREATED:20260406T100446Z
LAST-MODIFIED:20260407T135609Z
UID:10004965-1778697000-1778706000@cityfestival.thisisathens.org
SUMMARY:Poetry Reading: "Loves of the Soul and the Sky"
DESCRIPTION:In the soft light of a May evening\, join us for a journey through the intimate landscapes of the heart. The This is Athens City Festival presents the launch of the poetry collection “Loves of the Soul and the Sky”\, a work that bridges the gap between our deepest internal desires and the vast\, eternal Athenian firmament.\n\nThis isn’t just a book reading; it’s an invitation to pause and reflect in the heart of the city. Through verses that explore the heights of spiritual connection and the profound depths of the human psyche\, the poet invites us to see our own “inner sky” with fresh clarity.\n\nIn a festival that celebrates every corner of Athens\, this event offers a sanctuary of words. Come and experience a dialogue between the earth and the stars\, and discover how the simplest lines of poetry can capture the infinite rhythm of the soul.\n\nThis activity is only available in Greek.
URL:https://cityfestival.thisisathens.org/en/event/poetry-reading-loves-of-the-soul-and-the-sky/
LOCATION:Art Project Space\, 66 Falirou\, Athens\, 117 41\, Greece
CATEGORIES:EXHIBITION,FREE,GALLERY,LITERATURE
ATTACH;FMTTYPE=image/jpeg:https://cityfestival.thisisathens.org/wp-content/uploads/2026/03/655964148_10165313263053352_8970744658609852478_n.jpg
GEO:37.963771703031;23.724643024748
X-APPLE-STRUCTURED-LOCATION;VALUE=URI;X-ADDRESS=Art Project Space 66 Falirou Athens 117 41 Greece;X-APPLE-RADIUS=500;X-TITLE=66 Falirou:geo:23.724643024748,37.963771703031
END:VEVENT
END:VCALENDAR