BEGIN:VCALENDAR
VERSION:2.0
PRODID:-//This is Athens City Festival - ECPv6.12.0.1//NONSGML v1.0//EN
CALSCALE:GREGORIAN
METHOD:PUBLISH
X-ORIGINAL-URL:https://cityfestival.thisisathens.org/en/
X-WR-CALDESC:Events for This is Athens City Festival
REFRESH-INTERVAL;VALUE=DURATION:PT1H
X-Robots-Tag:noindex
X-PUBLISHED-TTL:PT1H
BEGIN:VTIMEZONE
TZID:Europe/Athens
BEGIN:DAYLIGHT
TZOFFSETFROM:+0200
TZOFFSETTO:+0300
TZNAME:EEST
DTSTART:20260329T010000
END:DAYLIGHT
BEGIN:STANDARD
TZOFFSETFROM:+0300
TZOFFSETTO:+0200
TZNAME:EET
DTSTART:20261025T010000
END:STANDARD
END:VTIMEZONE
BEGIN:VEVENT
DTSTART;TZID=Europe/Athens:20260513T200000
DTEND;TZID=Europe/Athens:20260513T203000
DTSTAMP:20260419T202849
CREATED:20260408T131629Z
LAST-MODIFIED:20260417T114204Z
UID:10004280-1778702400-1778704200@cityfestival.thisisathens.org
SUMMARY:FLORA Chamber Choir
DESCRIPTION:This is Athens City Festival\, in collaboration with the Embassy of Estonia\, invites you to a masterclass in vocal precision. with the world-renowned FLORA Chamber Choir.\n\nFounded in 1989 by a group of passionate young vocalists\, FLORA has spent 37 years evolving into a vibrant musical family of 35 members. It’s a rare ensemble where the wisdom of founding members blends seamlessly with the energy of a new generation.\n\nUnder the expert baton of conductors Kaie Sauga and Erki Meister\, the choir will lead us through a melodic journey ranging from the upbeat\, rhythmic folk songs of Estonia to complex contemporary compositions. This is a night of rare acoustic beauty\, proving that art knows no borders and that Athens remains the ultimate crossroads where European cultures meet and converse.\n\nProgramme:\n\n 	Regilaul Laulan mere maaks (runic song)\n 	Veljo Tormis Tsastuska\n 	Veljo Tormis Vadja Pulmalaulud sarjast “Unustatud rahvad” – Veljo Tormis\, “Votic Wedding Songs” from the cycle Forgotten Peoples\n 	Mõrsja vihtlemine – Bridal whisking ritual\n 	Pilkelaulmine – Mocking song\n 	Arvo Pärt Eesti hällilaul (saatega) – Arvo Pärt\, “Estonian Lullaby” (with accompaniment)\n 	Arvo Pärt Suvine Valss (saatega) – Arvo Pärt\, “Summer Waltz” (with accompaniment)\n 	Arvo Pärt Ukuaru Valss (saatega: karmoskad) – Arvo Pärt\, “Ukuaru Waltz” (with accompaniment: accordions)\n 	Rahvalaul Kaera Jaan (saatega: karmoskad\, koori liikumine) – Folk song “Kaera Jaan” (with accompaniment: accordions\, choir movement)\n 	Peep Sarapik Mesipuu\n\n 
URL:https://cityfestival.thisisathens.org/en/event/flora-chamber-choir/
LOCATION:Mitropoleos Square\, Mitropoleos Square\, Athens\, Athens\, 105 63\, Greece
CATEGORIES:CONCERT,ENTERTAINMENT,FREE,OUTDOOR ACTIVITY
ATTACH;FMTTYPE=image/jpeg:https://cityfestival.thisisathens.org/wp-content/uploads/2026/04/MAZ_5523.jpg
END:VEVENT
END:VCALENDAR