BEGIN:VCALENDAR
VERSION:2.0
PRODID:-//This is Athens City Festival - ECPv6.12.0.1//NONSGML v1.0//EN
CALSCALE:GREGORIAN
METHOD:PUBLISH
X-ORIGINAL-URL:https://cityfestival.thisisathens.org/en/
X-WR-CALDESC:Events for This is Athens City Festival
REFRESH-INTERVAL;VALUE=DURATION:PT1H
X-Robots-Tag:noindex
X-PUBLISHED-TTL:PT1H
BEGIN:VTIMEZONE
TZID:Europe/Athens
BEGIN:DAYLIGHT
TZOFFSETFROM:+0200
TZOFFSETTO:+0300
TZNAME:EEST
DTSTART:20260329T010000
END:DAYLIGHT
BEGIN:STANDARD
TZOFFSETFROM:+0300
TZOFFSETTO:+0200
TZNAME:EET
DTSTART:20261025T010000
END:STANDARD
END:VTIMEZONE
BEGIN:VEVENT
DTSTART;TZID=Europe/Athens:20260515T183000
DTEND;TZID=Europe/Athens:20260515T210000
DTSTAMP:20260419T202847
CREATED:20260402T143429Z
LAST-MODIFIED:20260402T143429Z
UID:10004969-1778869800-1778878800@cityfestival.thisisathens.org
SUMMARY:A Historical Walk with Dr. Iordanis Papadopoulos: Havteia
DESCRIPTION:The This is Athens City Festival invites you on a fascinating historical stroll through the neighbourhoods that shaped our city’s urban soul. Led by Dr. Iordanis Papadopoulos\, this walk takes us from the bustling corners of Havteia and Omonia down to 3rd September Street\, Patission\, and the leafy Fokionos Negri.\nIt will shape into a journey through an Athens that was constantly reinventing itself through social shifts\, political episodes\, and grand architectural plans. We’ll be connecting the dots between the streets\, the people\, and the events that turned these areas into the backbone of Athenian life.\n\nAs we walk\, Dr. Papadopoulos will spotlight the hidden details from the grand buildings you might usually walk past\, to the historical memories tucked into side streets\, and the “secret” stories that make up the big picture of the city. You’ll see Athens as a living\, breathing landscape where the past is still very much present. If you want to understand not just what Athens was\, but what it carries in its vibrant identity today\, this is the tour for you.\n\n\nThis activity is only available in Greek.
URL:https://cityfestival.thisisathens.org/en/event/a-historical-walk-with-dr-iordanis-papadopoulos-havteia/
LOCATION:Havteia\, Stadiou & Aiolou Str.\, Athens\, 105 64\, Greece
CATEGORIES:FREE,OUTDOOR ACTIVITY,TOUR
ATTACH;FMTTYPE=image/png:https://cityfestival.thisisathens.org/wp-content/uploads/2026/03/image-8.png
GEO:37.983257238775;23.729021009571
X-APPLE-STRUCTURED-LOCATION;VALUE=URI;X-ADDRESS=Havteia Stadiou & Aiolou Str. Athens 105 64 Greece;X-APPLE-RADIUS=500;X-TITLE=Stadiou & Aiolou Str.:geo:23.729021009571,37.983257238775
END:VEVENT
BEGIN:VEVENT
DTSTART;TZID=Europe/Athens:20260515T190000
DTEND;TZID=Europe/Athens:20260515T230000
DTSTAMP:20260419T202848
CREATED:20260331T125229Z
LAST-MODIFIED:20260331T125229Z
UID:10004968-1778871600-1778886000@cityfestival.thisisathens.org
SUMMARY:Tropical Party Athens
DESCRIPTION:It doesn’t take much to create an unforgettable night: just a love for music\, a desire to dance\, and a brave dose of extroversion. That’s the philosophy behind Tropical Party Athens\, which returns for the This is Athens City Festival 2026 to remind us that\, with the right rhythm\, the city can feel like summer long before June arrives.\n\nWith a sense of total freedom and a personality that never takes itself too seriously\, the Tropical crew promises another high-pulse night. The soundtrack spans the entire spectrum of the modern electronic dance scene\, drawing in a loyal crowd of regulars and curious newcomers who usually end up staying until the very last beat.\n\nThe atmosphere is open\, bright\, and effortlessly joyful\, a momentary escape where urban routine is swapped for pure carefreeness. It’s proof that Athens knows exactly how to celebrate with colour\, rhythm\, and an authentic\, sun-drenched vibe.
URL:https://cityfestival.thisisathens.org/en/event/tropical-party-athens/
LOCATION:Ilisia Park\, Dragoumi and Dimitressa\, Athens\, Athens\, 115 28\, Greece
CATEGORIES:DJ SET,ENTERTAINMENT,FREE,OUTDOOR ACTIVITY,PARTY
ATTACH;FMTTYPE=image/jpeg:https://cityfestival.thisisathens.org/wp-content/uploads/2026/03/imgi_73_278988907_1017874955512776_2222663315320935583_n.jpg
END:VEVENT
BEGIN:VEVENT
DTSTART;TZID=Europe/Athens:20260515T190000
DTEND;TZID=Europe/Athens:20260515T230000
DTSTAMP:20260419T202848
CREATED:20260417T091156Z
LAST-MODIFIED:20260417T091156Z
UID:10005004-1778871600-1778886000@cityfestival.thisisathens.org
SUMMARY:Best 92.6 Radio Party
DESCRIPTION:Escape the rush and head to Aegli Zappiou\, the hidden-in-plain-sight garden that serves as the perfect backdrop for TiACF2026. One of Athens’ most influential radio stations\, Best 92.6\, is stepping out of the booth and onto the grass to host an alfresco party in this historic architectural gem.\n\nThe city’s favourite tastemakers will be spinning everything from fresh electronic cuts to floor-filling anthems. It’s an invitation to swap the pavement for the dancefloor and experience the true heartbeat of the city. No schedules\, no stress\, just dancing under the stars and soaking up the atmosphere of Athens at its absolute best.
URL:https://cityfestival.thisisathens.org/en/event/best-92-6-radio-party/
LOCATION:Aigli Zappeiou\, Aigli Zappeiou\, Athens\, Athens\, 105 57\, Greece
CATEGORIES:DJ SET,ENTERTAINMENT,FREE,OUTDOOR ACTIVITY,PARTY
ATTACH;FMTTYPE=image/jpeg:https://cityfestival.thisisathens.org/wp-content/uploads/2026/03/20230518-TGR-AthensCityFestival-Best926Anniversary-0083-scaled.jpg
END:VEVENT
BEGIN:VEVENT
DTSTART;TZID=Europe/Athens:20260515T190000
DTEND;TZID=Europe/Athens:20260515T230000
DTSTAMP:20260419T202848
CREATED:20260418T134756Z
LAST-MODIFIED:20260418T134756Z
UID:10004970-1778871600-1778886000@cityfestival.thisisathens.org
SUMMARY:Music 89.2
DESCRIPTION:Just before the official start of summer\, Klafthmonos Square is gearing up to host one of the most vibrant and energetic open-air nights of this year’s This is Athens City Festival. Music 89.2 joins forces with the festival to transform the central square into a living\, breathing meeting point packed with music\, dance\, and that unmistakable pre-summer anticipation.\n\nIt’s one of those nights where the city cranks up the volume and practically demands you come outside. The station’s heavy hitters\, including Ta Kounavia\, Maggie\, Evan-jelia\, and Chris IDH are stepping out from behind the mics and onto the decks. Go for a setlist of mainstream hits\, live shows\, and explosive dance performances.\n\nFor one night\, Klafthmonos Square becomes a massive\, open-air party in the heart of Athens like a collective “summer rehearsal” before the new season officially takes over.
URL:https://cityfestival.thisisathens.org/en/event/music-89-2/
LOCATION:Klafthmonos Square\, Klaftmonos Square\, Athens\, Athens\, 105 61\, Greece
CATEGORIES:DJ SET,ENTERTAINMENT,FREE,OUTDOOR ACTIVITY,PARTY
ATTACH;FMTTYPE=image/png:https://cityfestival.thisisathens.org/wp-content/uploads/2026/03/image-4.png
END:VEVENT
BEGIN:VEVENT
DTSTART;TZID=Europe/Athens:20260515T200000
DTEND;TZID=Europe/Athens:20260515T220000
DTSTAMP:20260419T202848
CREATED:20260331T125133Z
LAST-MODIFIED:20260331T125133Z
UID:10004967-1778875200-1778882400@cityfestival.thisisathens.org
SUMMARY:A Victim of Society & Mechanimal
DESCRIPTION:Loud guitars\, deep drones\, and two of the most authentic voices in the Greek alternative scene are joining forces for the This is Athens City Festival to create an explosive sonic experience for the night owls.\n\nA Victim of Society\, the duo of Vangelis Makris and Fotis Ntouskas\, is set to unleash their lo-fi spells\, drowning the venue in fuzzy guitars and hypnotic reverbs that feel like a sonic hallucination. On the other side of the bill\, Mechanimal\, the audiovisual brainchild of Giannis Papaioannou\, takes over to “tune” the dystopia\, hammering the dancefloor with drone-rock obsessions and industrial rhythms.\nThis is a night dedicated to those seeking intensity and truth in the city’s sound\, where the music merges with the strobe lights and the raw energy of the pit.
URL:https://cityfestival.thisisathens.org/en/event/a-victim-of-society-mechanimal/
LOCATION:Ipitou Str.\, Ipitou Str.\, Athens\, 105 57\, Greece
CATEGORIES:CONCERT,ENTERTAINMENT,FREE,OUTDOOR ACTIVITY
ATTACH;FMTTYPE=image/jpeg:https://cityfestival.thisisathens.org/wp-content/uploads/2026/03/02_Mechanimal_Photo-by-Bianca-Bogdanou_HD.jpg
GEO:37.974237393003;23.731573337053
X-APPLE-STRUCTURED-LOCATION;VALUE=URI;X-ADDRESS=Ipitou Str. Ipitou Str. Athens 105 57 Greece;X-APPLE-RADIUS=500;X-TITLE=Ipitou Str.:geo:23.731573337053,37.974237393003
END:VEVENT
END:VCALENDAR