BEGIN:VCALENDAR
VERSION:2.0
PRODID:-//This is Athens City Festival - ECPv6.12.0.1//NONSGML v1.0//EN
CALSCALE:GREGORIAN
METHOD:PUBLISH
X-WR-CALNAME:This is Athens City Festival
X-ORIGINAL-URL:https://cityfestival.thisisathens.org/en/
X-WR-CALDESC:Events for This is Athens City Festival
REFRESH-INTERVAL;VALUE=DURATION:PT1H
X-Robots-Tag:noindex
X-PUBLISHED-TTL:PT1H
BEGIN:VTIMEZONE
TZID:Europe/Athens
BEGIN:DAYLIGHT
TZOFFSETFROM:+0200
TZOFFSETTO:+0300
TZNAME:EEST
DTSTART:20260329T010000
END:DAYLIGHT
BEGIN:STANDARD
TZOFFSETFROM:+0300
TZOFFSETTO:+0200
TZNAME:EET
DTSTART:20261025T010000
END:STANDARD
END:VTIMEZONE
BEGIN:VEVENT
DTSTART;TZID=Europe/Athens:20260516T110000
DTEND;TZID=Europe/Athens:20260516T123000
DTSTAMP:20260422T022435
CREATED:20260409T101953Z
LAST-MODIFIED:20260409T101953Z
UID:10004290-1778929200-1778934600@cityfestival.thisisathens.org
SUMMARY:St Dionysius the Areopagite\, The Saint of Athens: Guided Tours of the dedicated Churches II
DESCRIPTION:Architectural grandeur meets spiritual resonance in this special tour exploring the history\, design\, and refined aesthetics of the Catholic Cathedral of Saint Dionysius Areopagite. Dedicated to the patron saint of Athens\, this landmark stands proudly alongside the Athenian Trilogy on Panepistimiou Street\, carrying a vital piece of the capital’s cultural and architectural legacy.\n\nLed by art historian Despina Paraskeva\, we will uncover the combined brilliance of Leo von Klenze and Lysandros Kaftanzoglou\, explore the works of painter Guglielmo Bilancioni\, and learn the story of the great patron Giovanni Battista Serpieri. After taking a close look at the cathedral’s rich sculptural and wood-carved decor\, the experience culminates in a short\, evocative musical programme. Eirini Anastasiou will take to the church organ\, adding a profound\, mystical dimension to the visit.\n\nDon’t miss the twin guided tour of the Greek Orthodox Church\, a moment that creates an artistic dialogue between two faiths and two distinct expressions of modern Greek creativity\, right in the heart of the urban fabric.\n\nMeeting Point: Main Entrance of the Cathedral (Panepistimiou St).\n\nThis activity is only available in Greek.\n\n 
URL:https://cityfestival.thisisathens.org/en/event/st-dionysius-the-areopagite-the-saint-of-athens-guided-tours-of-the-dedicated-churches-ii/
LOCATION:Catholic Cathedral Basilica of St. Dionysius the Areopagite\, Panepistimiou 24\, Athens\, Athens\, 106 72\, Greece
CATEGORIES:FREE,TOUR
ATTACH;FMTTYPE=image/jpeg:https://cityfestival.thisisathens.org/wp-content/uploads/2026/03/ναός-4.jpg
END:VEVENT
BEGIN:VEVENT
DTSTART;TZID=Europe/Athens:20260516T110000
DTEND;TZID=Europe/Athens:20260516T140000
DTSTAMP:20260422T022435
CREATED:20260420T135853Z
LAST-MODIFIED:20260420T140016Z
UID:10005420-1778929200-1778940000@cityfestival.thisisathens.org
SUMMARY:1945: The End of the War
DESCRIPTION:The exhibition “1945: The End of the War” invites us on an immersive journey through the landmark year that sealed global history. The result of months of research in Greek and international archives\, the exhibition illuminates the dramatic contrasts of those twelve months: from the horror and revelation of Nazi barbarity in the concentration camps to the explosion of joy at the victory of the free nations.\n\nThrough rare photographic material presented for the first time in Greece and authentic documents\, visitors follow the dense sequence of events that shaped the modern world: the fall of Berlin and Germany’s surrender\, the historic conferences of Yalta and Potsdam\, the devastation of the atomic bomb in Japan\, as well as the birth of the UN and the Nuremberg Trials.\n\nThis series of guided tours allows for a meaningful understanding of the “day after” for humanity\, offering a profound look at the foundations of modern peace and justice.\n\nThis activity is only available in Greek.\n\n 
URL:https://cityfestival.thisisathens.org/en/event/1945-the-end-of-the-war/
LOCATION:Public Tobacco Factory\, Lenorman 218\, Athens\, Athens\, 104 43\, Greece
CATEGORIES:EXHIBITION,FREE,TOUR
ATTACH;FMTTYPE=image/jpeg:https://cityfestival.thisisathens.org/wp-content/uploads/2026/04/ΦΩΤΟ-2-ΙΔΡΥΜΑ-ΤΗΣ-ΒΟΥΛΗΣ-1945-ΤΟ-ΤΕΛΟΣ-ΤΟΥ-ΠΟΛΕΜΟΥ.jpg
END:VEVENT
BEGIN:VEVENT
DTSTART;TZID=Europe/Athens:20260516T170000
DTEND;TZID=Europe/Athens:20260516T190000
DTSTAMP:20260422T022435
CREATED:20260407T084538Z
LAST-MODIFIED:20260407T084538Z
UID:10004186-1778950800-1778958000@cityfestival.thisisathens.org
SUMMARY:The First Cemetery of Athens: An Open-Air Sculpture Gallery 1
DESCRIPTION:“The Athens Cemetery encompasses the entire movement of modern sculpture.” With these words\, the great sculptor Thomas Thomopoulos captured the unique essence of the First Cemetery of Athens over a century ago. \n\nAs part of the This is Athens City Festival 2026\, archaeologist and certified guide Michalis Giohalas will lead us through this extraordinary open-air museum\, where art\, history\, and memory are inextricably linked. From the illustrious names of modern Greek sculpture to the poignant human stories behind every grave\, this guided tour is a captivating journey through time. You will discover the hidden facets of funerary art and the very human passions that inspired it. The thirst for legacy\, fierce artistic rivalries\, and the unrequited loves that remain eternally etched in marble. It is a rare\, reflective path of high aesthetics that invites you to uncover the history of Athens through the silent yet imposing presence of its most beautiful monuments.\n\nThis activity is only available in Greek.
URL:https://cityfestival.thisisathens.org/en/event/the-first-cemetery-of-athens-an-open-air-sculpture-gallery-1/
LOCATION:First Cemetery of Athens\, Logginou 3\, Athens\, Athens\, 116 36\, Greece
CATEGORIES:EXHIBITION,FREE,OUTDOOR ACTIVITY,TOUR
ATTACH;FMTTYPE=image/jpeg:https://cityfestival.thisisathens.org/wp-content/uploads/2026/03/5.890-Οριζόντια-1-scaled.jpg
END:VEVENT
END:VCALENDAR