BEGIN:VCALENDAR
VERSION:2.0
PRODID:-//This is Athens City Festival - ECPv6.12.0.1//NONSGML v1.0//EN
CALSCALE:GREGORIAN
METHOD:PUBLISH
X-WR-CALNAME:This is Athens City Festival
X-ORIGINAL-URL:https://cityfestival.thisisathens.org/en/
X-WR-CALDESC:Events for This is Athens City Festival
REFRESH-INTERVAL;VALUE=DURATION:PT1H
X-Robots-Tag:noindex
X-PUBLISHED-TTL:PT1H
BEGIN:VTIMEZONE
TZID:Europe/Athens
BEGIN:DAYLIGHT
TZOFFSETFROM:+0200
TZOFFSETTO:+0300
TZNAME:EEST
DTSTART:20260329T010000
END:DAYLIGHT
BEGIN:STANDARD
TZOFFSETFROM:+0300
TZOFFSETTO:+0200
TZNAME:EET
DTSTART:20261025T010000
END:STANDARD
END:VTIMEZONE
BEGIN:VEVENT
DTSTART;TZID=Europe/Athens:20260516T120000
DTEND;TZID=Europe/Athens:20260516T230000
DTSTAMP:20260423T013720
CREATED:20260401T084915Z
LAST-MODIFIED:20260401T084916Z
UID:10004311-1778932800-1778972400@cityfestival.thisisathens.org
SUMMARY:K-Pop World Festival Greece
DESCRIPTION:The unstoppable energy of South Korea lands in Athens for K-Wave Night 2026\, an electric celebration of the K-pop culture that has taken the planet by storm. In collaboration with the Embassy of the Republic of Korea\, the This is Athens City Festival hosts an evening of world-class dance\, raw talent\, and the neon-lit pulse of modern Seoul.\n\nWhether you’re a K-pop stan or a curious newcomer\, this night promises an experience overflowing with excitement and vitality. This isn’t just a showcase—it’s a high-stakes arena where Greece’s most dynamic performers compete for a coveted spot in the global grand finale of the K-pop World Festival in Changwon.\n\nThe night’s winners will be put forward to the KBS network\, potentially launching their journey to Korea. It’s a festival within a festival—a celebration of inspiration\, connection\, and the freedom of expression\, proving that music and dance can bridge the gap between cities\, cultures\, and continents.
URL:https://cityfestival.thisisathens.org/en/event/k-pop-world-festival-greece/
LOCATION:Kolonos Theatre\, Ioanninon & Kapaneos\, Athens\, 104 44\, Greece
CATEGORIES:CONCERT,DANCE,ENTERTAINMENT,FREE
ATTACH;FMTTYPE=image/png:https://cityfestival.thisisathens.org/wp-content/uploads/2026/03/image-2.png
GEO:37.99587864507;23.715658595914
X-APPLE-STRUCTURED-LOCATION;VALUE=URI;X-ADDRESS=Kolonos Theatre Ioanninon & Kapaneos Athens 104 44 Greece;X-APPLE-RADIUS=500;X-TITLE=Ioanninon & Kapaneos:geo:23.715658595914,37.99587864507
END:VEVENT
BEGIN:VEVENT
DTSTART;TZID=Europe/Athens:20260516T180000
DTEND;TZID=Europe/Athens:20260516T230000
DTSTAMP:20260423T013720
CREATED:20260402T144350Z
LAST-MODIFIED:20260406T085755Z
UID:10004288-1778954400-1778972400@cityfestival.thisisathens.org
SUMMARY:Imamu
DESCRIPTION:Imamu is more than just a series of music events; it is an experience that treats nightlife as a contemporary ritual. Drawing its name from the concept of the “spiritual leader\,” the project creates an environment where rhythm\, atmosphere\, and emotional intensity collide\, transforming the dancefloor into a space for connection and release.\n\nYou are invited to surrender to a night that breaks away from standard club formats to make room for a truly immersive musical experience. Guided by melodic techno and a sound enriched with atmospheric indie vocals and earthy Afro-house shades\, Imamu crafts a setting that is both deeply sensory and welcoming. It is the perfect destination for those who love music that builds atmosphere and draws you in without haste. Under the Athenian sky\, rhythm becomes a universal language\, and the night takes on the character of a collective experience that stays with you long after the final track.\n\n 
URL:https://cityfestival.thisisathens.org/en/event/imamu/
LOCATION:Klafthmonos Square\, Klaftmonos Square\, Athens\, Athens\, 105 61\, Greece
CATEGORIES:DJ SET,ENTERTAINMENT,FREE,OUTDOOR ACTIVITY,PARTY
ATTACH;FMTTYPE=image/jpeg:https://cityfestival.thisisathens.org/wp-content/uploads/2026/04/oddity-cosmic-dust-IMAMU-x-Second-story-6.12.20255Z5A76337633.jpg
END:VEVENT
BEGIN:VEVENT
DTSTART;TZID=Europe/Athens:20260516T190000
DTEND;TZID=Europe/Athens:20260516T230000
DTSTAMP:20260423T013720
CREATED:20260401T083510Z
LAST-MODIFIED:20260401T083510Z
UID:10004292-1778958000-1778972400@cityfestival.thisisathens.org
SUMMARY:Gathering of the Cultural Associations of Thessaly and Agrafa
DESCRIPTION:Agios Thomas Square turns into an arena dedicated to the enduring power of Greek tradition. The This is Athens City Festival 2026 celebrates the living heart of the Greek provinces with a grand Gathering of the Cultural Associations of Thessaly and Agrafa. This event brings together the proud heritage of the central plains and the untamed peaks of the Pindus mountains\, offering a powerful display of music\, dance\, and local identity.\n\nFrom the steady\, rhythmic steps of the Thessalian plains to the spirited\, soaring dances of the Agrafian highlands\, this gathering is a testament to an unbroken cultural lineage. Dressed in authentic traditional attire where every stitch tells a story of its own\, performers from across the region will unite to share their collective memory. It is a vibrant invitation to witness the soul of the Greek countryside: a world of polyphonic songs\, traditional instruments\, and the timeless bond of the Gathering.
URL:https://cityfestival.thisisathens.org/en/event/gathering-of-the-cultural-associations-of-thessaly-and-agrafa/
LOCATION:Agios Thomas Square\, Mikras Asias 69\, Athens\, Athens\, 115 27\, Greece
CATEGORIES:CONCERT,DANCE,ENTERTAINMENT,FREE,OUTDOOR ACTIVITY,TRADITION
ATTACH;FMTTYPE=image/jpeg:https://cityfestival.thisisathens.org/wp-content/uploads/2026/03/518400288_1282422400560932_912359045824619710_n.jpg
END:VEVENT
BEGIN:VEVENT
DTSTART;TZID=Europe/Athens:20260516T190000
DTEND;TZID=Europe/Athens:20260516T230000
DTSTAMP:20260423T013720
CREATED:20260406T103352Z
LAST-MODIFIED:20260406T103418Z
UID:10004971-1778958000-1778972400@cityfestival.thisisathens.org
SUMMARY:Deer Islnd
DESCRIPTION:In one of Athens’ most atmospheric spots\, the Dora Stratou Theater\, where history intersects with contemporary dance music\, Deer Islnd promises a night fueled by rhythm and the authentic vibe of a close-knit crew. Prepare to be swept away by a musical experience that dissolves the borders between sunset beats and the deep down city\, all under the shadow of the Acropolis.\n\nDeer Islnd was born from a group of friends who met on an island\, shared a deep passion for electronic music\, and decided to bring that coastal energy back to the capital. Years later\, they’ve left an indelible mark on the Athenian club scene\, counting one successful event after another.\n\nWith the legendary VW van as their emblem\, rather than a deer\, as many mistakenly assume\, the team takes over the Dora Stratou Theater\, adding another epic milestone to their party map.
URL:https://cityfestival.thisisathens.org/en/event/deer-islnd/
LOCATION:Dora Stratou Theatre\, 33 Arakinthou\, Filopappou Hill\, Athens\, 117 41\, Greece
CATEGORIES:DJ SET,ENTERTAINMENT,FREE,OUTDOOR ACTIVITY,PARTY
ATTACH;FMTTYPE=image/jpeg:https://cityfestival.thisisathens.org/wp-content/uploads/2026/03/imgi_28_561850624_18045350864660782_3997320887471686561_n.jpg
GEO:37.968071341474;23.717528938241
X-APPLE-STRUCTURED-LOCATION;VALUE=URI;X-ADDRESS=Dora Stratou Theatre 33 Arakinthou Filopappou Hill Athens 117 41 Greece;X-APPLE-RADIUS=500;X-TITLE=33 Arakinthou\, Filopappou Hill:geo:23.717528938241,37.968071341474
END:VEVENT
END:VCALENDAR