BEGIN:VCALENDAR
VERSION:2.0
PRODID:-//This is Athens City Festival - ECPv6.12.0.1//NONSGML v1.0//EN
CALSCALE:GREGORIAN
METHOD:PUBLISH
X-WR-CALNAME:This is Athens City Festival
X-ORIGINAL-URL:https://cityfestival.thisisathens.org/en/
X-WR-CALDESC:Events for This is Athens City Festival
REFRESH-INTERVAL;VALUE=DURATION:PT1H
X-Robots-Tag:noindex
X-PUBLISHED-TTL:PT1H
BEGIN:VTIMEZONE
TZID:Europe/Athens
BEGIN:DAYLIGHT
TZOFFSETFROM:+0200
TZOFFSETTO:+0300
TZNAME:EEST
DTSTART:20260329T010000
END:DAYLIGHT
BEGIN:STANDARD
TZOFFSETFROM:+0300
TZOFFSETTO:+0200
TZNAME:EET
DTSTART:20261025T010000
END:STANDARD
END:VTIMEZONE
BEGIN:VEVENT
DTSTART;TZID=Europe/Athens:20260517T110000
DTEND;TZID=Europe/Athens:20260517T123000
DTSTAMP:20260421T180042
CREATED:20260331T125945Z
LAST-MODIFIED:20260331T125945Z
UID:10004308-1779015600-1779021000@cityfestival.thisisathens.org
SUMMARY:Theatre Battles in Ancient Athens
DESCRIPTION:The This is Athens City Festival invites explorers of all ages to an educational adventure that reimagines ancient Athens through the eyes of two real-life legends. Auteas and Philoxenides\, two “choregoi” (the visionary sponsors of the time) from Aexone\, today’s Glyfada\, are making a symbolic comeback 2\,300 years later to guide us through the thrilling world of theatrical competitions.\n\nWhat exactly was the role of a sponsor back then? How were the city’s massive festivals organised? And why was theatre so much more than just a night out? Taking its cue from a rare honorary decree from 313/2 BC housed in the Epigraphical Museum\, this session is specially designed for families with children aged 7 to 10. Through storytelling\, discovery\, and a hands-on creative workshop\, kids will dive into ancient drama and the city’s public life in a way that’s interactive\, fast-paced\, and fun. It’s a chance to pull the past into the present with imagination\, play\, and a real connection to Athens’ cultural soul.\n\n\nThis activity is only available in Greek.
URL:https://cityfestival.thisisathens.org/en/event/theatre-battles-in-ancient-athens/2026-05-17/
LOCATION:Epigraphic Museum\, Tositsa 1\, Athens\, Athens\, 106 82\, Greece
CATEGORIES:EXHIBITION,FOR KIDS,FREE,MUSEUM
ATTACH;FMTTYPE=image/jpeg:https://cityfestival.thisisathens.org/wp-content/uploads/2026/03/1.ΘΕΑΤΡΙΚΟΙ-ΑΓΩΝΕΣ.jpg
END:VEVENT
BEGIN:VEVENT
DTSTART;TZID=Europe/Athens:20260517T120000
DTEND;TZID=Europe/Athens:20260517T130000
DTSTAMP:20260421T180042
CREATED:20260420T140450Z
LAST-MODIFIED:20260420T140842Z
UID:10005422-1779019200-1779022800@cityfestival.thisisathens.org
SUMMARY:1945: The End of the War
DESCRIPTION:The exhibition “1945: The End of the War” opens its doors for a specially designed guided tour\, tailored for families with children over the age of 10. Through a journey across the landmark year that sealed global history\, visitors will have the chance to discover the dramatic moments that led from the horrors of war to the explosion of joy at the victory of the free nations.\n\nWith the help of rare photographic material and authentic documents\, the tour narrates major events in an accessible and meaningful way: from the liberation of the camps and the fall of Berlin to the historic meetings of leaders at Yalta and the birth of the UN. This is a unique opportunity for parents and children to approach modern history together\, to understand the importance of peace\, and to reflect on the values that shaped the world we live in today.\n\nThis activity is only available in Greek.
URL:https://cityfestival.thisisathens.org/en/event/1945-the-end-of-the-war-2/
LOCATION:Public Tobacco Factory\, Lenorman 218\, Athens\, Athens\, 104 43\, Greece
CATEGORIES:EXHIBITION,FOR KIDS,FREE,TOUR
ATTACH;FMTTYPE=image/jpeg:https://cityfestival.thisisathens.org/wp-content/uploads/2026/04/ΦΩΤΟ-ΙΔΡΥΜΑ-ΤΗΣ-ΒΟΥΛΗΣ-1945-ΤΟ-ΤΕΛΟΣ-ΤΟΥ-ΠΟΛΕΜΟΥ.jpg
END:VEVENT
END:VCALENDAR