BEGIN:VCALENDAR
VERSION:2.0
PRODID:-//This is Athens City Festival - ECPv6.12.0.1//NONSGML v1.0//EN
CALSCALE:GREGORIAN
METHOD:PUBLISH
X-WR-CALNAME:This is Athens City Festival
X-ORIGINAL-URL:https://cityfestival.thisisathens.org/en/
X-WR-CALDESC:Events for This is Athens City Festival
REFRESH-INTERVAL;VALUE=DURATION:PT1H
X-Robots-Tag:noindex
X-PUBLISHED-TTL:PT1H
BEGIN:VTIMEZONE
TZID:Europe/Athens
BEGIN:DAYLIGHT
TZOFFSETFROM:+0200
TZOFFSETTO:+0300
TZNAME:EEST
DTSTART:20260329T010000
END:DAYLIGHT
BEGIN:STANDARD
TZOFFSETFROM:+0300
TZOFFSETTO:+0200
TZNAME:EET
DTSTART:20261025T010000
END:STANDARD
END:VTIMEZONE
BEGIN:VEVENT
DTSTART;TZID=Europe/Athens:20260518T180000
DTEND;TZID=Europe/Athens:20260518T190000
DTSTAMP:20260421T143528
CREATED:20260420T142057Z
LAST-MODIFIED:20260420T142933Z
UID:10005424-1779127200-1779130800@cityfestival.thisisathens.org
SUMMARY:Guided Tour: "The Association of Athenians" & The "Athenian Museum"
DESCRIPTION:We celebrate International Museum Day with a free guided tour that transports us to the “heart” of old Athens. Visitors will have the opportunity to explore the historic “Association of Athenians” and the “Athenian Museum\,” embarking on a conceptual journey through two centuries of Athenian history.\n\nThrough precious documents and donations from the families who shaped the character of the capital\, the tour highlights the urban lifestyle of the 19th and 20th centuries\, illuminating hidden facets of the city’s social and cultural evolution. The tour will be conducted by the President of the Association\, Eleftherios G. Skiadas\, and museologist Elena Gotsina\, offering an authentic experience that connects collective memory with the Athens of today.\n\nA rare chance to get to know the legacy of the people who built the city’s identity\, through the collections of one of its most emblematic institutions.\n\nThis activity is only available in Greek.
URL:https://cityfestival.thisisathens.org/en/event/guided-tour-the-association-of-athenians-the-athenian-museum/
LOCATION:Association of the Athenians\, Kekropos 10\, Athens\, Athens\, 105 58\, Greece
CATEGORIES:EXHIBITION,FREE,MUSEUM
ATTACH;FMTTYPE=image/jpeg:https://cityfestival.thisisathens.org/wp-content/uploads/2026/04/PST_3464.jpg
END:VEVENT
END:VCALENDAR