BEGIN:VCALENDAR
VERSION:2.0
PRODID:-//This is Athens City Festival - ECPv6.12.0.1//NONSGML v1.0//EN
CALSCALE:GREGORIAN
METHOD:PUBLISH
X-WR-CALNAME:This is Athens City Festival
X-ORIGINAL-URL:https://cityfestival.thisisathens.org/en/
X-WR-CALDESC:Events for This is Athens City Festival
REFRESH-INTERVAL;VALUE=DURATION:PT1H
X-Robots-Tag:noindex
X-PUBLISHED-TTL:PT1H
BEGIN:VTIMEZONE
TZID:Europe/Athens
BEGIN:DAYLIGHT
TZOFFSETFROM:+0200
TZOFFSETTO:+0300
TZNAME:EEST
DTSTART:20260329T010000
END:DAYLIGHT
BEGIN:STANDARD
TZOFFSETFROM:+0300
TZOFFSETTO:+0200
TZNAME:EET
DTSTART:20261025T010000
END:STANDARD
END:VTIMEZONE
BEGIN:VEVENT
DTSTART;TZID=Europe/Athens:20260518T110000
DTEND;TZID=Europe/Athens:20260518T120000
DTSTAMP:20260421T165858
CREATED:20260420T143446Z
LAST-MODIFIED:20260420T143652Z
UID:10005426-1779102000-1779105600@cityfestival.thisisathens.org
SUMMARY:1945: The End of the War
DESCRIPTION:The exhibition “1945: The End of the War” invites us on an immersive journey through the landmark year that sealed global history. The result of months of research in Greek and international archives\, the exhibition illuminates the dramatic contrasts of those twelve months: from the horror and revelation of Nazi barbarity in the concentration camps to the explosion of joy at the victory of the free nations.\n\nThrough rare photographic material presented for the first time in Greece and authentic documents\, visitors follow the dense sequence of events that shaped the modern world: the fall of Berlin and Germany’s surrender\, the historic conferences of Yalta and Potsdam\, the devastation of the atomic bomb in Japan\, as well as the birth of the UN and the Nuremberg Trials.\n\nThis series of guided tours allows for a meaningful understanding of the “day after” for humanity\, offering a profound look at the foundations of modern peace and justice.\n\nThis activity is only available in Greek.
URL:https://cityfestival.thisisathens.org/en/event/1945-the-end-of-the-war-3/
LOCATION:Public Tobacco Factory\, Lenorman 218\, Athens\, Athens\, 104 43\, Greece
CATEGORIES:EXHIBITION,FREE,TOUR
ATTACH;FMTTYPE=image/jpeg:https://cityfestival.thisisathens.org/wp-content/uploads/2026/04/ΦΩΤΟ-2-ΙΔΡΥΜΑ-ΤΗΣ-ΒΟΥΛΗΣ-1945-ΤΟ-ΤΕΛΟΣ-ΤΟΥ-ΠΟΛΕΜΟΥ.jpg
END:VEVENT
BEGIN:VEVENT
DTSTART;TZID=Europe/Athens:20260518T200000
DTEND;TZID=Europe/Athens:20260518T223000
DTSTAMP:20260421T165858
CREATED:20260331T123012Z
LAST-MODIFIED:20260331T123012Z
UID:10004781-1779134400-1779143400@cityfestival.thisisathens.org
SUMMARY:The Journey of the Serenade
DESCRIPTION:If you’ve ever wondered what Athens sounded like before the hum of motorbikes and the thump of basslines\, follow this group of traditional kantadoroi (troubadours). They are taking to the cobbled streets below the Acropolis to revive the lost art of the Athenian serenade.\n\nLove songs and melodies once flooded the city’s historic neighborhoods\, serving as the ultimate way to confess a secret or share a moment of collective emotion. As you stroll\, following the voices through the shadow of the Acropolis\, the city’s past starts to feel incredibly present—a beautiful reminder that some things\, like a perfect melody under the stars\, never go out of style.
URL:https://cityfestival.thisisathens.org/en/event/the-journey-of-the-serenade/2026-05-18/
LOCATION:Holy Church of Saint Catherine\, Chairefontos 10\, Athens\, Athens\, 105 58\, Greece
CATEGORIES:ENTERTAINMENT,FREE,OUTDOOR ACTIVITY,TOUR,TRADITION
ATTACH;FMTTYPE=image/jpeg:https://cityfestival.thisisathens.org/wp-content/uploads/2026/03/Photo-May-05-2025-20-46-58-scaled.jpg
END:VEVENT
END:VCALENDAR